{"text_format":"1","workbook":"xlsx","n_sheets":19,"sheets":["Instructions","Humorous Monologues","HumorousMR","Dramatic","DramaticMR","Classical","ClassicalMR","Contemporary","ContemporaryMR","Pantomime","PantomimeMR","MusicalTheatre","MusicalTheatreMR","One-Acts","CostumeDesign","ScenicDesign","Sweepstakes","ScenicResults","CostumeResults"],"not_rendered":{"charts":0,"images":0,"macros":1,"external_links":0,"defined_names":0,"comments":0,"pivot_tables":0},"unopened":[],"bounds":{"document_bytes":16777216,"sheet_cells":100000,"rows_first":2000,"rows_last":500,"rows_between":2000,"halvings":0,"cell_chars":16384,"cell_head_chars":4096},"cells_cut":0,"cells_raw":0,"read":"whole","date_system":"1900"}

{"sheet":"Instructions","index":0,"n_rows":13,"n_cols":3,"rows_kept":13,"cut":false,"hidden":false,"merged":[[0,0,0,2],[1,0,1,2],[3,0,3,2],[4,0,4,2]]}
["Directions for Using the UHSAA SCORING SPREADSHEET"]
["for Region and State Theatre Meets:"]
[]
["If you have any questions, please email Giselle Gremmert at giselle.gremmert@canyonsdistrict.org"]
["If there is an emergency the day of your meet, feel free to call or text at 801-391-7864"]
["Before you start...",null,"In the Tab Room..."]
["Refresh your memory on the Policies and Guidelines of the Competition. Rules are changing every year. Make sure you have the most updated information! ",null,"If a school does not bring a full slate of pieces, you can leave boxes blank or enter a zero. Whichever makes sense for you."]
["Please make sure you are using the correct spreadsheet for your classification. Region and State Spreadsheets are different! 1A/2A is different from 3A-6A!",null,"As scores come in to the tabulation room, enter their respective rank (1-4 or 1-6) and score (0-75). The spreadsheet should do all of the math for you from there."]
["DO NOT, UNDER ANY CIRCUMSTANCES: delete a row or column, add a row or column. If you think there is a reason you need to do so, contact Giselle Gremmert first or you will likely ruin your whole spreadsheet. ",null,"Once you have all of your scores in and you need to determine which pieces will go to the final medals round, click on the medals round tab at the bottom of the spreadsheet. There is one for each event. All you have to do is click on the \"sort first by rank, then by score\" button, and the top 5-8 pieces on the table will be eligible for Medals' Round."]
["Each school should be assigned a letter code (ie. A, B, DD, etc…). You can type in which school belongs to which code on the Sweepstakes page of the score sheet. Do not try to add a school I or school O. The letters are skipped intentionally.",null,"Please note the drop-down menus for time violations. If a piece goes over or under time, you can just select the number of rounds that occurred in and the spreadsheet will do all the math for you. It will also strike out any piece that has a time violation in more than 1 round. This means it is ineligible to move on to State or go to Medals Round."]
["You can type in student names and piece titles next to their assigned number on each of the event pages.",null,"PLEASE NOTE: If a school has 4 entries in an event, on the State spreadsheet, the lowest score will automatically be dropped. You won’t have to do anything. This feature is not in the Region scoresheet, so make sure you’re using the correct one."]
["If you would like coaches to give you their entrant information in a convenient format for the spreadsheet, click on the  Slate Entry Form URL below. It has everything divided into the correct number of boxes so you can more easily copy and paste into this spreasheet. (File -->Make a copy). ",null,"Scores that turn the whole line yellow meet a point threshhold. At Region, that means the piece qualifies for State and receives a Superior Medal. At State, that means the piece receives a Superior Medal."]
["https://docs.google.com/spreadsheets/d/1KvhAQPQFbuyZ23tB98sun25-0YTyifYxrCT7RtfStYE/edit?usp=sharing",null,"IF A STUDENT MAKES MEDALS ROUND, they qualify for State/receive a Superior Medal EVEN IF their point total does not automatically qualify them. Make sure to check for any outlier students so you don't miss giving them a medal/sending them to State. Their line may not be yellow. "]

{"sheet":"Humorous Monologues","index":1,"n_rows":152,"n_cols":33,"rows_kept":152,"cut":false,"hidden":false,"merged":[[0,0,0,8]]}
["Humorous Monologues",null,null,null,null,null,null,null,null,null,"Rank 1-4",null,null,null,null,null,null,null,null,null,null,null,null,"S","E","G","F",null,"1violation","2violations","3violations"]
[null,null,null,null,null,null,null,null,null,null,"Round 1:",null,"Round 2:",null,"Round 3:",null,"-2 for each",null,null,null,null,null,null,null,null,null,null,"Drops lowest from column q"]
[null,null,null,null,null,null,null,"Student Name",null,"Title of Piece","R1 rank","R1 score","R2 rank","R2 score","R3 rank","R3 score","Time Violations",null,"TOTAL SCORE",null,"TOTAL RANK",null,null,"TOTAL SCHOOL SWEEPS POINTS",null,null,null,"Drop Lowest"]
["A-101",null,null,null,null,null,null,"101 - Dylan",null,"Phone Call",4,17,3,20,4,22,"2violations",{"$f":"IF(Q4=\"1violation\",-7*1,IF(Q4=\"2violations\",-7*2,IF(Q4=\"3violations\",-7*3,IF(Q4=\"\",\"\"))))","v":-14},{"$f":"SUM(L4,N4,P4,R4)","v":45},null,{"$f":"SUM(K4,M4,O4)","v":11},null,null,null,{"$f":"SUM(S4,S6,S5,S7,-AB4)","v":181},null,null,{"$f":"MIN(S4:S7)","v":0}]
["A-102",null,null,null,null,null,null,"102 - Alicia",null,"Divorse Papers",4,21,4,20,4,24,null,{"$f":"IF(Q5=\"1violation\",-7*1,IF(Q5=\"2violations\",-7*2,IF(Q5=\"3violations\",-7*3,IF(Q5=\"\",\"\"))))","v":""},{"$f":"SUM(L5,N5,P5,R5)","v":65},null,{"$f":"SUM(K5,M5,O5)","v":12}]
["A-103",null,null,null,null,null,null,"104 - Olivia",null,"Mono From Hell",4,24,2,24,4,23,null,{"$f":"IF(Q6=\"1violation\",-7*1,IF(Q6=\"2violations\",-7*2,IF(Q6=\"3violations\",-7*3,IF(Q6=\"\",\"\"))))","v":""},{"$f":"SUM(L6,N6,P6,R6)","v":71},null,{"$f":"SUM(K6,M6,O6)","v":10}]
["A-104",null,null,null,null,null,null,null,null,null,null,null,null,null,null,null,null,"",{"$f":"SUM(L7,N7,P7,R7)","v":0},null,{"$f":"SUM(K7,M7,O7)","v":0}]
[]
["B-101",null,null,null,null,null,null,"105 - Mark Tebbs",null,"Lunch Hour",4,24,2,23,2,20,null,"",{"$f":"SUM(L9,N9,P9,R9)","v":67},null,{"$f":"SUM(K9,M9,O9)","v":8},null,null,null,{"$f":"SUM(S9,S11,S10,S12,-AB9)","v":136},null,null,{"$f":"MIN(S9:S12)","v":0}]
["B-102",null,null,null,null,null,null,"107 - Orin Hughes",null,"Scam Caller",4,22,4,22,4,25,null,"",{"$f":"SUM(L10,N10,P10,R10)","v":69},null,{"$f":"SUM(K10,M10,O10)","v":12}]
["B-103",null,null,null,null,null,null,null,null,null,null,null,null,null,null,null,null,"",{"$f":"SUM(L11,N11,P11,R11)","v":0},null,{"$f":"SUM(K11,M11,O11)","v":0}]
["B-104",null,null,null,null,null,null,null,null,null,null,null,null,null,null,null,null,"",{"$f":"SUM(L12,N12,P12,R12)","v":0},null,{"$f":"SUM(K12,M12,O12)","v":0}]
[]
["C-101",null,null,null,null,null,null,"108 - Ryan Nichols",null,"The Devil",2,22,1,25,1,25,null,"",{"$f":"SUM(L14,N14,P14,R14)","v":72},null,{"$f":"SUM(K14,M14,O14)","v":4},null,null,null,{"$f":"SUM(S14,S16,S15,S17,-AB14)","v":216},null,null,{"$f":"MIN(S14:S17)","v":66}]
["C-102",null,null,null,null,null,null,"109 - Jay Cummens",null,"Silent Cell Phone",2,25,1,23,2,24,null,"",{"$f":"SUM(L15,N15,P15,R15)","v":72},null,{"$f":"SUM(K15,M15,O15)","v":5}]
["C-103",null,null,null,null,null,null,"110 - Nathan Costello",null,"Lunch Time",1,25,4,22,2,25,null,"",{"$f":"SUM(L16,N16,P16,R16)","v":72},null,{"$f":"SUM(K16,M16,O16)","v":7}]
["C-104",null,null,null,null,null,null,"111 - Destiny Fernandez",null,"Barbie",4,21,2,23,1,22,null,"",{"$f":"SUM(L17,N17,P17,R17)","v":66},null,{"$f":"SUM(K17,M17,O17)","v":7}]
[]
["D-101",null,null,null,null,null,null,"112 - Silas James",null,"Bartholomew",3,24,4,20,3,25,null,"",{"$f":"SUM(L19,N19,P19,R19)","v":69},null,{"$f":"SUM(K19,M19,O19)","v":10},null,null,null,{"$f":"SUM(S19,S21,S20,S22,-AB19)","v":132},null,null,{"$f":"MIN(S19:S22)","v":0}]
["D-102",null,null,null,null,null,null,"113 - Stetsyn Lamb",null,"FFA Creed",3,22,4,17,3,24,null,"",{"$f":"SUM(L20,N20,P20,R20)","v":63},null,{"$f":"SUM(K20,M20,O20)","v":10}]
["D-103",null,null,null,null,null,null,null,null,null,null,null,null,null,null,null,null,"",{"$f":"SUM(L21,N21,P21,R21)","v":0},null,{"$f":"SUM(K21,M21,O21)","v":0}]
["D-104",null,null,null,null,null,null,null,null,null,null,null,null,null,null,null,null,"",{"$f":"SUM(L22,N22,P22,R22)","v":0},null,{"$f":"SUM(K22,M22,O22)","v":0}]
[]
["E-101",null,null,null,null,null,null,"106 Cari N",null,"Fashion",3,22,3,23,4,15,null,"",{"$f":"SUM(L24,N24,P24,R24)","v":60},null,{"$f":"SUM(K24,M24,O24)","v":10},null,null,null,{"$f":"SUM(S24,S26,S25,S27,-AB24)","v":60},null,null,{"$f":"MIN(S24:S27)","v":0}]
["E-102",null,null,null,null,null,null,null,null,null,null,null,null,null,null,null,null,"",{"$f":"SUM(L25,N25,P25,R25)","v":0},null,{"$f":"SUM(K25,M25,O25)","v":0}]
["E-103",null,null,null,null,null,null,null,null,null,null,null,null,null,null,null,null,"",{"$f":"SUM(L26,N26,P26,R26)","v":0},null,{"$f":"SUM(K26,M26,O26)","v":0}]
["E-104",null,null,null,null,null,null,null,null,null,null,null,null,null,null,null,null,"",{"$f":"SUM(L27,N27,P27,R27)","v":0},null,{"$f":"SUM(K27,M27,O27)","v":0}]
[]
["F-101",null,null,null,null,null,null,null,null,null,null,null,null,null,null,null,null,"",{"$f":"SUM(L29,N29,P29,R29)","v":0},null,{"$f":"SUM(K29,M29,O29)","v":0},null,null,null,{"$f":"SUM(S29,S31,S30,S32,-AB29)","v":0},null,null,{"$f":"MIN(S29:S32)","v":0}]
["F-102",null,null,null,null,null,null,null,null,null,null,null,null,null,null,null,null,"",{"$f":"SUM(L30,N30,P30,R30)","v":0},null,{"$f":"SUM(K30,M30,O30)","v":0}]
["F-103",null,null,null,null,null,null,null,null,null,null,null,null,null,null,null,null,"",{"$f":"SUM(L31,N31,P31,R31)","v":0},null,{"$f":"SUM(K31,M31,O31)","v":0}]
["F-104",null,null,null,null,null,null,null,null,null,null,null,null,null,null,null,null,"",{"$f":"SUM(L32,N32,P32,R32)","v":0},null,{"$f":"SUM(K32,M32,O32)","v":0}]
[null,null,null,null,null,null,null,null,null,null,null,null,null,null,null,null,null,null,null,null,null,null,null,null,null,null,null,null,null,null,null,null,"\\"]
["G-101",null,null,null,null,null,null,"114 - Sam Wilcox",null,"SuperHero",1,25,3,22,3,17,null,"",{"$f":"SUM(L34,N34,P34,R34)","v":64},null,{"$f":"SUM(K34,M34,O34)","v":7},null,null,null,{"$f":"SUM(S34,S36,S35,S37,-AB34)","v":121},null,null,{"$f":"MIN(S34:S37)","v":0},null,null,null,null,210]
["G-102",null,null,null,null,null,null,"115 - Jacob Burton",null,"Jurassic Service/Unlucky Safety Inspector",2,24,4,18,4,15,null,"",{"$f":"SUM(L35,N35,P35,R35)","v":57},null,{"$f":"SUM(K35,M35,O35)","v":10}]
["G-103",null,null,null,null,null,null,null,null,null,null,null,null,null,null,null,null,"",{"$f":"SUM(L36,N36,P36,R36)","v":0},null,{"$f":"SUM(K36,M36,O36)","v":0}]
["G-104",null,null,null,null,null,null,null,null,null,null,null,null,null,null,null,null,"",{"$f":"SUM(L37,N37,P37,R37)","v":0},null,{"$f":"SUM(K37,M37,O37)","v":0}]
[]
["H-101",null,null,null,null,null,null,"116 - Tommy Sheeran",null,"The Grinch",1,25,1,25,1,25,null,"",{"$f":"SUM(L39,N39,P39,R39)","v":75},null,{"$f":"SUM(K39,M39,O39)","v":3},null,null,null,{"$f":"SUM(S39,S41,S40,S42,-AB39)","v":75},null,null,{"$f":"MIN(S39:S42)","v":0}]
["H-102",null,null,null,null,null,null,null,null,null,null,null,null,null,null,null,null,"",{"$f":"SUM(L40,N40,P40,R40)","v":0},null,{"$f":"SUM(K40,M40,O40)","v":0}]
["H-103",null,null,null,null,null,null,null,null,null,null,null,null,null,null,null,null,"",{"$f":"SUM(L41,N41,P41,R41)","v":0},null,{"$f":"SUM(K41,M41,O41)","v":0}]
["H-104",null,null,null,null,null,null,null,null,null,null,null,null,null,null,null,null,"",{"$f":"SUM(L42,N42,P42,R42)","v":0},null,{"$f":"SUM(K42,M42,O42)","v":0}]
[]
["J-101",null,null,null,null,null,null,null,null,null,null,null,null,null,null,null,null,"",{"$f":"SUM(L44,N44,P44,R44)","v":0},null,{"$f":"SUM(K44,M44,O44)","v":0},null,null,null,{"$f":"SUM(S44,S46,S45,S47,-AB44)","v":0},null,null,{"$f":"MIN(S44:S47)","v":0}]
["J-102",null,null,null,null,null,null,null,null,null,null,null,null,null,null,null,null,"",{"$f":"SUM(L45,N45,P45,R45)","v":0},null,{"$f":"SUM(K45,M45,O45)","v":0}]
["J-103",null,null,null,null,null,null,null,null,null,null,null,null,null,null,null,null,"",{"$f":"SUM(L46,N46,P46,R46)","v":0},null,{"$f":"SUM(K46,M46,O46)","v":0}]
["J-104",null,null,null,null,null,null,null,null,null,null,null,null,null,null,null,null,"",{"$f":"SUM(L47,N47,P47,R47)","v":0},null,{"$f":"SUM(K47,M47,O47)","v":0}]
[]
["K-101",null,null,null,null,null,null,"117 - William Timm",null,"Civil Rights/Dear Chuck",4,21,4,20,4,14,null,"",{"$f":"SUM(L49,N49,P49,R49)","v":55},null,{"$f":"SUM(K49,M49,O49)","v":12},null,null,null,{"$f":"SUM(S49,S51,S50,S52,-AB49)","v":55},null,null,{"$f":"MIN(S49:S52)","v":0}]
["K-102",null,null,null,null,null,null,null,null,null,null,null,null,null,null,null,null,"",{"$f":"SUM(L50,N50,P50,R50)","v":0},null,{"$f":"SUM(K50,M50,O50)","v":0}]
["K-103",null,null,null,null,null,null,null,null,null,null,null,null,null,null,null,null,"",{"$f":"SUM(L51,N51,P51,R51)","v":0},null,{"$f":"SUM(K51,M51,O51)","v":0}]
["K-104",null,null,null,null,null,null,null,null,null,null,null,null,null,null,null,null,"",{"$f":"SUM(L52,N52,P52,R52)","v":0},null,{"$f":"SUM(K52,M52,O52)","v":0}]
[]
["L-101",null,null,null,null,null,null,null,null,null,null,null,null,null,null,null,null,"",{"$f":"SUM(L54,N54,P54,R54)","v":0},null,{"$f":"SUM(K54,M54,O54)","v":0},null,null,null,{"$f":"SUM(S54,S56,S55,S57,-AB54)","v":0},null,null,{"$f":"MIN(S54:S57)","v":0}]
["L-102",null,null,null,null,null,null,null,null,null,null,null,null,null,null,null,null,"",{"$f":"SUM(L55,N55,P55,R55)","v":0},null,{"$f":"SUM(K55,M55,O55)","v":0}]
["L-103",null,null,null,null,null,null,null,null,null,null,null,null,null,null,null,null,"",{"$f":"SUM(L56,N56,P56,R56)","v":0},null,{"$f":"SUM(K56,M56,O56)","v":0}]
["L-104",null,null,null,null,null,null,null,null,null,null,null,null,null,null,null,null,"",{"$f":"SUM(L57,N57,P57,R57)","v":0},null,{"$f":"SUM(K57,M57,O57)","v":0}]
[]
["M-101",null,null,null,null,null,null,null,null,null,null,null,null,null,null,null,null,"",{"$f":"SUM(L59,N59,P59,R59)","v":0},null,{"$f":"SUM(K59,M59,O59)","v":0},null,null,null,{"$f":"SUM(S59,S61,S60,S62,-AB59)","v":0},null,null,{"$f":"MIN(S59:S62)","v":0}]
["M-102",null,null,null,null,null,null,null,null,null,null,null,null,null,null,null,null,"",{"$f":"SUM(L60,N60,P60,R60)","v":0},null,{"$f":"SUM(K60,M60,O60)","v":0}]
["M-103",null,null,null,null,null,null,null,null,null,null,null,null,null,null,null,null,"",{"$f":"SUM(L61,N61,P61,R61)","v":0},null,{"$f":"SUM(K61,M61,O61)","v":0}]
["M-104",null,null,null,null,null,null,null,null,null,null,null,null,null,null,null,null,"",{"$f":"SUM(L62,N62,P62,R62)","v":0},null,{"$f":"SUM(K62,M62,O62)","v":0}]
[]
["N-101",null,null,null,null,null,null,null,null,null,null,null,null,null,null,null,null,"",{"$f":"SUM(L64,N64,P64,R64)","v":0},null,{"$f":"SUM(K64,M64,O64)","v":0},null,null,null,{"$f":"SUM(S64,S66,S65,S67,-AB64)","v":0},null,null,{"$f":"MIN(S64:S67)","v":0}]
["N-102",null,null,null,null,null,null,null,null,null,null,null,null,null,null,null,null,"",{"$f":"SUM(L65,N65,P65,R65)","v":0},null,{"$f":"SUM(K65,M65,O65)","v":0}]
["N-103",null,null,null,null,null,null,null,null,null,null,null,null,null,null,null,null,"",{"$f":"SUM(L66,N66,P66,R66)","v":0},null,{"$f":"SUM(K66,M66,O66)","v":0}]
["N-104",null,null,null,null,null,null,null,null,null,null,null,null,null,null,null,null,"",{"$f":"SUM(L67,N67,P67,R67)","v":0},null,{"$f":"SUM(K67,M67,O67)","v":0}]
[]
["P-101",null,null,null,null,null,null,null,null,null,null,null,null,null,null,null,null,{"$f":"IF(Q69=\"1violation\",-7*1,IF(Q69=\"2violations\",-7*2,IF(Q69=\"3violations\",-7*3,IF(Q69=\"\",\"\"))))","v":""},{"$f":"SUM(L69,N69,P69,R69)","v":0},null,{"$f":"SUM(K69,M69,O69)","v":0},null,null,null,{"$f":"SUM(S69,S71,S70,S72,-AB69)","v":0},null,null,{"$f":"MIN(S69:S72)","v":0}]
["P-102",null,null,null,null,null,null,null,null,null,null,null,null,null,null,null,null,"",{"$f":"SUM(L70,N70,P70,R70)","v":0},null,{"$f":"SUM(K70,M70,O70)","v":0}]
["P-103",null,null,null,null,null,null,null,null,null,null,null,null,null,null,null,null,"",{"$f":"SUM(L71,N71,P71,R71)","v":0},null,{"$f":"SUM(K71,M71,O71)","v":0}]
["P-104",null,null,null,null,null,null,null,null,null,null,null,null,null,null,null,null,"",{"$f":"SUM(L72,N72,P72,R72)","v":0},null,{"$f":"SUM(K72,M72,O72)","v":0}]
[]
["Q-101",null,null,null,null,null,null,null,null,null,null,null,null,null,null,null,null,"",{"$f":"SUM(L74,N74,P74,R74)","v":0},null,{"$f":"SUM(K74,M74,O74)","v":0},null,null,null,{"$f":"SUM(S74,S76,S75,S77,-AB74)","v":0},null,null,{"$f":"MIN(S74:S77)","v":0}]
["Q-102",null,null,null,null,null,null,null,null,null,null,null,null,null,null,null,null,"",{"$f":"SUM(L75,N75,P75,R75)","v":0},null,{"$f":"SUM(K75,M75,O75)","v":0}]
["Q-103",null,null,null,null,null,null,null,null,null,null,null,null,null,null,null,null,"",{"$f":"SUM(L76,N76,P76,R76)","v":0},null,{"$f":"SUM(K76,M76,O76)","v":0}]
["Q-104",null,null,null,null,null,null,null,null,null,null,null,null,null,null,null,null,"",{"$f":"SUM(L77,N77,P77,R77)","v":0},null,{"$f":"SUM(K77,M77,O77)","v":0}]
[]
["R-101",null,null,null,null,null,null,null,null,null,null,null,null,null,null,null,null,"",{"$f":"SUM(L79,N79,P79,R79)","v":0},null,{"$f":"SUM(K79,M79,O79)","v":0},null,null,null,{"$f":"SUM(S79,S81,S80,S82,-AB79)","v":0},null,null,{"$f":"MIN(S79:S82)","v":0}]
["R-102",null,null,null,null,null,null,null,null,null,null,null,null,null,null,null,null,"",{"$f":"SUM(L80,N80,P80,R80)","v":0},null,{"$f":"SUM(K80,M80,O80)","v":0}]
["R-103",null,null,null,null,null,null,null,null,null,null,null,null,null,null,null,null,"",{"$f":"SUM(L81,N81,P81,R81)","v":0},null,{"$f":"SUM(K81,M81,O81)","v":0}]
["R-104",null,null,null,null,null,null,null,null,null,null,null,null,null,null,null,null,"",{"$f":"SUM(L82,N82,P82,R82)","v":0},null,{"$f":"SUM(K82,M82,O82)","v":0}]
[]
["S-101",null,null,null,null,null,null,null,null,null,null,null,null,null,null,null,null,"",{"$f":"SUM(L84,N84,P84,R84)","v":0},null,{"$f":"SUM(K84,M84,O84)","v":0},null,null,null,{"$f":"SUM(S84,S86,S85,S87,-AB84)","v":0},null,null,{"$f":"MIN(S84:S87)","v":0}]
["S-102",null,null,null,null,null,null,null,null,null,null,null,null,null,null,null,null,"",{"$f":"SUM(L85,N85,P85,R85)","v":0},null,{"$f":"SUM(K85,M85,O85)","v":0}]
["S-103",null,null,null,null,null,null,null,null,null,null,null,null,null,null,null,null,"",{"$f":"SUM(L86,N86,P86,R86)","v":0},null,{"$f":"SUM(K86,M86,O86)","v":0}]
["S-104",null,null,null,null,null,null,null,null,null,null,null,null,null,null,null,null,"",{"$f":"SUM(L87,N87,P87,R87)","v":0},null,{"$f":"SUM(K87,M87,O87)","v":0}]
[]
["T-101",null,null,null,null,null,null,null,null,null,null,null,null,null,null,null,null,"",{"$f":"SUM(L89,N89,P89,R89)","v":0},null,{"$f":"SUM(K89,M89,O89)","v":0},null,null,null,{"$f":"SUM(S89,S91,S90,S92,-AB89)","v":0},null,null,{"$f":"MIN(S89:S92)","v":0}]
["T-102",null,null,null,null,null,null,null,null,null,null,null,null,null,null,null,null,"",{"$f":"SUM(L90,N90,P90,R90)","v":0},null,{"$f":"SUM(K90,M90,O90)","v":0}]
["T-103",null,null,null,null,null,null,null,null,null,null,null,null,null,null,null,null,"",{"$f":"SUM(L91,N91,P91,R91)","v":0},null,{"$f":"SUM(K91,M91,O91)","v":0}]
["T-104",null,null,null,null,null,null,null,null,null,null,null,null,null,null,null,null,"",{"$f":"SUM(L92,N92,P92,R92)","v":0},null,{"$f":"SUM(K92,M92,O92)","v":0}]
[]
["U-101",null,null,null,null,null,null,null,null,null,null,null,null,null,null,null,null,"",{"$f":"SUM(L94,N94,P94,R94)","v":0},null,{"$f":"SUM(K94,M94,O94)","v":0},null,null,null,{"$f":"SUM(S94,S96,S95,S97,-AB94)","v":0},null,null,{"$f":"MIN(S94:S97)","v":0}]
["U-102",null,null,null,null,null,null,null,null,null,null,null,null,null,null,null,null,"",{"$f":"SUM(L95,N95,P95,R95)","v":0},null,{"$f":"SUM(K95,M95,O95)","v":0}]
["U-103",null,null,null,null,null,null,null,null,null,null,null,null,null,null,null,null,"",{"$f":"SUM(L96,N96,P96,R96)","v":0},null,{"$f":"SUM(K96,M96,O96)","v":0}]
["U-104",null,null,null,null,null,null,null,null,null,null,null,null,null,null,null,null,"",{"$f":"SUM(L97,N97,P97,R97)","v":0},null,{"$f":"SUM(K97,M97,O97)","v":0}]
[]
["V-101",null,null,null,null,null,null,null,null,null,null,null,null,null,null,null,null,"",{"$f":"SUM(L99,N99,P99,R99)","v":0},null,{"$f":"SUM(K99,M99,O99)","v":0},null,null,null,{"$f":"SUM(S99,S101,S100,S102,-AB99)","v":0},null,null,{"$f":"MIN(S99:S102)","v":0}]
["V-102",null,null,null,null,null,null,null,null,null,null,null,null,null,null,null,null,"",{"$f":"SUM(L100,N100,P100,R100)","v":0},null,{"$f":"SUM(K100,M100,O100)","v":0}]
["V-103",null,null,null,null,null,null,null,null,null,null,null,null,null,null,null,null,"",{"$f":"SUM(L101,N101,P101,R101)","v":0},null,{"$f":"SUM(K101,M101,O101)","v":0}]
["V-104",null,null,null,null,null,null,null,null,null,null,null,null,null,null,null,null,"",{"$f":"SUM(L102,N102,P102,R102)","v":0},null,{"$f":"SUM(K102,M102,O102)","v":0}]
[]
["W-101",null,null,null,null,null,null,null,null,null,null,null,null,null,null,null,null,"",{"$f":"SUM(L104,N104,P104,R104)","v":0},null,{"$f":"SUM(K104,M104,O104)","v":0},null,null,null,{"$f":"SUM(S104,S106,S105,S107,-AB104)","v":0},null,null,{"$f":"MIN(S104:S107)","v":0}]
["W-102",null,null,null,null,null,null,null,null,null,null,null,null,null,null,null,null,"",{"$f":"SUM(L105,N105,P105,R105)","v":0},null,{"$f":"SUM(K105,M105,O105)","v":0}]
["W-103",null,null,null,null,null,null,null,null,null,null,null,null,null,null,null,null,"",{"$f":"SUM(L106,N106,P106,R106)","v":0},null,{"$f":"SUM(K106,M106,O106)","v":0}]
["W-104",null,null,null,null,null,null,null,null,null,null,null,null,null,null,null,null,"",{"$f":"SUM(L107,N107,P107,R107)","v":0},null,{"$f":"SUM(K107,M107,O107)","v":0}]
[]
["X-101",null,null,null,null,null,null,null,null,null,null,null,null,null,null,null,null,"",{"$f":"SUM(L109,N109,P109,R109)","v":0},null,{"$f":"SUM(K109,M109,O109)","v":0},null,null,null,{"$f":"SUM(S109,S111,S110,S112,-AB109)","v":0},null,null,{"$f":"MIN(S109:S112)","v":0}]
["X-102",null,null,null,null,null,null,null,null,null,null,null,null,null,null,null,null,"",{"$f":"SUM(L110,N110,P110,R110)","v":0},null,{"$f":"SUM(K110,M110,O110)","v":0}]
["X-103",null,null,null,null,null,null,null,null,null,null,null,null,null,null,null,null,"",{"$f":"SUM(L111,N111,P111,R111)","v":0},null,{"$f":"SUM(K111,M111,O111)","v":0}]
["X-104",null,null,null,null,null,null,null,null,null,null,null,null,null,null,null,null,"",{"$f":"SUM(L112,N112,P112,R112)","v":0},null,{"$f":"SUM(K112,M112,O112)","v":0}]
[]
["Y-101",null,null,null,null,null,null,null,null,null,null,null,null,null,null,null,null,"",{"$f":"SUM(L114,N114,P114,R114)","v":0},null,{"$f":"SUM(K114,M114,O114)","v":0},null,null,null,{"$f":"SUM(S114,S116,S115,S117,-AB114)","v":0},null,null,{"$f":"MIN(S114:S117)","v":0}]
["Y-102",null,null,null,null,null,null,null,null,null,null,null,null,null,null,null,null,"",{"$f":"SUM(L115,N115,P115,R115)","v":0},null,{"$f":"SUM(K115,M115,O115)","v":0}]
["Y-103",null,null,null,null,null,null,null,null,null,null,null,null,null,null,null,null,"",{"$f":"SUM(L116,N116,P116,R116)","v":0},null,{"$f":"SUM(K116,M116,O116)","v":0}]
["Y-104",null,null,null,null,null,null,null,null,null,null,null,null,null,null,null,null,"",{"$f":"SUM(L117,N117,P117,R117)","v":0},null,{"$f":"SUM(K117,M117,O117)","v":0}]
[]
["Z-101",null,null,null,null,null,null,null,null,null,null,null,null,null,null,null,null,"",{"$f":"SUM(L119,N119,P119,R119)","v":0},null,{"$f":"SUM(K119,M119,O119)","v":0},null,null,null,{"$f":"SUM(S119,S121,S120,S122,-AB119)","v":0},null,null,{"$f":"MIN(S119:S122)","v":0}]
["Z-102",null,null,null,null,null,null,null,null,null,null,null,null,null,null,null,null,"",{"$f":"SUM(L120,N120,P120,R120)","v":0},null,{"$f":"SUM(K120,M120,O120)","v":0}]
["Z-103",null,null,null,null,null,null,null,null,null,null,null,null,null,null,null,null,"",{"$f":"SUM(L121,N121,P121,R121)","v":0},null,{"$f":"SUM(K121,M121,O121)","v":0}]
["Z-104",null,null,null,null,null,null,null,null,null,null,null,null,null,null,null,null,"",{"$f":"SUM(L122,N122,P122,R122)","v":0},null,{"$f":"SUM(K122,M122,O122)","v":0}]
[]
["AA-101",null,null,null,null,null,null,null,null,null,null,null,null,null,null,null,null,"",{"$f":"SUM(L124,N124,P124,R124)","v":0},null,{"$f":"SUM(K124,M124,O124)","v":0},null,null,null,{"$f":"SUM(S124,S126,S125,S127,-AB124)","v":0},null,null,{"$f":"MIN(S124:S127)","v":0}]
["AA-102",null,null,null,null,null,null,null,null,null,null,null,null,null,null,null,null,"",{"$f":"SUM(L125,N125,P125,R125)","v":0},null,{"$f":"SUM(K125,M125,O125)","v":0}]
["AA-103",null,null,null,null,null,null,null,null,null,null,null,null,null,null,null,null,"",{"$f":"SUM(L126,N126,P126,R126)","v":0},null,{"$f":"SUM(K126,M126,O126)","v":0}]
["AA-104",null,null,null,null,null,null,null,null,null,null,null,null,null,null,null,null,"",{"$f":"SUM(L127,N127,P127,R127)","v":0},null,{"$f":"SUM(K127,M127,O127)","v":0}]
[]
["BB-101",null,null,null,null,null,null,null,null,null,null,null,null,null,null,null,null,"",{"$f":"SUM(L129,N129,P129,R129)","v":0},null,{"$f":"SUM(K129,M129,O129)","v":0},null,null,null,{"$f":"SUM(S129,S131,S130,S132,-AB129)","v":0},null,null,{"$f":"MIN(S129:S132)","v":0}]
["BB-102",null,null,null,null,null,null,null,null,null,null,null,null,null,null,null,null,"",{"$f":"SUM(L130,N130,P130,R130)","v":0},null,{"$f":"SUM(K130,M130,O130)","v":0}]
["BB-103",null,null,null,null,null,null,null,null,null,null,null,null,null,null,null,null,"",{"$f":"SUM(L131,N131,P131,R131)","v":0},null,{"$f":"SUM(K131,M131,O131)","v":0}]
["BB-104",null,null,null,null,null,null,null,null,null,null,null,null,null,null,null,null,"",{"$f":"SUM(L132,N132,P132,R132)","v":0},null,{"$f":"SUM(K132,M132,O132)","v":0}]
[]
["CC-101",null,null,null,null,null,null,null,null,null,null,null,null,null,null,null,null,{"$f":"IF(Q134=\"1violation\",-7*1,IF(Q134=\"2violations\",-7*2,IF(Q134=\"3violations\",-7*3,IF(Q134=\"\",\"\"))))","v":""},{"$f":"SUM(L134,N134,P134,R134)","v":0},null,{"$f":"SUM(K134,M134,O134)","v":0},null,null,null,{"$f":"SUM(S134,S136,S135,S137,-AB134)","v":0},null,null,{"$f":"MIN(S134:S137)","v":0}]
["CC-102",null,null,null,null,null,null,null,null,null,null,null,null,null,null,null,null,"",{"$f":"SUM(L135,N135,P135,R135)","v":0},null,{"$f":"SUM(K135,M135,O135)","v":0}]
["CC-103",null,null,null,null,null,null,null,null,null,null,null,null,null,null,null,null,"",{"$f":"SUM(L136,N136,P136,R136)","v":0},null,{"$f":"SUM(K136,M136,O136)","v":0}]
["CC-104",null,null,null,null,null,null,null,null,null,null,null,null,null,null,null,null,"",{"$f":"SUM(L137,N137,P137,R137)","v":0},null,{"$f":"SUM(K137,M137,O137)","v":0}]
[]
["DD-101",null,null,null,null,null,null,null,null,null,null,null,null,null,null,null,null,"",{"$f":"SUM(L139,N139,P139,R139)","v":0},null,{"$f":"SUM(K139,M139,O139)","v":0},null,null,null,{"$f":"SUM(S139,S141,S140,S142,-AB139)","v":0},null,null,{"$f":"MIN(S139:S142)","v":0}]
["DD-102",null,null,null,null,null,null,null,null,null,null,null,null,null,null,null,null,"",{"$f":"SUM(L140,N140,P140,R140)","v":0},null,{"$f":"SUM(K140,M140,O140)","v":0}]
["DD-103",null,null,null,null,null,null,null,null,null,null,null,null,null,null,null,null,"",{"$f":"SUM(L141,N141,P141,R141)","v":0},null,{"$f":"SUM(K141,M141,O141)","v":0}]
["DD-104",null,null,null,null,null,null,null,null,null,null,null,null,null,null,null,null,"",{"$f":"SUM(L142,N142,P142,R142)","v":0},null,{"$f":"SUM(K142,M142,O142)","v":0}]
[]
["EE-101",null,null,null,null,null,null,null,null,null,null,null,null,null,null,null,null,"",{"$f":"SUM(L144,N144,P144,R144)","v":0},null,{"$f":"SUM(K144,M144,O144)","v":0},null,null,null,{"$f":"SUM(S144,S146,S145,S147,-AB144)","v":0},null,null,{"$f":"MIN(S144:S147)","v":0}]
["EE-102",null,null,null,null,null,null,null,null,null,null,null,null,null,null,null,null,"",{"$f":"SUM(L145,N145,P145,R145)","v":0},null,{"$f":"SUM(K145,M145,O145)","v":0}]
["EE-103",null,null,null,null,null,null,null,null,null,null,null,null,null,null,null,null,"",{"$f":"SUM(L146,N146,P146,R146)","v":0},null,{"$f":"SUM(K146,M146,O146)","v":0}]
["EE-104",null,null,null,null,null,null,null,null,null,null,null,null,null,null,null,null,"",{"$f":"SUM(L147,N147,P147,R147)","v":0},null,{"$f":"SUM(K147,M147,O147)","v":0}]
[]
["FF-101",null,null,null,null,null,null,null,null,null,null,null,null,null,null,null,null,"",{"$f":"SUM(L149,N149,P149,R149)","v":0},null,{"$f":"SUM(K149,M149,O149)","v":0},null,null,null,{"$f":"SUM(S149,S151,S150,S152,-AB149)","v":0},null,null,{"$f":"MIN(S149:S152)","v":0}]
["FF-102",null,null,null,null,null,null,null,null,null,null,null,null,null,null,null,null,"",{"$f":"SUM(L150,N150,P150,R150)","v":0},null,{"$f":"SUM(K150,M150,O150)","v":0}]
["FF-103",null,null,null,null,null,null,null,null,null,null,null,null,null,null,null,null,"",{"$f":"SUM(L151,N151,P151,R151)","v":0},null,{"$f":"SUM(K151,M151,O151)","v":0}]
["FF-104",null,null,null,null,null,null,null,null,null,null,null,null,null,null,null,null,"",{"$f":"SUM(L152,N152,P152,R152)","v":0},null,{"$f":"SUM(K152,M152,O152)","v":0}]

{"sheet":"HumorousMR","index":2,"n_rows":122,"n_cols":12,"rows_kept":122,"cut":false,"hidden":false,"merged":[]}
["Humorous",null,null,null,"Finals Medals Round Scores"]
["ID","Rank","Score","LeaveBlank","MR 1 Rank","MR 1 Score","MR2 Rank","MR 2 Score","MR3 Rank","MR 3 Score","Total MR Rank","Total MR Score"]
[{"$f":"'Humorous Monologues'!A39","v":"H-101"},{"$f":"'Humorous Monologues'!U39","v":3},{"$f":"'Humorous Monologues'!S39","v":75},{"$f":"IF((Table7[[#This Row],[Rank]]+Table7[[#This Row],[Score]])>0,1,0)","v":1},2,23,1,25,1,25,{"$f":"SUM(E3,G3,I3)","v":4},{"$f":"SUM(F3,H3,J3)","v":73}]
[{"$f":"'Humorous Monologues'!A14","v":"C-101"},{"$f":"'Humorous Monologues'!U14","v":4},{"$f":"'Humorous Monologues'!S14","v":72},{"$f":"IF((Table7[[#This Row],[Rank]]+Table7[[#This Row],[Score]])>0,1,0)","v":1},3,21,2,24,5,13,10,58]
[{"$f":"'Humorous Monologues'!A15","v":"C-102"},{"$f":"'Humorous Monologues'!U15","v":5},{"$f":"'Humorous Monologues'!S15","v":72},{"$f":"IF((Table7[[#This Row],[Rank]]+Table7[[#This Row],[Score]])>0,1,0)","v":1},6,17,3,23,2,20,11,60]
[{"$f":"'Humorous Monologues'!A16","v":"C-103"},{"$f":"'Humorous Monologues'!U16","v":7},{"$f":"'Humorous Monologues'!S16","v":72},{"$f":"IF((Table7[[#This Row],[Rank]]+Table7[[#This Row],[Score]])>0,1,0)","v":1},5,20,6,22,6,12,17,54]
[{"$f":"'Humorous Monologues'!A17","v":"C-104"},{"$f":"'Humorous Monologues'!U17","v":7},{"$f":"'Humorous Monologues'!S17","v":66},{"$f":"IF((Table7[[#This Row],[Rank]]+Table7[[#This Row],[Score]])>0,1,0)","v":1},4,20,4,22,3,20,11,62]
[{"$f":"'Humorous Monologues'!A34","v":"G-101"},{"$f":"'Humorous Monologues'!U34","v":7},{"$f":"'Humorous Monologues'!S34","v":64},{"$f":"IF((Table7[[#This Row],[Rank]]+Table7[[#This Row],[Score]])>0,1,0)","v":1},1,25,5,22,4,15,10,62]
[{"$f":"'Humorous Monologues'!A9","v":"B-101"},{"$f":"'Humorous Monologues'!U9","v":8},{"$f":"'Humorous Monologues'!S9","v":67},{"$f":"IF((Table7[[#This Row],[Rank]]+Table7[[#This Row],[Score]])>0,1,0)","v":1},null,null,null,null,null,null,0,0]
[{"$f":"'Humorous Monologues'!A6","v":"A-103"},{"$f":"'Humorous Monologues'!U6","v":10},{"$f":"'Humorous Monologues'!S6","v":71},{"$f":"IF((Table7[[#This Row],[Rank]]+Table7[[#This Row],[Score]])>0,1,0)","v":1},null,null,null,null,null,null,0,0]
[{"$f":"'Humorous Monologues'!A19","v":"D-101"},{"$f":"'Humorous Monologues'!U19","v":10},{"$f":"'Humorous Monologues'!S19","v":69},{"$f":"IF((Table7[[#This Row],[Rank]]+Table7[[#This Row],[Score]])>0,1,0)","v":1},null,null,null,null,null,null,0,0]
[{"$f":"'Humorous Monologues'!A20","v":"D-102"},{"$f":"'Humorous Monologues'!U20","v":10},{"$f":"'Humorous Monologues'!S20","v":63},{"$f":"IF((Table7[[#This Row],[Rank]]+Table7[[#This Row],[Score]])>0,1,0)","v":1},null,null,null,null,null,null,0,0]
[{"$f":"'Humorous Monologues'!A24","v":"E-101"},{"$f":"'Humorous Monologues'!U24","v":10},{"$f":"'Humorous Monologues'!S24","v":60},{"$f":"IF((Table7[[#This Row],[Rank]]+Table7[[#This Row],[Score]])>0,1,0)","v":1},null,null,null,null,null,null,0,0]
[{"$f":"'Humorous Monologues'!A35","v":"G-102"},{"$f":"'Humorous Monologues'!U35","v":10},{"$f":"'Humorous Monologues'!S35","v":57},{"$f":"IF((Table7[[#This Row],[Rank]]+Table7[[#This Row],[Score]])>0,1,0)","v":1},null,null,null,null,null,null,0,0]
[{"$f":"'Humorous Monologues'!A4","v":"A-101"},{"$f":"'Humorous Monologues'!U4","v":11},{"$f":"'Humorous Monologues'!S4","v":45},{"$f":"IF((Table7[[#This Row],[Rank]]+Table7[[#This Row],[Score]])>0,1,0)","v":1},null,null,null,null,null,null,0,0]
[{"$f":"'Humorous Monologues'!A10","v":"B-102"},{"$f":"'Humorous Monologues'!U10","v":12},{"$f":"'Humorous Monologues'!S10","v":69},{"$f":"IF((Table7[[#This Row],[Rank]]+Table7[[#This Row],[Score]])>0,1,0)","v":1},null,null,null,null,null,null,0,0]
[{"$f":"'Humorous Monologues'!A5","v":"A-102"},{"$f":"'Humorous Monologues'!U5","v":12},{"$f":"'Humorous Monologues'!S5","v":65},{"$f":"IF((Table7[[#This Row],[Rank]]+Table7[[#This Row],[Score]])>0,1,0)","v":1},null,null,null,null,null,null,0,0]
[{"$f":"'Humorous Monologues'!A49","v":"K-101"},{"$f":"'Humorous Monologues'!U49","v":12},{"$f":"'Humorous Monologues'!S49","v":55},{"$f":"IF((Table7[[#This Row],[Rank]]+Table7[[#This Row],[Score]])>0,1,0)","v":1},null,null,null,null,null,null,0,0]
[{"$f":"'Humorous Monologues'!A7","v":"A-104"},{"$f":"'Humorous Monologues'!U7","v":0},{"$f":"'Humorous Monologues'!S7","v":0},{"$f":"IF((Table7[[#This Row],[Rank]]+Table7[[#This Row],[Score]])>0,1,0)","v":0},null,null,null,null,null,null,0,0]
[{"$f":"'Humorous Monologues'!A11","v":"B-103"},{"$f":"'Humorous Monologues'!U11","v":0},{"$f":"'Humorous Monologues'!S11","v":0},{"$f":"IF((Table7[[#This Row],[Rank]]+Table7[[#This Row],[Score]])>0,1,0)","v":0},null,null,null,null,null,null,0,0]
[{"$f":"'Humorous Monologues'!A12","v":"B-104"},{"$f":"'Humorous Monologues'!U12","v":0},{"$f":"'Humorous Monologues'!S12","v":0},{"$f":"IF((Table7[[#This Row],[Rank]]+Table7[[#This Row],[Score]])>0,1,0)","v":0},null,null,null,null,null,null,0,0]
[{"$f":"'Humorous Monologues'!A124","v":"AA-101"},{"$f":"'Humorous Monologues'!U124","v":0},{"$f":"'Humorous Monologues'!S124","v":0},{"$f":"IF((Table7[[#This Row],[Rank]]+Table7[[#This Row],[Score]])>0,1,0)","v":0},null,null,null,null,null,null,0,0]
[{"$f":"'Humorous Monologues'!A125","v":"AA-102"},{"$f":"'Humorous Monologues'!U125","v":0},{"$f":"'Humorous Monologues'!S125","v":0},{"$f":"IF((Table7[[#This Row],[Rank]]+Table7[[#This Row],[Score]])>0,1,0)","v":0},null,null,null,null,null,null,0,0]
[{"$f":"'Humorous Monologues'!A126","v":"AA-103"},{"$f":"'Humorous Monologues'!U126","v":0},{"$f":"'Humorous Monologues'!S126","v":0},{"$f":"IF((Table7[[#This Row],[Rank]]+Table7[[#This Row],[Score]])>0,1,0)","v":0},null,null,null,null,null,null,0,0]
[{"$f":"'Humorous Monologues'!A127","v":"AA-104"},{"$f":"'Humorous Monologues'!U127","v":0},{"$f":"'Humorous Monologues'!S127","v":0},{"$f":"IF((Table7[[#This Row],[Rank]]+Table7[[#This Row],[Score]])>0,1,0)","v":0},null,null,null,null,null,null,0,0]
[{"$f":"'Humorous Monologues'!A129","v":"BB-101"},{"$f":"'Humorous Monologues'!U129","v":0},{"$f":"'Humorous Monologues'!S129","v":0},{"$f":"IF((Table7[[#This Row],[Rank]]+Table7[[#This Row],[Score]])>0,1,0)","v":0},null,null,null,null,null,null,0,0]
[{"$f":"'Humorous Monologues'!A130","v":"BB-102"},{"$f":"'Humorous Monologues'!U130","v":0},{"$f":"'Humorous Monologues'!S130","v":0},{"$f":"IF((Table7[[#This Row],[Rank]]+Table7[[#This Row],[Score]])>0,1,0)","v":0},null,null,null,null,null,null,0,0]
[{"$f":"'Humorous Monologues'!A131","v":"BB-103"},{"$f":"'Humorous Monologues'!U131","v":0},{"$f":"'Humorous Monologues'!S131","v":0},{"$f":"IF((Table7[[#This Row],[Rank]]+Table7[[#This Row],[Score]])>0,1,0)","v":0},null,null,null,null,null,null,0,0]
[{"$f":"'Humorous Monologues'!A132","v":"BB-104"},{"$f":"'Humorous Monologues'!U132","v":0},{"$f":"'Humorous Monologues'!S132","v":0},{"$f":"IF((Table7[[#This Row],[Rank]]+Table7[[#This Row],[Score]])>0,1,0)","v":0},null,null,null,null,null,null,0,0]
[{"$f":"'Humorous Monologues'!A134","v":"CC-101"},{"$f":"'Humorous Monologues'!U134","v":0},{"$f":"'Humorous Monologues'!S134","v":0},{"$f":"IF((Table7[[#This Row],[Rank]]+Table7[[#This Row],[Score]])>0,1,0)","v":0},null,null,null,null,null,null,0,0]
[{"$f":"'Humorous Monologues'!A135","v":"CC-102"},{"$f":"'Humorous Monologues'!U135","v":0},{"$f":"'Humorous Monologues'!S135","v":0},{"$f":"IF((Table7[[#This Row],[Rank]]+Table7[[#This Row],[Score]])>0,1,0)","v":0},null,null,null,null,null,null,0,0]
[{"$f":"'Humorous Monologues'!A136","v":"CC-103"},{"$f":"'Humorous Monologues'!U136","v":0},{"$f":"'Humorous Monologues'!S136","v":0},{"$f":"IF((Table7[[#This Row],[Rank]]+Table7[[#This Row],[Score]])>0,1,0)","v":0},null,null,null,null,null,null,0,0]
[{"$f":"'Humorous Monologues'!A137","v":"CC-104"},{"$f":"'Humorous Monologues'!U137","v":0},{"$f":"'Humorous Monologues'!S137","v":0},{"$f":"IF((Table7[[#This Row],[Rank]]+Table7[[#This Row],[Score]])>0,1,0)","v":0},null,null,null,null,null,null,0,0]
[{"$f":"'Humorous Monologues'!A21","v":"D-103"},{"$f":"'Humorous Monologues'!U21","v":0},{"$f":"'Humorous Monologues'!S21","v":0},{"$f":"IF((Table7[[#This Row],[Rank]]+Table7[[#This Row],[Score]])>0,1,0)","v":0},null,null,null,null,null,null,0,0]
[{"$f":"'Humorous Monologues'!A22","v":"D-104"},{"$f":"'Humorous Monologues'!U22","v":0},{"$f":"'Humorous Monologues'!S22","v":0},{"$f":"IF((Table7[[#This Row],[Rank]]+Table7[[#This Row],[Score]])>0,1,0)","v":0},null,null,null,null,null,null,{"$f":"SUM(E35,G35,I35)","v":0},{"$f":"SUM(F35,H35,J35)","v":0}]
[{"$f":"'Humorous Monologues'!A139","v":"DD-101"},{"$f":"'Humorous Monologues'!U139","v":0},{"$f":"'Humorous Monologues'!S139","v":0},{"$f":"IF((Table7[[#This Row],[Rank]]+Table7[[#This Row],[Score]])>0,1,0)","v":0},null,null,null,null,null,null,0,0]
[{"$f":"'Humorous Monologues'!A140","v":"DD-102"},{"$f":"'Humorous Monologues'!U140","v":0},{"$f":"'Humorous Monologues'!S140","v":0},{"$f":"IF((Table7[[#This Row],[Rank]]+Table7[[#This Row],[Score]])>0,1,0)","v":0},null,null,null,null,null,null,0,0]
[{"$f":"'Humorous Monologues'!A141","v":"DD-103"},{"$f":"'Humorous Monologues'!U141","v":0},{"$f":"'Humorous Monologues'!S141","v":0},{"$f":"IF((Table7[[#This Row],[Rank]]+Table7[[#This Row],[Score]])>0,1,0)","v":0},null,null,null,null,null,null,0,0]
[{"$f":"'Humorous Monologues'!A142","v":"DD-104"},{"$f":"'Humorous Monologues'!U142","v":0},{"$f":"'Humorous Monologues'!S142","v":0},{"$f":"IF((Table7[[#This Row],[Rank]]+Table7[[#This Row],[Score]])>0,1,0)","v":0},null,null,null,null,null,null,0,0]
[{"$f":"'Humorous Monologues'!A25","v":"E-102"},{"$f":"'Humorous Monologues'!U25","v":0},{"$f":"'Humorous Monologues'!S25","v":0},{"$f":"IF((Table7[[#This Row],[Rank]]+Table7[[#This Row],[Score]])>0,1,0)","v":0},null,null,null,null,null,null,0,0]
[{"$f":"'Humorous Monologues'!A26","v":"E-103"},{"$f":"'Humorous Monologues'!U26","v":0},{"$f":"'Humorous Monologues'!S26","v":0},{"$f":"IF((Table7[[#This Row],[Rank]]+Table7[[#This Row],[Score]])>0,1,0)","v":0},null,null,null,null,null,null,0,0]
[{"$f":"'Humorous Monologues'!A27","v":"E-104"},{"$f":"'Humorous Monologues'!U27","v":0},{"$f":"'Humorous Monologues'!S27","v":0},{"$f":"IF((Table7[[#This Row],[Rank]]+Table7[[#This Row],[Score]])>0,1,0)","v":0},null,null,null,null,null,null,0,0]
[{"$f":"'Humorous Monologues'!A144","v":"EE-101"},{"$f":"'Humorous Monologues'!U144","v":0},{"$f":"'Humorous Monologues'!S144","v":0},{"$f":"IF((Table7[[#This Row],[Rank]]+Table7[[#This Row],[Score]])>0,1,0)","v":0},null,null,null,null,null,null,0,0]
[{"$f":"'Humorous Monologues'!A145","v":"EE-102"},{"$f":"'Humorous Monologues'!U145","v":0},{"$f":"'Humorous Monologues'!S145","v":0},{"$f":"IF((Table7[[#This Row],[Rank]]+Table7[[#This Row],[Score]])>0,1,0)","v":0},null,null,null,null,null,null,0,0]
[{"$f":"'Humorous Monologues'!A146","v":"EE-103"},{"$f":"'Humorous Monologues'!U146","v":0},{"$f":"'Humorous Monologues'!S146","v":0},{"$f":"IF((Table7[[#This Row],[Rank]]+Table7[[#This Row],[Score]])>0,1,0)","v":0},null,null,null,null,null,null,0,0]
[{"$f":"'Humorous Monologues'!A147","v":"EE-104"},{"$f":"'Humorous Monologues'!U147","v":0},{"$f":"'Humorous Monologues'!S147","v":0},{"$f":"IF((Table7[[#This Row],[Rank]]+Table7[[#This Row],[Score]])>0,1,0)","v":0},null,null,null,null,null,null,0,0]
[{"$f":"'Humorous Monologues'!A29","v":"F-101"},{"$f":"'Humorous Monologues'!U29","v":0},{"$f":"'Humorous Monologues'!S29","v":0},{"$f":"IF((Table7[[#This Row],[Rank]]+Table7[[#This Row],[Score]])>0,1,0)","v":0},null,null,null,null,null,null,0,0]
[{"$f":"'Humorous Monologues'!A30","v":"F-102"},{"$f":"'Humorous Monologues'!U30","v":0},{"$f":"'Humorous Monologues'!S30","v":0},{"$f":"IF((Table7[[#This Row],[Rank]]+Table7[[#This Row],[Score]])>0,1,0)","v":0},null,null,null,null,null,null,0,0]
[{"$f":"'Humorous Monologues'!A31","v":"F-103"},{"$f":"'Humorous Monologues'!U31","v":0},{"$f":"'Humorous Monologues'!S31","v":0},{"$f":"IF((Table7[[#This Row],[Rank]]+Table7[[#This Row],[Score]])>0,1,0)","v":0},null,null,null,null,null,null,0,0]
[{"$f":"'Humorous Monologues'!A32","v":"F-104"},{"$f":"'Humorous Monologues'!U32","v":0},{"$f":"'Humorous Monologues'!S32","v":0},{"$f":"IF((Table7[[#This Row],[Rank]]+Table7[[#This Row],[Score]])>0,1,0)","v":0},null,null,null,null,null,null,0,0]
[{"$f":"'Humorous Monologues'!A149","v":"FF-101"},{"$f":"'Humorous Monologues'!U149","v":0},{"$f":"'Humorous Monologues'!S149","v":0},{"$f":"IF((Table7[[#This Row],[Rank]]+Table7[[#This Row],[Score]])>0,1,0)","v":0},null,null,null,null,null,null,0,0]
[{"$f":"'Humorous Monologues'!A150","v":"FF-102"},{"$f":"'Humorous Monologues'!U150","v":0},{"$f":"'Humorous Monologues'!S150","v":0},{"$f":"IF((Table7[[#This Row],[Rank]]+Table7[[#This Row],[Score]])>0,1,0)","v":0},null,null,null,null,null,null,0,0]
[{"$f":"'Humorous Monologues'!A151","v":"FF-103"},{"$f":"'Humorous Monologues'!U151","v":0},{"$f":"'Humorous Monologues'!S151","v":0},{"$f":"IF((Table7[[#This Row],[Rank]]+Table7[[#This Row],[Score]])>0,1,0)","v":0},null,null,null,null,null,null,0,0]
[{"$f":"'Humorous Monologues'!A152","v":"FF-104"},{"$f":"'Humorous Monologues'!U152","v":0},{"$f":"'Humorous Monologues'!S152","v":0},{"$f":"IF((Table7[[#This Row],[Rank]]+Table7[[#This Row],[Score]])>0,1,0)","v":0},null,null,null,null,null,null,0,0]
[{"$f":"'Humorous Monologues'!A36","v":"G-103"},{"$f":"'Humorous Monologues'!U36","v":0},{"$f":"'Humorous Monologues'!S36","v":0},{"$f":"IF((Table7[[#This Row],[Rank]]+Table7[[#This Row],[Score]])>0,1,0)","v":0},null,null,null,null,null,null,0,0]
[{"$f":"'Humorous Monologues'!A37","v":"G-104"},{"$f":"'Humorous Monologues'!U37","v":0},{"$f":"'Humorous Monologues'!S37","v":0},{"$f":"IF((Table7[[#This Row],[Rank]]+Table7[[#This Row],[Score]])>0,1,0)","v":0},null,null,null,null,null,null,0,0]
[{"$f":"'Humorous Monologues'!A40","v":"H-102"},{"$f":"'Humorous Monologues'!U40","v":0},{"$f":"'Humorous Monologues'!S40","v":0},{"$f":"IF((Table7[[#This Row],[Rank]]+Table7[[#This Row],[Score]])>0,1,0)","v":0},null,null,null,null,null,null,0,0]
[{"$f":"'Humorous Monologues'!A41","v":"H-103"},{"$f":"'Humorous Monologues'!U41","v":0},{"$f":"'Humorous Monologues'!S41","v":0},{"$f":"IF((Table7[[#This Row],[Rank]]+Table7[[#This Row],[Score]])>0,1,0)","v":0},null,null,null,null,null,null,0,0]
[{"$f":"'Humorous Monologues'!A42","v":"H-104"},{"$f":"'Humorous Monologues'!U42","v":0},{"$f":"'Humorous Monologues'!S42","v":0},{"$f":"IF((Table7[[#This Row],[Rank]]+Table7[[#This Row],[Score]])>0,1,0)","v":0},null,null,null,null,null,null,0,0]
[{"$f":"'Humorous Monologues'!A44","v":"J-101"},{"$f":"'Humorous Monologues'!U44","v":0},{"$f":"'Humorous Monologues'!S44","v":0},{"$f":"IF((Table7[[#This Row],[Rank]]+Table7[[#This Row],[Score]])>0,1,0)","v":0},null,null,null,null,null,null,0,0]
[{"$f":"'Humorous Monologues'!A45","v":"J-102"},{"$f":"'Humorous Monologues'!U45","v":0},{"$f":"'Humorous Monologues'!S45","v":0},{"$f":"IF((Table7[[#This Row],[Rank]]+Table7[[#This Row],[Score]])>0,1,0)","v":0},null,null,null,null,null,null,0,0]
[{"$f":"'Humorous Monologues'!A46","v":"J-103"},{"$f":"'Humorous Monologues'!U46","v":0},{"$f":"'Humorous Monologues'!S46","v":0},{"$f":"IF((Table7[[#This Row],[Rank]]+Table7[[#This Row],[Score]])>0,1,0)","v":0},null,null,null,null,null,null,0,0]
[{"$f":"'Humorous Monologues'!A47","v":"J-104"},{"$f":"'Humorous Monologues'!U47","v":0},{"$f":"'Humorous Monologues'!S47","v":0},{"$f":"IF((Table7[[#This Row],[Rank]]+Table7[[#This Row],[Score]])>0,1,0)","v":0},null,null,null,null,null,null,0,0]
[{"$f":"'Humorous Monologues'!A50","v":"K-102"},{"$f":"'Humorous Monologues'!U50","v":0},{"$f":"'Humorous Monologues'!S50","v":0},{"$f":"IF((Table7[[#This Row],[Rank]]+Table7[[#This Row],[Score]])>0,1,0)","v":0},null,null,null,null,null,null,0,0]
[{"$f":"'Humorous Monologues'!A51","v":"K-103"},{"$f":"'Humorous Monologues'!U51","v":0},{"$f":"'Humorous Monologues'!S51","v":0},{"$f":"IF((Table7[[#This Row],[Rank]]+Table7[[#This Row],[Score]])>0,1,0)","v":0},null,null,null,null,null,null,0,0]
[{"$f":"'Humorous Monologues'!A52","v":"K-104"},{"$f":"'Humorous Monologues'!U52","v":0},{"$f":"'Humorous Monologues'!S52","v":0},{"$f":"IF((Table7[[#This Row],[Rank]]+Table7[[#This Row],[Score]])>0,1,0)","v":0},null,null,null,null,null,null,0,0]
[{"$f":"'Humorous Monologues'!A54","v":"L-101"},{"$f":"'Humorous Monologues'!U54","v":0},{"$f":"'Humorous Monologues'!S54","v":0},{"$f":"IF((Table7[[#This Row],[Rank]]+Table7[[#This Row],[Score]])>0,1,0)","v":0},null,null,null,null,null,null,{"$f":"SUM(E67,G67,I67)","v":0},{"$f":"SUM(F67,H67,J67)","v":0}]
[{"$f":"'Humorous Monologues'!A55","v":"L-102"},{"$f":"'Humorous Monologues'!U55","v":0},{"$f":"'Humorous Monologues'!S55","v":0},{"$f":"IF((Table7[[#This Row],[Rank]]+Table7[[#This Row],[Score]])>0,1,0)","v":0},null,null,null,null,null,null,0,0]
[{"$f":"'Humorous Monologues'!A56","v":"L-103"},{"$f":"'Humorous Monologues'!U56","v":0},{"$f":"'Humorous Monologues'!S56","v":0},{"$f":"IF((Table7[[#This Row],[Rank]]+Table7[[#This Row],[Score]])>0,1,0)","v":0},null,null,null,null,null,null,0,0]
[{"$f":"'Humorous Monologues'!A57","v":"L-104"},{"$f":"'Humorous Monologues'!U57","v":0},{"$f":"'Humorous Monologues'!S57","v":0},{"$f":"IF((Table7[[#This Row],[Rank]]+Table7[[#This Row],[Score]])>0,1,0)","v":0},null,null,null,null,null,null,0,0]
[{"$f":"'Humorous Monologues'!A59","v":"M-101"},{"$f":"'Humorous Monologues'!U59","v":0},{"$f":"'Humorous Monologues'!S59","v":0},{"$f":"IF((Table7[[#This Row],[Rank]]+Table7[[#This Row],[Score]])>0,1,0)","v":0},null,null,null,null,null,null,0,0]
[{"$f":"'Humorous Monologues'!A60","v":"M-102"},{"$f":"'Humorous Monologues'!U60","v":0},{"$f":"'Humorous Monologues'!S60","v":0},{"$f":"IF((Table7[[#This Row],[Rank]]+Table7[[#This Row],[Score]])>0,1,0)","v":0},null,null,null,null,null,null,0,0]
[{"$f":"'Humorous Monologues'!A61","v":"M-103"},{"$f":"'Humorous Monologues'!U61","v":0},{"$f":"'Humorous Monologues'!S61","v":0},{"$f":"IF((Table7[[#This Row],[Rank]]+Table7[[#This Row],[Score]])>0,1,0)","v":0},null,null,null,null,null,null,0,0]
[{"$f":"'Humorous Monologues'!A62","v":"M-104"},{"$f":"'Humorous Monologues'!U62","v":0},{"$f":"'Humorous Monologues'!S62","v":0},{"$f":"IF((Table7[[#This Row],[Rank]]+Table7[[#This Row],[Score]])>0,1,0)","v":0},null,null,null,null,null,null,0,0]
[{"$f":"'Humorous Monologues'!A64","v":"N-101"},{"$f":"'Humorous Monologues'!U64","v":0},{"$f":"'Humorous Monologues'!S64","v":0},{"$f":"IF((Table7[[#This Row],[Rank]]+Table7[[#This Row],[Score]])>0,1,0)","v":0},null,null,null,null,null,null,0,0]
[{"$f":"'Humorous Monologues'!A65","v":"N-102"},{"$f":"'Humorous Monologues'!U65","v":0},{"$f":"'Humorous Monologues'!S65","v":0},{"$f":"IF((Table7[[#This Row],[Rank]]+Table7[[#This Row],[Score]])>0,1,0)","v":0},null,null,null,null,null,null,0,0]
[{"$f":"'Humorous Monologues'!A66","v":"N-103"},{"$f":"'Humorous Monologues'!U66","v":0},{"$f":"'Humorous Monologues'!S66","v":0},{"$f":"IF((Table7[[#This Row],[Rank]]+Table7[[#This Row],[Score]])>0,1,0)","v":0},null,null,null,null,null,null,0,0]
[{"$f":"'Humorous Monologues'!A67","v":"N-104"},{"$f":"'Humorous Monologues'!U67","v":0},{"$f":"'Humorous Monologues'!S67","v":0},{"$f":"IF((Table7[[#This Row],[Rank]]+Table7[[#This Row],[Score]])>0,1,0)","v":0},null,null,null,null,null,null,0,0]
[{"$f":"'Humorous Monologues'!A69","v":"P-101"},{"$f":"'Humorous Monologues'!U69","v":0},{"$f":"'Humorous Monologues'!S69","v":0},{"$f":"IF((Table7[[#This Row],[Rank]]+Table7[[#This Row],[Score]])>0,1,0)","v":0},null,null,null,null,null,null,0,0]
[{"$f":"'Humorous Monologues'!A70","v":"P-102"},{"$f":"'Humorous Monologues'!U70","v":0},{"$f":"'Humorous Monologues'!S70","v":0},{"$f":"IF((Table7[[#This Row],[Rank]]+Table7[[#This Row],[Score]])>0,1,0)","v":0},null,null,null,null,null,null,0,0]
[{"$f":"'Humorous Monologues'!A71","v":"P-103"},{"$f":"'Humorous Monologues'!U71","v":0},{"$f":"'Humorous Monologues'!S71","v":0},{"$f":"IF((Table7[[#This Row],[Rank]]+Table7[[#This Row],[Score]])>0,1,0)","v":0},null,null,null,null,null,null,0,0]
[{"$f":"'Humorous Monologues'!A72","v":"P-104"},{"$f":"'Humorous Monologues'!U72","v":0},{"$f":"'Humorous Monologues'!S72","v":0},{"$f":"IF((Table7[[#This Row],[Rank]]+Table7[[#This Row],[Score]])>0,1,0)","v":0},null,null,null,null,null,null,0,0]
[{"$f":"'Humorous Monologues'!A74","v":"Q-101"},{"$f":"'Humorous Monologues'!U74","v":0},{"$f":"'Humorous Monologues'!S74","v":0},{"$f":"IF((Table7[[#This Row],[Rank]]+Table7[[#This Row],[Score]])>0,1,0)","v":0},null,null,null,null,null,null,0,0]
[{"$f":"'Humorous Monologues'!A75","v":"Q-102"},{"$f":"'Humorous Monologues'!U75","v":0},{"$f":"'Humorous Monologues'!S75","v":0},{"$f":"IF((Table7[[#This Row],[Rank]]+Table7[[#This Row],[Score]])>0,1,0)","v":0},null,null,null,null,null,null,0,0]
[{"$f":"'Humorous Monologues'!A76","v":"Q-103"},{"$f":"'Humorous Monologues'!U76","v":0},{"$f":"'Humorous Monologues'!S76","v":0},{"$f":"IF((Table7[[#This Row],[Rank]]+Table7[[#This Row],[Score]])>0,1,0)","v":0},null,null,null,null,null,null,0,0]
[{"$f":"'Humorous Monologues'!A77","v":"Q-104"},{"$f":"'Humorous Monologues'!U77","v":0},{"$f":"'Humorous Monologues'!S77","v":0},{"$f":"IF((Table7[[#This Row],[Rank]]+Table7[[#This Row],[Score]])>0,1,0)","v":0},null,null,null,null,null,null,0,0]
[{"$f":"'Humorous Monologues'!A79","v":"R-101"},{"$f":"'Humorous Monologues'!U79","v":0},{"$f":"'Humorous Monologues'!S79","v":0},{"$f":"IF((Table7[[#This Row],[Rank]]+Table7[[#This Row],[Score]])>0,1,0)","v":0},null,null,null,null,null,null,0,0]
[{"$f":"'Humorous Monologues'!A80","v":"R-102"},{"$f":"'Humorous Monologues'!U80","v":0},{"$f":"'Humorous Monologues'!S80","v":0},{"$f":"IF((Table7[[#This Row],[Rank]]+Table7[[#This Row],[Score]])>0,1,0)","v":0},null,null,null,null,null,null,0,0]
[{"$f":"'Humorous Monologues'!A81","v":"R-103"},{"$f":"'Humorous Monologues'!U81","v":0},{"$f":"'Humorous Monologues'!S81","v":0},{"$f":"IF((Table7[[#This Row],[Rank]]+Table7[[#This Row],[Score]])>0,1,0)","v":0},null,null,null,null,null,null,0,0]
[{"$f":"'Humorous Monologues'!A82","v":"R-104"},{"$f":"'Humorous Monologues'!U82","v":0},{"$f":"'Humorous Monologues'!S82","v":0},{"$f":"IF((Table7[[#This Row],[Rank]]+Table7[[#This Row],[Score]])>0,1,0)","v":0},null,null,null,null,null,null,0,0]
[{"$f":"'Humorous Monologues'!A84","v":"S-101"},{"$f":"'Humorous Monologues'!U84","v":0},{"$f":"'Humorous Monologues'!S84","v":0},{"$f":"IF((Table7[[#This Row],[Rank]]+Table7[[#This Row],[Score]])>0,1,0)","v":0},null,null,null,null,null,null,0,0]
[{"$f":"'Humorous Monologues'!A85","v":"S-102"},{"$f":"'Humorous Monologues'!U85","v":0},{"$f":"'Humorous Monologues'!S85","v":0},{"$f":"IF((Table7[[#This Row],[Rank]]+Table7[[#This Row],[Score]])>0,1,0)","v":0},null,null,null,null,null,null,0,0]
[{"$f":"'Humorous Monologues'!A86","v":"S-103"},{"$f":"'Humorous Monologues'!U86","v":0},{"$f":"'Humorous Monologues'!S86","v":0},{"$f":"IF((Table7[[#This Row],[Rank]]+Table7[[#This Row],[Score]])>0,1,0)","v":0},null,null,null,null,null,null,0,0]
[{"$f":"'Humorous Monologues'!A87","v":"S-104"},{"$f":"'Humorous Monologues'!U87","v":0},{"$f":"'Humorous Monologues'!S87","v":0},{"$f":"IF((Table7[[#This Row],[Rank]]+Table7[[#This Row],[Score]])>0,1,0)","v":0},null,null,null,null,null,null,0,0]
[{"$f":"'Humorous Monologues'!A89","v":"T-101"},{"$f":"'Humorous Monologues'!U89","v":0},{"$f":"'Humorous Monologues'!S89","v":0},{"$f":"IF((Table7[[#This Row],[Rank]]+Table7[[#This Row],[Score]])>0,1,0)","v":0},null,null,null,null,null,null,0,0]
[{"$f":"'Humorous Monologues'!A90","v":"T-102"},{"$f":"'Humorous Monologues'!U90","v":0},{"$f":"'Humorous Monologues'!S90","v":0},{"$f":"IF((Table7[[#This Row],[Rank]]+Table7[[#This Row],[Score]])>0,1,0)","v":0},null,null,null,null,null,null,0,0]
[{"$f":"'Humorous Monologues'!A91","v":"T-103"},{"$f":"'Humorous Monologues'!U91","v":0},{"$f":"'Humorous Monologues'!S91","v":0},{"$f":"IF((Table7[[#This Row],[Rank]]+Table7[[#This Row],[Score]])>0,1,0)","v":0},null,null,null,null,null,null,0,0]
[{"$f":"'Humorous Monologues'!A92","v":"T-104"},{"$f":"'Humorous Monologues'!U92","v":0},{"$f":"'Humorous Monologues'!S92","v":0},{"$f":"IF((Table7[[#This Row],[Rank]]+Table7[[#This Row],[Score]])>0,1,0)","v":0},null,null,null,null,null,null,0,0]
[{"$f":"'Humorous Monologues'!A94","v":"U-101"},{"$f":"'Humorous Monologues'!U94","v":0},{"$f":"'Humorous Monologues'!S94","v":0},{"$f":"IF((Table7[[#This Row],[Rank]]+Table7[[#This Row],[Score]])>0,1,0)","v":0},null,null,null,null,null,null,{"$f":"SUM(E99,G99,I99)","v":0},{"$f":"SUM(F99,H99,J99)","v":0}]
[{"$f":"'Humorous Monologues'!A95","v":"U-102"},{"$f":"'Humorous Monologues'!U95","v":0},{"$f":"'Humorous Monologues'!S95","v":0},{"$f":"IF((Table7[[#This Row],[Rank]]+Table7[[#This Row],[Score]])>0,1,0)","v":0},null,null,null,null,null,null,0,0]
[{"$f":"'Humorous Monologues'!A96","v":"U-103"},{"$f":"'Humorous Monologues'!U96","v":0},{"$f":"'Humorous Monologues'!S96","v":0},{"$f":"IF((Table7[[#This Row],[Rank]]+Table7[[#This Row],[Score]])>0,1,0)","v":0},null,null,null,null,null,null,0,0]
[{"$f":"'Humorous Monologues'!A97","v":"U-104"},{"$f":"'Humorous Monologues'!U97","v":0},{"$f":"'Humorous Monologues'!S97","v":0},{"$f":"IF((Table7[[#This Row],[Rank]]+Table7[[#This Row],[Score]])>0,1,0)","v":0},null,null,null,null,null,null,0,0]
[{"$f":"'Humorous Monologues'!A99","v":"V-101"},{"$f":"'Humorous Monologues'!U99","v":0},{"$f":"'Humorous Monologues'!S99","v":0},{"$f":"IF((Table7[[#This Row],[Rank]]+Table7[[#This Row],[Score]])>0,1,0)","v":0},null,null,null,null,null,null,0,0]
[{"$f":"'Humorous Monologues'!A100","v":"V-102"},{"$f":"'Humorous Monologues'!U100","v":0},{"$f":"'Humorous Monologues'!S100","v":0},{"$f":"IF((Table7[[#This Row],[Rank]]+Table7[[#This Row],[Score]])>0,1,0)","v":0},null,null,null,null,null,null,0,0]
[{"$f":"'Humorous Monologues'!A101","v":"V-103"},{"$f":"'Humorous Monologues'!U101","v":0},{"$f":"'Humorous Monologues'!S101","v":0},{"$f":"IF((Table7[[#This Row],[Rank]]+Table7[[#This Row],[Score]])>0,1,0)","v":0},null,null,null,null,null,null,0,0]
[{"$f":"'Humorous Monologues'!A102","v":"V-104"},{"$f":"'Humorous Monologues'!U102","v":0},{"$f":"'Humorous Monologues'!S102","v":0},{"$f":"IF((Table7[[#This Row],[Rank]]+Table7[[#This Row],[Score]])>0,1,0)","v":0},null,null,null,null,null,null,0,0]
[{"$f":"'Humorous Monologues'!A104","v":"W-101"},{"$f":"'Humorous Monologues'!U104","v":0},{"$f":"'Humorous Monologues'!S104","v":0},{"$f":"IF((Table7[[#This Row],[Rank]]+Table7[[#This Row],[Score]])>0,1,0)","v":0},null,null,null,null,null,null,0,0]
[{"$f":"'Humorous Monologues'!A105","v":"W-102"},{"$f":"'Humorous Monologues'!U105","v":0},{"$f":"'Humorous Monologues'!S105","v":0},{"$f":"IF((Table7[[#This Row],[Rank]]+Table7[[#This Row],[Score]])>0,1,0)","v":0},null,null,null,null,null,null,0,0]
[{"$f":"'Humorous Monologues'!A106","v":"W-103"},{"$f":"'Humorous Monologues'!U106","v":0},{"$f":"'Humorous Monologues'!S106","v":0},{"$f":"IF((Table7[[#This Row],[Rank]]+Table7[[#This Row],[Score]])>0,1,0)","v":0},null,null,null,null,null,null,0,0]
[{"$f":"'Humorous Monologues'!A107","v":"W-104"},{"$f":"'Humorous Monologues'!U107","v":0},{"$f":"'Humorous Monologues'!S107","v":0},{"$f":"IF((Table7[[#This Row],[Rank]]+Table7[[#This Row],[Score]])>0,1,0)","v":0},null,null,null,null,null,null,0,0]
[{"$f":"'Humorous Monologues'!A109","v":"X-101"},{"$f":"'Humorous Monologues'!U109","v":0},{"$f":"'Humorous Monologues'!S109","v":0},{"$f":"IF((Table7[[#This Row],[Rank]]+Table7[[#This Row],[Score]])>0,1,0)","v":0},null,null,null,null,null,null,0,0]
[{"$f":"'Humorous Monologues'!A110","v":"X-102"},{"$f":"'Humorous Monologues'!U110","v":0},{"$f":"'Humorous Monologues'!S110","v":0},{"$f":"IF((Table7[[#This Row],[Rank]]+Table7[[#This Row],[Score]])>0,1,0)","v":0},null,null,null,null,null,null,0,0]
[{"$f":"'Humorous Monologues'!A111","v":"X-103"},{"$f":"'Humorous Monologues'!U111","v":0},{"$f":"'Humorous Monologues'!S111","v":0},{"$f":"IF((Table7[[#This Row],[Rank]]+Table7[[#This Row],[Score]])>0,1,0)","v":0},null,null,null,null,null,null,0,0]
[{"$f":"'Humorous Monologues'!A112","v":"X-104"},{"$f":"'Humorous Monologues'!U112","v":0},{"$f":"'Humorous Monologues'!S112","v":0},{"$f":"IF((Table7[[#This Row],[Rank]]+Table7[[#This Row],[Score]])>0,1,0)","v":0},null,null,null,null,null,null,0,0]
[{"$f":"'Humorous Monologues'!A114","v":"Y-101"},{"$f":"'Humorous Monologues'!U114","v":0},{"$f":"'Humorous Monologues'!S114","v":0},{"$f":"IF((Table7[[#This Row],[Rank]]+Table7[[#This Row],[Score]])>0,1,0)","v":0},null,null,null,null,null,null,0,0]
[{"$f":"'Humorous Monologues'!A115","v":"Y-102"},{"$f":"'Humorous Monologues'!U115","v":0},{"$f":"'Humorous Monologues'!S115","v":0},{"$f":"IF((Table7[[#This Row],[Rank]]+Table7[[#This Row],[Score]])>0,1,0)","v":0},null,null,null,null,null,null,0,0]
[{"$f":"'Humorous Monologues'!A116","v":"Y-103"},{"$f":"'Humorous Monologues'!U116","v":0},{"$f":"'Humorous Monologues'!S116","v":0},{"$f":"IF((Table7[[#This Row],[Rank]]+Table7[[#This Row],[Score]])>0,1,0)","v":0},null,null,null,null,null,null,0,0]
[{"$f":"'Humorous Monologues'!A117","v":"Y-104"},{"$f":"'Humorous Monologues'!U117","v":0},{"$f":"'Humorous Monologues'!S117","v":0},{"$f":"IF((Table7[[#This Row],[Rank]]+Table7[[#This Row],[Score]])>0,1,0)","v":0},null,null,null,null,null,null,0,0]
[{"$f":"'Humorous Monologues'!A119","v":"Z-101"},{"$f":"'Humorous Monologues'!U119","v":0},{"$f":"'Humorous Monologues'!S119","v":0},{"$f":"IF((Table7[[#This Row],[Rank]]+Table7[[#This Row],[Score]])>0,1,0)","v":0},null,null,null,null,null,null,0,0]
[{"$f":"'Humorous Monologues'!A120","v":"Z-102"},{"$f":"'Humorous Monologues'!U120","v":0},{"$f":"'Humorous Monologues'!S120","v":0},{"$f":"IF((Table7[[#This Row],[Rank]]+Table7[[#This Row],[Score]])>0,1,0)","v":0},null,null,null,null,null,null,0,0]
[{"$f":"'Humorous Monologues'!A121","v":"Z-103"},{"$f":"'Humorous Monologues'!U121","v":0},{"$f":"'Humorous Monologues'!S121","v":0},{"$f":"IF((Table7[[#This Row],[Rank]]+Table7[[#This Row],[Score]])>0,1,0)","v":0},null,null,null,null,null,null,0,0]
[{"$f":"'Humorous Monologues'!A122","v":"Z-104"},{"$f":"'Humorous Monologues'!U122","v":0},{"$f":"'Humorous Monologues'!S122","v":0},{"$f":"IF((Table7[[#This Row],[Rank]]+Table7[[#This Row],[Score]])>0,1,0)","v":0},null,null,null,null,null,null,0,0]

{"sheet":"Dramatic","index":3,"n_rows":152,"n_cols":31,"rows_kept":152,"cut":false,"hidden":false,"merged":[[0,0,0,8]]}
["Dramatic Monologues",null,null,null,null,null,null,null,null,null,"Rank 1-4",null,null,null,null,null,null,null,null,null,null,null,null,"S","E","G","F",null,"1violation","2violations","3violations"]
[null,null,null,null,null,null,null,null,null,null,"Round 1:",null,"Round 2:",null,"Round 3:",null,"-2 for each",null,null,null,null,null,null,null,null,null,null,"Drops lowest from column q"]
[null,null,null,null,null,null,null,"Student Name",null,"Title of Piece","R1 rank","R1 score","R2 rank","R2 score","R3 rank","R3 score","Time Violations",null,"TOTAL SCORE",null,"TOTAL RANK",null,null,"TOTAL SCHOOL SWEEPS POINTS",null,null,null,"Drop Lowest"]
["A-201",null,null,null,null,null,null,"201 - Abby",null,"Come Stay Go",4,17,4,22,3,22,null,{"$f":"IF(Q4=\"1violation\",-7*1,IF(Q4=\"2violations\",-7*2,IF(Q4=\"3violations\",-7*3,IF(Q4=\"\",\"\"))))","v":""},{"$f":"SUM(L4,N4,P4,R4)","v":61},null,{"$f":"SUM(K4,M4,O4)","v":11},null,null,null,{"$f":"SUM(S4,S6,S5,S7,-AB4)","v":191},null,null,{"$f":"MIN(S4:S7)","v":60}]
["A-202",null,null,null,null,null,null,"202 - Bells",null,"Fathers Blue Eyes",2,25,4,15,3,20,null,{"$f":"IF(Q5=\"1violation\",-7*1,IF(Q5=\"2violations\",-7*2,IF(Q5=\"3violations\",-7*3,IF(Q5=\"\",\"\"))))","v":""},{"$f":"SUM(L5,N5,P5,R5)","v":60},null,{"$f":"SUM(K5,M5,O5)","v":9}]
["A-203",null,null,null,null,null,null,"203 - Maya",null,"Bluebird",4,18,1,25,1,24,null,"",{"$f":"SUM(L6,N6,P6,R6)","v":67},null,{"$f":"SUM(K6,M6,O6)","v":6}]
["A-204",null,null,null,null,null,null,"204 - Sonia",null,"Notebook",4,25,4,20,4,18,null,"",{"$f":"SUM(L7,N7,P7,R7)","v":63},null,{"$f":"SUM(K7,M7,O7)","v":12}]
[]
["B-201",null,null,null,null,null,null,null,null,null,null,null,null,null,null,null,null,"",{"$f":"SUM(L9,N9,P9,R9)","v":0},null,{"$f":"SUM(K9,M9,O9)","v":0},null,null,null,{"$f":"SUM(S9,S11,S10,S12,-AB9)","v":67},null,null,{"$f":"MIN(S9:S12)","v":0}]
["B-202",null,null,null,null,null,null,"206 - Jaren Henrie",null,"Dust in Eyes",3,25,3,23,4,19,null,"",{"$f":"SUM(L10,N10,P10,R10)","v":67},null,{"$f":"SUM(K10,M10,O10)","v":10}]
["B-203",null,null,null,null,null,null,null,null,null,null,null,null,null,null,null,null,"",{"$f":"SUM(L11,N11,P11,R11)","v":0},null,{"$f":"SUM(K11,M11,O11)","v":0}]
["B-204",null,null,null,null,null,null,null,null,null,null,null,null,null,null,null,null,"",{"$f":"SUM(L12,N12,P12,R12)","v":0},null,{"$f":"SUM(K12,M12,O12)","v":0}]
[]
["C-201",null,null,null,null,null,null,"207 - Hunter Stewart",null,"Julius ",3,20,2,21,4,22,null,"",{"$f":"SUM(L14,N14,P14,R14)","v":63},null,{"$f":"SUM(K14,M14,O14)","v":9},null,null,null,{"$f":"SUM(S14,S16,S15,S17,-AB14)","v":63},null,null,{"$f":"MIN(S14:S17)","v":0}]
["C-202",null,null,null,null,null,null,null,null,null,null,null,null,null,null,null,null,"",{"$f":"SUM(L15,N15,P15,R15)","v":0},null,{"$f":"SUM(K15,M15,O15)","v":0}]
["C-203",null,null,null,null,null,null,null,null,null,null,null,null,null,null,null,null,"",{"$f":"SUM(L16,N16,P16,R16)","v":0},null,{"$f":"SUM(K16,M16,O16)","v":0}]
["C-204",null,null,null,null,null,null,null,null,null,null,null,null,null,null,null,null,"",{"$f":"SUM(L17,N17,P17,R17)","v":0},null,{"$f":"SUM(K17,M17,O17)","v":0}]
[]
["D-201",null,null,null,null,null,null,"210 - Ian Faddis",null,"I Hate Hamlet",4,25,4,17,4,22,null,"",{"$f":"SUM(L19,N19,P19,R19)","v":64},null,{"$f":"SUM(K19,M19,O19)","v":12},null,null,null,{"$f":"SUM(S19,S21,S20,S22,-AB19)","v":131},null,null,{"$f":"MIN(S19:S22)","v":0}]
["D-202",null,null,null,null,null,null,"211 - Kylee Pace",null,"Ride Cylcone",1,21,4,23,2,23,null,"",{"$f":"SUM(L20,N20,P20,R20)","v":67},null,{"$f":"SUM(K20,M20,O20)","v":7}]
["D-203",null,null,null,null,null,null,null,null,null,null,null,null,null,null,null,null,"",{"$f":"SUM(L21,N21,P21,R21)","v":0},null,{"$f":"SUM(K21,M21,O21)","v":0}]
["D-204",null,null,null,null,null,null,null,null,null,null,null,null,null,null,null,null,"",{"$f":"SUM(L22,N22,P22,R22)","v":0},null,{"$f":"SUM(K22,M22,O22)","v":0}]
[]
["E-201",null,null,null,null,null,null,"212 - Josh Lamore",null,"Person in Mirror",1,25,2,23,4,18,null,"",{"$f":"SUM(L24,N24,P24,R24)","v":66},null,{"$f":"SUM(K24,M24,O24)","v":7},null,null,null,{"$f":"SUM(S24,S26,S25,S27,-AB24)","v":66},null,null,{"$f":"MIN(S24:S27)","v":0}]
["E-202",null,null,null,null,null,null,null,null,null,null,null,null,null,null,null,null,"",{"$f":"SUM(L25,N25,P25,R25)","v":0},null,{"$f":"SUM(K25,M25,O25)","v":0}]
["E-203",null,null,null,null,null,null,null,null,null,null,null,null,null,null,null,null,"",{"$f":"SUM(L26,N26,P26,R26)","v":0},null,{"$f":"SUM(K26,M26,O26)","v":0}]
["E-204",null,null,null,null,null,null,null,null,null,null,null,null,null,null,null,null,"",{"$f":"SUM(L27,N27,P27,R27)","v":0},null,{"$f":"SUM(K27,M27,O27)","v":0}]
[]
["F-201",null,null,null,null,null,null,null,null,null,null,null,null,null,null,null,null,"",{"$f":"SUM(L29,N29,P29,R29)","v":0},null,{"$f":"SUM(K29,M29,O29)","v":0},null,null,null,{"$f":"SUM(S29,S31,S30,S32,-AB29)","v":0},null,null,{"$f":"MIN(S29:S32)","v":0}]
["F-202",null,null,null,null,null,null,null,null,null,null,null,null,null,null,null,null,"",{"$f":"SUM(L30,N30,P30,R30)","v":0},null,{"$f":"SUM(K30,M30,O30)","v":0}]
["F-203",null,null,null,null,null,null,null,null,null,null,null,null,null,null,null,null,"",{"$f":"SUM(L31,N31,P31,R31)","v":0},null,{"$f":"SUM(K31,M31,O31)","v":0}]
["F-204",null,null,null,null,null,null,null,null,null,null,null,null,null,null,null,null,"",{"$f":"SUM(L32,N32,P32,R32)","v":0},null,{"$f":"SUM(K32,M32,O32)","v":0}]
[]
["G-201",null,null,null,null,null,null,"213 - Payton McClure",null,"Why She Did It",4,16,4,22,2,22,null,"",{"$f":"SUM(L34,N34,P34,R34)","v":60},null,{"$f":"SUM(K34,M34,O34)","v":10},null,null,null,{"$f":"SUM(S34,S36,S35,S37,-AB34)","v":191},null,null,{"$f":"MIN(S34:S37)","v":60}]
["G-202",null,null,null,null,null,null,"214 - Mackenzie McClure",null,"Stay With Me",4,25,3,18,4,20,null,"",{"$f":"SUM(L35,N35,P35,R35)","v":63},null,{"$f":"SUM(K35,M35,O35)","v":11}]
["G-203",null,null,null,null,null,null,"215 - Harley Atwood",null,"Not Sorry",2,20,4,18,1,24,null,"",{"$f":"SUM(L36,N36,P36,R36)","v":62},null,{"$f":"SUM(K36,M36,O36)","v":7}]
["G-204",null,null,null,null,null,null,"216 - Logan Wilcox",null,"Dark Reflections",4,25,1,23,4,18,null,"",{"$f":"SUM(L37,N37,P37,R37)","v":66},null,{"$f":"SUM(K37,M37,O37)","v":9}]
[]
["H-201",null,null,null,null,null,null,null,null,null,null,null,null,null,null,null,null,"",{"$f":"SUM(L39,N39,P39,R39)","v":0},null,{"$f":"SUM(K39,M39,O39)","v":0},null,null,null,{"$f":"SUM(S39,S41,S40,S42,-AB39)","v":0},null,null,{"$f":"MIN(S39:S42)","v":0}]
["H-202",null,null,null,null,null,null,null,null,null,null,null,null,null,null,null,null,"",{"$f":"SUM(L40,N40,P40,R40)","v":0},null,{"$f":"SUM(K40,M40,O40)","v":0}]
["H-203",null,null,null,null,null,null,null,null,null,null,null,null,null,null,null,null,"",{"$f":"SUM(L41,N41,P41,R41)","v":0},null,{"$f":"SUM(K41,M41,O41)","v":0}]
["H-204",null,null,null,null,null,null,null,null,null,null,null,null,null,null,null,null,"",{"$f":"SUM(L42,N42,P42,R42)","v":0},null,{"$f":"SUM(K42,M42,O42)","v":0}]
[]
["J-201",null,null,null,null,null,null,null,null,null,null,null,null,null,null,null,null,"",{"$f":"SUM(L44,N44,P44,R44)","v":0},null,{"$f":"SUM(K44,M44,O44)","v":0},null,null,null,{"$f":"SUM(S44,S46,S45,S47,-AB44)","v":0},null,null,{"$f":"MIN(S44:S47)","v":0}]
["J-202",null,null,null,null,null,null,null,null,null,null,null,null,null,null,null,null,"",{"$f":"SUM(L45,N45,P45,R45)","v":0},null,{"$f":"SUM(K45,M45,O45)","v":0}]
["J-203",null,null,null,null,null,null,null,null,null,null,null,null,null,null,null,null,"",{"$f":"SUM(L46,N46,P46,R46)","v":0},null,{"$f":"SUM(K46,M46,O46)","v":0}]
["J-204",null,null,null,null,null,null,null,null,null,null,null,null,null,null,null,null,"",{"$f":"SUM(L47,N47,P47,R47)","v":0},null,{"$f":"SUM(K47,M47,O47)","v":0}]
[]
["K-201",null,null,null,null,null,null,null,null,null,null,null,null,null,null,null,null,"",{"$f":"SUM(L49,N49,P49,R49)","v":0},null,{"$f":"SUM(K49,M49,O49)","v":0},null,null,null,{"$f":"SUM(S49,S51,S50,S52,-AB49)","v":0},null,null,{"$f":"MIN(S49:S52)","v":0}]
["K-202",null,null,null,null,null,null,null,null,null,null,null,null,null,null,null,null,"",{"$f":"SUM(L50,N50,P50,R50)","v":0},null,{"$f":"SUM(K50,M50,O50)","v":0}]
["K-203",null,null,null,null,null,null,null,null,null,null,null,null,null,null,null,null,"",{"$f":"SUM(L51,N51,P51,R51)","v":0},null,{"$f":"SUM(K51,M51,O51)","v":0}]
["K-204",null,null,null,null,null,null,null,null,null,null,null,null,null,null,null,null,"",{"$f":"SUM(L52,N52,P52,R52)","v":0},null,{"$f":"SUM(K52,M52,O52)","v":0}]
[]
["L-201",null,null,null,null,null,null,null,null,null,null,null,null,null,null,null,null,"",{"$f":"SUM(L54,N54,P54,R54)","v":0},null,{"$f":"SUM(K54,M54,O54)","v":0},null,null,null,{"$f":"SUM(S54,S56,S55,S57,-AB54)","v":0},null,null,{"$f":"MIN(S54:S57)","v":0}]
["L-202",null,null,null,null,null,null,null,null,null,null,null,null,null,null,null,null,"",{"$f":"SUM(L55,N55,P55,R55)","v":0},null,{"$f":"SUM(K55,M55,O55)","v":0}]
["L-203",null,null,null,null,null,null,null,null,null,null,null,null,null,null,null,null,"",{"$f":"SUM(L56,N56,P56,R56)","v":0},null,{"$f":"SUM(K56,M56,O56)","v":0}]
["L-204",null,null,null,null,null,null,null,null,null,null,null,null,null,null,null,null,"",{"$f":"SUM(L57,N57,P57,R57)","v":0},null,{"$f":"SUM(K57,M57,O57)","v":0}]
[]
["M-201",null,null,null,null,null,null,null,null,null,null,null,null,null,null,null,null,"",{"$f":"SUM(L59,N59,P59,R59)","v":0},null,{"$f":"SUM(K59,M59,O59)","v":0},null,null,null,{"$f":"SUM(S59,S61,S60,S62,-AB59)","v":0},null,null,{"$f":"MIN(S59:S62)","v":0}]
["M-202",null,null,null,null,null,null,null,null,null,null,null,null,null,null,null,null,"",{"$f":"SUM(L60,N60,P60,R60)","v":0},null,{"$f":"SUM(K60,M60,O60)","v":0}]
["M-203",null,null,null,null,null,null,null,null,null,null,null,null,null,null,null,null,"",{"$f":"SUM(L61,N61,P61,R61)","v":0},null,{"$f":"SUM(K61,M61,O61)","v":0}]
["M-204",null,null,null,null,null,null,null,null,null,null,null,null,null,null,null,null,"",{"$f":"SUM(L62,N62,P62,R62)","v":0},null,{"$f":"SUM(K62,M62,O62)","v":0}]
[]
["N-201",null,null,null,null,null,null,null,null,null,null,null,null,null,null,null,null,"",{"$f":"SUM(L64,N64,P64,R64)","v":0},null,{"$f":"SUM(K64,M64,O64)","v":0},null,null,null,{"$f":"SUM(S64,S66,S65,S67,-AB64)","v":0},null,null,{"$f":"MIN(S64:S67)","v":0}]
["N-202",null,null,null,null,null,null,null,null,null,null,null,null,null,null,null,null,"",{"$f":"SUM(L65,N65,P65,R65)","v":0},null,{"$f":"SUM(K65,M65,O65)","v":0}]
["N-203",null,null,null,null,null,null,null,null,null,null,null,null,null,null,null,null,"",{"$f":"SUM(L66,N66,P66,R66)","v":0},null,{"$f":"SUM(K66,M66,O66)","v":0}]
["N-204",null,null,null,null,null,null,null,null,null,null,null,null,null,null,null,null,"",{"$f":"SUM(L67,N67,P67,R67)","v":0},null,{"$f":"SUM(K67,M67,O67)","v":0}]
[]
["P-201",null,null,null,null,null,null,null,null,null,null,null,null,null,null,null,null,"",{"$f":"SUM(L69,N69,P69,R69)","v":0},null,{"$f":"SUM(K69,M69,O69)","v":0},null,null,null,{"$f":"SUM(S69,S71,S70,S72,-AB69)","v":0},null,null,{"$f":"MIN(S69:S72)","v":0}]
["P-202",null,null,null,null,null,null,null,null,null,null,null,null,null,null,null,null,"",{"$f":"SUM(L70,N70,P70,R70)","v":0},null,{"$f":"SUM(K70,M70,O70)","v":0}]
["P-203",null,null,null,null,null,null,null,null,null,null,null,null,null,null,null,null,"",{"$f":"SUM(L71,N71,P71,R71)","v":0},null,{"$f":"SUM(K71,M71,O71)","v":0}]
["P-204",null,null,null,null,null,null,null,null,null,null,null,null,null,null,null,null,"",{"$f":"SUM(L72,N72,P72,R72)","v":0},null,{"$f":"SUM(K72,M72,O72)","v":0}]
[]
["Q-201",null,null,null,null,null,null,null,null,null,null,null,null,null,null,null,null,"",{"$f":"SUM(L74,N74,P74,R74)","v":0},null,{"$f":"SUM(K74,M74,O74)","v":0},null,null,null,{"$f":"SUM(S74,S76,S75,S77,-AB74)","v":0},null,null,{"$f":"MIN(S74:S77)","v":0}]
["Q-202",null,null,null,null,null,null,null,null,null,null,null,null,null,null,null,null,"",{"$f":"SUM(L75,N75,P75,R75)","v":0},null,{"$f":"SUM(K75,M75,O75)","v":0}]
["Q-203",null,null,null,null,null,null,null,null,null,null,null,null,null,null,null,null,"",{"$f":"SUM(L76,N76,P76,R76)","v":0},null,{"$f":"SUM(K76,M76,O76)","v":0}]
["Q-204",null,null,null,null,null,null,null,null,null,null,null,null,null,null,null,null,"",{"$f":"SUM(L77,N77,P77,R77)","v":0},null,{"$f":"SUM(K77,M77,O77)","v":0}]
[]
["R-201",null,null,null,null,null,null,null,null,null,null,null,null,null,null,null,null,"",{"$f":"SUM(L79,N79,P79,R79)","v":0},null,{"$f":"SUM(K79,M79,O79)","v":0},null,null,null,{"$f":"SUM(S79,S81,S80,S82,-AB79)","v":0},null,null,{"$f":"MIN(S79:S82)","v":0}]
["R-202",null,null,null,null,null,null,null,null,null,null,null,null,null,null,null,null,"",{"$f":"SUM(L80,N80,P80,R80)","v":0},null,{"$f":"SUM(K80,M80,O80)","v":0}]
["R-203",null,null,null,null,null,null,null,null,null,null,null,null,null,null,null,null,"",{"$f":"SUM(L81,N81,P81,R81)","v":0},null,{"$f":"SUM(K81,M81,O81)","v":0}]
["R-204",null,null,null,null,null,null,null,null,null,null,null,null,null,null,null,null,"",{"$f":"SUM(L82,N82,P82,R82)","v":0},null,{"$f":"SUM(K82,M82,O82)","v":0}]
[]
["S-201",null,null,null,null,null,null,null,null,null,null,null,null,null,null,null,null,"",{"$f":"SUM(L84,N84,P84,R84)","v":0},null,{"$f":"SUM(K84,M84,O84)","v":0},null,null,null,{"$f":"SUM(S84,S86,S85,S87,-AB84)","v":0},null,null,{"$f":"MIN(S84:S87)","v":0}]
["S-202",null,null,null,null,null,null,null,null,null,null,null,null,null,null,null,null,{"$f":"IF(Q85=\"1violation\",-7*1,IF(Q85=\"2violations\",-7*2,IF(Q85=\"3violations\",-7*3,IF(Q85=\"\",\"\"))))","v":""},{"$f":"SUM(L85,N85,P85,R85)","v":0},null,{"$f":"SUM(K85,M85,O85)","v":0}]
["S-203",null,null,null,null,null,null,null,null,null,null,null,null,null,null,null,null,"",{"$f":"SUM(L86,N86,P86,R86)","v":0},null,{"$f":"SUM(K86,M86,O86)","v":0}]
["S-204",null,null,null,null,null,null,null,null,null,null,null,null,null,null,null,null,"",{"$f":"SUM(L87,N87,P87,R87)","v":0},null,{"$f":"SUM(K87,M87,O87)","v":0}]
[]
["T-201",null,null,null,null,null,null,null,null,null,null,null,null,null,null,null,null,"",{"$f":"SUM(L89,N89,P89,R89)","v":0},null,{"$f":"SUM(K89,M89,O89)","v":0},null,null,null,{"$f":"SUM(S89,S91,S90,S92,-AB89)","v":0},null,null,{"$f":"MIN(S89:S92)","v":0}]
["T-202",null,null,null,null,null,null,null,null,null,null,null,null,null,null,null,null,"",{"$f":"SUM(L90,N90,P90,R90)","v":0},null,{"$f":"SUM(K90,M90,O90)","v":0}]
["T-203",null,null,null,null,null,null,null,null,null,null,null,null,null,null,null,null,"",{"$f":"SUM(L91,N91,P91,R91)","v":0},null,{"$f":"SUM(K91,M91,O91)","v":0}]
["T-204",null,null,null,null,null,null,null,null,null,null,null,null,null,null,null,null,"",{"$f":"SUM(L92,N92,P92,R92)","v":0},null,{"$f":"SUM(K92,M92,O92)","v":0}]
[]
["U-201",null,null,null,null,null,null,null,null,null,null,null,null,null,null,null,null,"",{"$f":"SUM(L94,N94,P94,R94)","v":0},null,{"$f":"SUM(K94,M94,O94)","v":0},null,null,null,{"$f":"SUM(S94,S96,S95,S97,-AB94)","v":0},null,null,{"$f":"MIN(S94:S97)","v":0}]
["U-202",null,null,null,null,null,null,null,null,null,null,null,null,null,null,null,null,"",{"$f":"SUM(L95,N95,P95,R95)","v":0},null,{"$f":"SUM(K95,M95,O95)","v":0}]
["U-203",null,null,null,null,null,null,null,null,null,null,null,null,null,null,null,null,"",{"$f":"SUM(L96,N96,P96,R96)","v":0},null,{"$f":"SUM(K96,M96,O96)","v":0}]
["U-204",null,null,null,null,null,null,null,null,null,null,null,null,null,null,null,null,"",{"$f":"SUM(L97,N97,P97,R97)","v":0},null,{"$f":"SUM(K97,M97,O97)","v":0}]
[]
["V-201",null,null,null,null,null,null,null,null,null,null,null,null,null,null,null,null,"",{"$f":"SUM(L99,N99,P99,R99)","v":0},null,{"$f":"SUM(K99,M99,O99)","v":0},null,null,null,{"$f":"SUM(S99,S101,S100,S102,-AB99)","v":0},null,null,{"$f":"MIN(S99:S102)","v":0}]
["V-202",null,null,null,null,null,null,null,null,null,null,null,null,null,null,null,null,"",{"$f":"SUM(L100,N100,P100,R100)","v":0},null,{"$f":"SUM(K100,M100,O100)","v":0}]
["V-203",null,null,null,null,null,null,null,null,null,null,null,null,null,null,null,null,"",{"$f":"SUM(L101,N101,P101,R101)","v":0},null,{"$f":"SUM(K101,M101,O101)","v":0}]
["V-204",null,null,null,null,null,null,null,null,null,null,null,null,null,null,null,null,"",{"$f":"SUM(L102,N102,P102,R102)","v":0},null,{"$f":"SUM(K102,M102,O102)","v":0}]
[]
["W-201",null,null,null,null,null,null,null,null,null,null,null,null,null,null,null,null,"",{"$f":"SUM(L104,N104,P104,R104)","v":0},null,{"$f":"SUM(K104,M104,O104)","v":0},null,null,null,{"$f":"SUM(S104,S106,S105,S107,-AB104)","v":0},null,null,{"$f":"MIN(S104:S107)","v":0}]
["W-202",null,null,null,null,null,null,null,null,null,null,null,null,null,null,null,null,"",{"$f":"SUM(L105,N105,P105,R105)","v":0},null,{"$f":"SUM(K105,M105,O105)","v":0}]
["W-203",null,null,null,null,null,null,null,null,null,null,null,null,null,null,null,null,"",{"$f":"SUM(L106,N106,P106,R106)","v":0},null,{"$f":"SUM(K106,M106,O106)","v":0}]
["W-204",null,null,null,null,null,null,null,null,null,null,null,null,null,null,null,null,"",{"$f":"SUM(L107,N107,P107,R107)","v":0},null,{"$f":"SUM(K107,M107,O107)","v":0}]
[]
["X-201",null,null,null,null,null,null,null,null,null,null,null,null,null,null,null,null,"",{"$f":"SUM(L109,N109,P109,R109)","v":0},null,{"$f":"SUM(K109,M109,O109)","v":0},null,null,null,{"$f":"SUM(S109,S111,S110,S112,-AB109)","v":0},null,null,{"$f":"MIN(S109:S112)","v":0}]
["X-202",null,null,null,null,null,null,null,null,null,null,null,null,null,null,null,null,"",{"$f":"SUM(L110,N110,P110,R110)","v":0},null,{"$f":"SUM(K110,M110,O110)","v":0}]
["X-203",null,null,null,null,null,null,null,null,null,null,null,null,null,null,null,null,"",{"$f":"SUM(L111,N111,P111,R111)","v":0},null,{"$f":"SUM(K111,M111,O111)","v":0}]
["X-204",null,null,null,null,null,null,null,null,null,null,null,null,null,null,null,null,"",{"$f":"SUM(L112,N112,P112,R112)","v":0},null,{"$f":"SUM(K112,M112,O112)","v":0}]
[]
["Y-201",null,null,null,null,null,null,null,null,null,null,null,null,null,null,null,null,"",{"$f":"SUM(L114,N114,P114,R114)","v":0},null,{"$f":"SUM(K114,M114,O114)","v":0},null,null,null,{"$f":"SUM(S114,S116,S115,S117,-AB114)","v":0},null,null,{"$f":"MIN(S114:S117)","v":0}]
["Y-202",null,null,null,null,null,null,null,null,null,null,null,null,null,null,null,null,"",{"$f":"SUM(L115,N115,P115,R115)","v":0},null,{"$f":"SUM(K115,M115,O115)","v":0}]
["Y-203",null,null,null,null,null,null,null,null,null,null,null,null,null,null,null,null,"",{"$f":"SUM(L116,N116,P116,R116)","v":0},null,{"$f":"SUM(K116,M116,O116)","v":0}]
["Y-204",null,null,null,null,null,null,null,null,null,null,null,null,null,null,null,null,"",{"$f":"SUM(L117,N117,P117,R117)","v":0},null,{"$f":"SUM(K117,M117,O117)","v":0}]
[]
["Z-201",null,null,null,null,null,null,null,null,null,null,null,null,null,null,null,null,"",{"$f":"SUM(L119,N119,P119,R119)","v":0},null,{"$f":"SUM(K119,M119,O119)","v":0},null,null,null,{"$f":"SUM(S119,S121,S120,S122,-AB119)","v":0},null,null,{"$f":"MIN(S119:S122)","v":0}]
["Z-202",null,null,null,null,null,null,null,null,null,null,null,null,null,null,null,null,"",{"$f":"SUM(L120,N120,P120,R120)","v":0},null,{"$f":"SUM(K120,M120,O120)","v":0}]
["Z-203",null,null,null,null,null,null,null,null,null,null,null,null,null,null,null,null,"",{"$f":"SUM(L121,N121,P121,R121)","v":0},null,{"$f":"SUM(K121,M121,O121)","v":0}]
["Z-204",null,null,null,null,null,null,null,null,null,null,null,null,null,null,null,null,"",{"$f":"SUM(L122,N122,P122,R122)","v":0},null,{"$f":"SUM(K122,M122,O122)","v":0}]
[]
["AA-201",null,null,null,null,null,null,null,null,null,null,null,null,null,null,null,null,"",{"$f":"SUM(L124,N124,P124,R124)","v":0},null,{"$f":"SUM(K124,M124,O124)","v":0},null,null,null,{"$f":"SUM(S124,S126,S125,S127,-AB124)","v":0},null,null,{"$f":"MIN(S124:S127)","v":0}]
["AA-202",null,null,null,null,null,null,null,null,null,null,null,null,null,null,null,null,"",{"$f":"SUM(L125,N125,P125,R125)","v":0},null,{"$f":"SUM(K125,M125,O125)","v":0}]
["AA-203",null,null,null,null,null,null,null,null,null,null,null,null,null,null,null,null,"",{"$f":"SUM(L126,N126,P126,R126)","v":0},null,{"$f":"SUM(K126,M126,O126)","v":0}]
["AA-204",null,null,null,null,null,null,null,null,null,null,null,null,null,null,null,null,"",{"$f":"SUM(L127,N127,P127,R127)","v":0},null,{"$f":"SUM(K127,M127,O127)","v":0}]
[]
["BB-201",null,null,null,null,null,null,null,null,null,null,null,null,null,null,null,null,"",{"$f":"SUM(L129,N129,P129,R129)","v":0},null,{"$f":"SUM(K129,M129,O129)","v":0},null,null,null,{"$f":"SUM(S129,S131,S130,S132,-AB129)","v":0},null,null,{"$f":"MIN(S129:S132)","v":0}]
["BB-202",null,null,null,null,null,null,null,null,null,null,null,null,null,null,null,null,"",{"$f":"SUM(L130,N130,P130,R130)","v":0},null,{"$f":"SUM(K130,M130,O130)","v":0}]
["BB-203",null,null,null,null,null,null,null,null,null,null,null,null,null,null,null,null,"",{"$f":"SUM(L131,N131,P131,R131)","v":0},null,{"$f":"SUM(K131,M131,O131)","v":0}]
["BB-204",null,null,null,null,null,null,null,null,null,null,null,null,null,null,null,null,"",{"$f":"SUM(L132,N132,P132,R132)","v":0},null,{"$f":"SUM(K132,M132,O132)","v":0}]
[]
["CC-201",null,null,null,null,null,null,null,null,null,null,null,null,null,null,null,null,"",{"$f":"SUM(L134,N134,P134,R134)","v":0},null,{"$f":"SUM(K134,M134,O134)","v":0},null,null,null,{"$f":"SUM(S134,S136,S135,S137,-AB134)","v":0},null,null,{"$f":"MIN(S134:S137)","v":0}]
["CC-202",null,null,null,null,null,null,null,null,null,null,null,null,null,null,null,null,"",{"$f":"SUM(L135,N135,P135,R135)","v":0},null,{"$f":"SUM(K135,M135,O135)","v":0}]
["CC-203",null,null,null,null,null,null,null,null,null,null,null,null,null,null,null,null,"",{"$f":"SUM(L136,N136,P136,R136)","v":0},null,{"$f":"SUM(K136,M136,O136)","v":0}]
["CC-204",null,null,null,null,null,null,null,null,null,null,null,null,null,null,null,null,"",{"$f":"SUM(L137,N137,P137,R137)","v":0},null,{"$f":"SUM(K137,M137,O137)","v":0}]
[]
["DD-201",null,null,null,null,null,null,null,null,null,null,null,null,null,null,null,null,"",{"$f":"SUM(L139,N139,P139,R139)","v":0},null,{"$f":"SUM(K139,M139,O139)","v":0},null,null,null,{"$f":"SUM(S139,S141,S140,S142,-AB139)","v":0},null,null,{"$f":"MIN(S139:S142)","v":0}]
["DD-202",null,null,null,null,null,null,null,null,null,null,null,null,null,null,null,null,"",{"$f":"SUM(L140,N140,P140,R140)","v":0},null,{"$f":"SUM(K140,M140,O140)","v":0}]
["DD-203",null,null,null,null,null,null,null,null,null,null,null,null,null,null,null,null,"",{"$f":"SUM(L141,N141,P141,R141)","v":0},null,{"$f":"SUM(K141,M141,O141)","v":0}]
["DD-204",null,null,null,null,null,null,null,null,null,null,null,null,null,null,null,null,"",{"$f":"SUM(L142,N142,P142,R142)","v":0},null,{"$f":"SUM(K142,M142,O142)","v":0}]
[]
["EE-201",null,null,null,null,null,null,null,null,null,null,null,null,null,null,null,null,"",{"$f":"SUM(L144,N144,P144,R144)","v":0},null,{"$f":"SUM(K144,M144,O144)","v":0},null,null,null,{"$f":"SUM(S144,S146,S145,S147,-AB144)","v":0},null,null,{"$f":"MIN(S144:S147)","v":0}]
["EE-202",null,null,null,null,null,null,null,null,null,null,null,null,null,null,null,null,"",{"$f":"SUM(L145,N145,P145,R145)","v":0},null,{"$f":"SUM(K145,M145,O145)","v":0}]
["EE-203",null,null,null,null,null,null,null,null,null,null,null,null,null,null,null,null,"",{"$f":"SUM(L146,N146,P146,R146)","v":0},null,{"$f":"SUM(K146,M146,O146)","v":0}]
["EE-204",null,null,null,null,null,null,null,null,null,null,null,null,null,null,null,null,"",{"$f":"SUM(L147,N147,P147,R147)","v":0},null,{"$f":"SUM(K147,M147,O147)","v":0}]
[]
["FF-201",null,null,null,null,null,null,null,null,null,null,null,null,null,null,null,null,"",{"$f":"SUM(L149,N149,P149,R149)","v":0},null,{"$f":"SUM(K149,M149,O149)","v":0},null,null,null,{"$f":"SUM(S149,S151,S150,S152,-AB149)","v":0},null,null,{"$f":"MIN(S149:S152)","v":0}]
["FF-202",null,null,null,null,null,null,null,null,null,null,null,null,null,null,null,null,"",{"$f":"SUM(L150,N150,P150,R150)","v":0},null,{"$f":"SUM(K150,M150,O150)","v":0}]
["FF-203",null,null,null,null,null,null,null,null,null,null,null,null,null,null,null,null,"",{"$f":"SUM(L151,N151,P151,R151)","v":0},null,{"$f":"SUM(K151,M151,O151)","v":0}]
["FF-204",null,null,null,null,null,null,null,null,null,null,null,null,null,null,null,null,"",{"$f":"SUM(L152,N152,P152,R152)","v":0},null,{"$f":"SUM(K152,M152,O152)","v":0}]

{"sheet":"DramaticMR","index":4,"n_rows":122,"n_cols":12,"rows_kept":122,"cut":false,"hidden":false,"merged":[]}
["Dramatic",null,null,null,"Finals Medals Round Scores"]
["ID","Rank","Score","LeaveBlank","MR 1 Rank","MR 1 Score","MR2 Rank","MR 2 Score","MR3 Rank","MR 3 Score","Total MR Rank","Total MR Score"]
[{"$f":"Dramatic!A6","v":"A-203"},{"$f":"Dramatic!U6","v":6},{"$f":"Dramatic!S6","v":67},{"$f":"IF((Table710[[#This Row],[Rank]]+Table710[[#This Row],[Score]])>0,1,0)","v":1},5,23,3,23,1,25,{"$f":"SUM(E3,G3,I3)","v":9},{"$f":"SUM(F3,H3,J3)","v":71}]
[{"$f":"Dramatic!A20","v":"D-202"},{"$f":"Dramatic!U20","v":7},{"$f":"Dramatic!S20","v":67},{"$f":"IF((Table710[[#This Row],[Rank]]+Table710[[#This Row],[Score]])>0,1,0)","v":1},6,22,4,22,3,24,13,68]
[{"$f":"Dramatic!A24","v":"E-201"},{"$f":"Dramatic!U24","v":7},{"$f":"Dramatic!S24","v":66},{"$f":"IF((Table710[[#This Row],[Rank]]+Table710[[#This Row],[Score]])>0,1,0)","v":1},6,22,2,23,4,23,12,68]
[{"$f":"Dramatic!A36","v":"G-203"},{"$f":"Dramatic!U36","v":7},{"$f":"Dramatic!S36","v":62},{"$f":"IF((Table710[[#This Row],[Rank]]+Table710[[#This Row],[Score]])>0,1,0)","v":1},1,25,5,21,2,24,8,70]
[{"$f":"Dramatic!A37","v":"G-204"},{"$f":"Dramatic!U37","v":9},{"$f":"Dramatic!S37","v":66},{"$f":"IF((Table710[[#This Row],[Rank]]+Table710[[#This Row],[Score]])>0,1,0)","v":1},4,23,6,20,5,23,15,66]
[{"$f":"Dramatic!A14","v":"C-201"},{"$f":"Dramatic!U14","v":9},{"$f":"Dramatic!S14","v":63},{"$f":"IF((Table710[[#This Row],[Rank]]+Table710[[#This Row],[Score]])>0,1,0)","v":1},2,25,1,25,6,23,9,73]
[{"$f":"Dramatic!A5","v":"A-202"},{"$f":"Dramatic!U5","v":9},{"$f":"Dramatic!S5","v":60},{"$f":"IF((Table710[[#This Row],[Rank]]+Table710[[#This Row],[Score]])>0,1,0)","v":1},3,25,6,19,6,22,15,66]
[{"$f":"Dramatic!A10","v":"B-202"},{"$f":"Dramatic!U10","v":10},{"$f":"Dramatic!S10","v":67},{"$f":"IF((Table710[[#This Row],[Rank]]+Table710[[#This Row],[Score]])>0,1,0)","v":1},null,null,null,null,null,null,0,0]
[{"$f":"Dramatic!A34","v":"G-201"},{"$f":"Dramatic!U34","v":10},{"$f":"Dramatic!S34","v":60},{"$f":"IF((Table710[[#This Row],[Rank]]+Table710[[#This Row],[Score]])>0,1,0)","v":1},null,null,null,null,null,null,0,0]
[{"$f":"Dramatic!A35","v":"G-202"},{"$f":"Dramatic!U35","v":11},{"$f":"Dramatic!S35","v":63},{"$f":"IF((Table710[[#This Row],[Rank]]+Table710[[#This Row],[Score]])>0,1,0)","v":1},null,null,null,null,null,null,0,0]
[{"$f":"Dramatic!A4","v":"A-201"},{"$f":"Dramatic!U4","v":11},{"$f":"Dramatic!S4","v":61},{"$f":"IF((Table710[[#This Row],[Rank]]+Table710[[#This Row],[Score]])>0,1,0)","v":1},null,null,null,null,null,null,0,0]
[{"$f":"Dramatic!A19","v":"D-201"},{"$f":"Dramatic!U19","v":12},{"$f":"Dramatic!S19","v":64},{"$f":"IF((Table710[[#This Row],[Rank]]+Table710[[#This Row],[Score]])>0,1,0)","v":1},null,null,null,null,null,null,0,0]
[{"$f":"Dramatic!A7","v":"A-204"},{"$f":"Dramatic!U7","v":12},{"$f":"Dramatic!S7","v":63},{"$f":"IF((Table710[[#This Row],[Rank]]+Table710[[#This Row],[Score]])>0,1,0)","v":1},null,null,null,null,null,null,0,0]
[{"$f":"Dramatic!A124","v":"AA-201"},{"$f":"Dramatic!U124","v":0},{"$f":"Dramatic!S124","v":0},{"$f":"IF((Table710[[#This Row],[Rank]]+Table710[[#This Row],[Score]])>0,1,0)","v":0},null,null,null,null,null,null,0,0]
[{"$f":"Dramatic!A125","v":"AA-202"},{"$f":"Dramatic!U125","v":0},{"$f":"Dramatic!S125","v":0},{"$f":"IF((Table710[[#This Row],[Rank]]+Table710[[#This Row],[Score]])>0,1,0)","v":0},null,null,null,null,null,null,0,0]
[{"$f":"Dramatic!A126","v":"AA-203"},{"$f":"Dramatic!U126","v":0},{"$f":"Dramatic!S126","v":0},{"$f":"IF((Table710[[#This Row],[Rank]]+Table710[[#This Row],[Score]])>0,1,0)","v":0},null,null,null,null,null,null,0,0]
[{"$f":"Dramatic!A127","v":"AA-204"},{"$f":"Dramatic!U127","v":0},{"$f":"Dramatic!S127","v":0},{"$f":"IF((Table710[[#This Row],[Rank]]+Table710[[#This Row],[Score]])>0,1,0)","v":0},null,null,null,null,null,null,0,0]
[{"$f":"Dramatic!A11","v":"B-203"},{"$f":"Dramatic!U11","v":0},{"$f":"Dramatic!S11","v":0},{"$f":"IF((Table710[[#This Row],[Rank]]+Table710[[#This Row],[Score]])>0,1,0)","v":0},null,null,null,null,null,null,0,0]
[{"$f":"Dramatic!A9","v":"B-201"},{"$f":"Dramatic!U9","v":0},{"$f":"Dramatic!S9","v":0},{"$f":"IF((Table710[[#This Row],[Rank]]+Table710[[#This Row],[Score]])>0,1,0)","v":0},null,null,null,null,null,null,0,0]
[{"$f":"Dramatic!A12","v":"B-204"},{"$f":"Dramatic!U12","v":0},{"$f":"Dramatic!S12","v":0},{"$f":"IF((Table710[[#This Row],[Rank]]+Table710[[#This Row],[Score]])>0,1,0)","v":0},null,null,null,null,null,null,0,0]
[{"$f":"Dramatic!A129","v":"BB-201"},{"$f":"Dramatic!U129","v":0},{"$f":"Dramatic!S129","v":0},{"$f":"IF((Table710[[#This Row],[Rank]]+Table710[[#This Row],[Score]])>0,1,0)","v":0},null,null,null,null,null,null,0,0]
[{"$f":"Dramatic!A130","v":"BB-202"},{"$f":"Dramatic!U130","v":0},{"$f":"Dramatic!S130","v":0},{"$f":"IF((Table710[[#This Row],[Rank]]+Table710[[#This Row],[Score]])>0,1,0)","v":0},null,null,null,null,null,null,0,0]
[{"$f":"Dramatic!A131","v":"BB-203"},{"$f":"Dramatic!U131","v":0},{"$f":"Dramatic!S131","v":0},{"$f":"IF((Table710[[#This Row],[Rank]]+Table710[[#This Row],[Score]])>0,1,0)","v":0},null,null,null,null,null,null,0,0]
[{"$f":"Dramatic!A132","v":"BB-204"},{"$f":"Dramatic!U132","v":0},{"$f":"Dramatic!S132","v":0},{"$f":"IF((Table710[[#This Row],[Rank]]+Table710[[#This Row],[Score]])>0,1,0)","v":0},null,null,null,null,null,null,0,0]
[{"$f":"Dramatic!A15","v":"C-202"},{"$f":"Dramatic!U15","v":0},{"$f":"Dramatic!S15","v":0},{"$f":"IF((Table710[[#This Row],[Rank]]+Table710[[#This Row],[Score]])>0,1,0)","v":0},null,null,null,null,null,null,0,0]
[{"$f":"Dramatic!A16","v":"C-203"},{"$f":"Dramatic!U16","v":0},{"$f":"Dramatic!S16","v":0},{"$f":"IF((Table710[[#This Row],[Rank]]+Table710[[#This Row],[Score]])>0,1,0)","v":0},null,null,null,null,null,null,0,0]
[{"$f":"Dramatic!A17","v":"C-204"},{"$f":"Dramatic!U17","v":0},{"$f":"Dramatic!S17","v":0},{"$f":"IF((Table710[[#This Row],[Rank]]+Table710[[#This Row],[Score]])>0,1,0)","v":0},null,null,null,null,null,null,0,0]
[{"$f":"Dramatic!A134","v":"CC-201"},{"$f":"Dramatic!U134","v":0},{"$f":"Dramatic!S134","v":0},{"$f":"IF((Table710[[#This Row],[Rank]]+Table710[[#This Row],[Score]])>0,1,0)","v":0},null,null,null,null,null,null,0,0]
[{"$f":"Dramatic!A135","v":"CC-202"},{"$f":"Dramatic!U135","v":0},{"$f":"Dramatic!S135","v":0},{"$f":"IF((Table710[[#This Row],[Rank]]+Table710[[#This Row],[Score]])>0,1,0)","v":0},null,null,null,null,null,null,0,0]
[{"$f":"Dramatic!A136","v":"CC-203"},{"$f":"Dramatic!U136","v":0},{"$f":"Dramatic!S136","v":0},{"$f":"IF((Table710[[#This Row],[Rank]]+Table710[[#This Row],[Score]])>0,1,0)","v":0},null,null,null,null,null,null,0,0]
[{"$f":"Dramatic!A137","v":"CC-204"},{"$f":"Dramatic!U137","v":0},{"$f":"Dramatic!S137","v":0},{"$f":"IF((Table710[[#This Row],[Rank]]+Table710[[#This Row],[Score]])>0,1,0)","v":0},null,null,null,null,null,null,0,0]
[{"$f":"Dramatic!A21","v":"D-203"},{"$f":"Dramatic!U21","v":0},{"$f":"Dramatic!S21","v":0},{"$f":"IF((Table710[[#This Row],[Rank]]+Table710[[#This Row],[Score]])>0,1,0)","v":0},null,null,null,null,null,null,0,0]
[{"$f":"Dramatic!A22","v":"D-204"},{"$f":"Dramatic!U22","v":0},{"$f":"Dramatic!S22","v":0},{"$f":"IF((Table710[[#This Row],[Rank]]+Table710[[#This Row],[Score]])>0,1,0)","v":0},null,null,null,null,null,null,{"$f":"SUM(E35,G35,I35)","v":0},{"$f":"SUM(F35,H35,J35)","v":0}]
[{"$f":"Dramatic!A139","v":"DD-201"},{"$f":"Dramatic!U139","v":0},{"$f":"Dramatic!S139","v":0},{"$f":"IF((Table710[[#This Row],[Rank]]+Table710[[#This Row],[Score]])>0,1,0)","v":0},null,null,null,null,null,null,0,0]
[{"$f":"Dramatic!A140","v":"DD-202"},{"$f":"Dramatic!U140","v":0},{"$f":"Dramatic!S140","v":0},{"$f":"IF((Table710[[#This Row],[Rank]]+Table710[[#This Row],[Score]])>0,1,0)","v":0},null,null,null,null,null,null,0,0]
[{"$f":"Dramatic!A141","v":"DD-203"},{"$f":"Dramatic!U141","v":0},{"$f":"Dramatic!S141","v":0},{"$f":"IF((Table710[[#This Row],[Rank]]+Table710[[#This Row],[Score]])>0,1,0)","v":0},null,null,null,null,null,null,0,0]
[{"$f":"Dramatic!A142","v":"DD-204"},{"$f":"Dramatic!U142","v":0},{"$f":"Dramatic!S142","v":0},{"$f":"IF((Table710[[#This Row],[Rank]]+Table710[[#This Row],[Score]])>0,1,0)","v":0},null,null,null,null,null,null,0,0]
[{"$f":"Dramatic!A25","v":"E-202"},{"$f":"Dramatic!U25","v":0},{"$f":"Dramatic!S25","v":0},{"$f":"IF((Table710[[#This Row],[Rank]]+Table710[[#This Row],[Score]])>0,1,0)","v":0},null,null,null,null,null,null,0,0]
[{"$f":"Dramatic!A26","v":"E-203"},{"$f":"Dramatic!U26","v":0},{"$f":"Dramatic!S26","v":0},{"$f":"IF((Table710[[#This Row],[Rank]]+Table710[[#This Row],[Score]])>0,1,0)","v":0},null,null,null,null,null,null,0,0]
[{"$f":"Dramatic!A27","v":"E-204"},{"$f":"Dramatic!U27","v":0},{"$f":"Dramatic!S27","v":0},{"$f":"IF((Table710[[#This Row],[Rank]]+Table710[[#This Row],[Score]])>0,1,0)","v":0},null,null,null,null,null,null,0,0]
[{"$f":"Dramatic!A144","v":"EE-201"},{"$f":"Dramatic!U144","v":0},{"$f":"Dramatic!S144","v":0},{"$f":"IF((Table710[[#This Row],[Rank]]+Table710[[#This Row],[Score]])>0,1,0)","v":0},null,null,null,null,null,null,0,0]
[{"$f":"Dramatic!A145","v":"EE-202"},{"$f":"Dramatic!U145","v":0},{"$f":"Dramatic!S145","v":0},{"$f":"IF((Table710[[#This Row],[Rank]]+Table710[[#This Row],[Score]])>0,1,0)","v":0},null,null,null,null,null,null,0,0]
[{"$f":"Dramatic!A146","v":"EE-203"},{"$f":"Dramatic!U146","v":0},{"$f":"Dramatic!S146","v":0},{"$f":"IF((Table710[[#This Row],[Rank]]+Table710[[#This Row],[Score]])>0,1,0)","v":0},null,null,null,null,null,null,0,0]
[{"$f":"Dramatic!A147","v":"EE-204"},{"$f":"Dramatic!U147","v":0},{"$f":"Dramatic!S147","v":0},{"$f":"IF((Table710[[#This Row],[Rank]]+Table710[[#This Row],[Score]])>0,1,0)","v":0},null,null,null,null,null,null,0,0]
[{"$f":"Dramatic!A29","v":"F-201"},{"$f":"Dramatic!U29","v":0},{"$f":"Dramatic!S29","v":0},{"$f":"IF((Table710[[#This Row],[Rank]]+Table710[[#This Row],[Score]])>0,1,0)","v":0},null,null,null,null,null,null,0,0]
[{"$f":"Dramatic!A30","v":"F-202"},{"$f":"Dramatic!U30","v":0},{"$f":"Dramatic!S30","v":0},{"$f":"IF((Table710[[#This Row],[Rank]]+Table710[[#This Row],[Score]])>0,1,0)","v":0},null,null,null,null,null,null,0,0]
[{"$f":"Dramatic!A32","v":"F-204"},{"$f":"Dramatic!U32","v":0},{"$f":"Dramatic!S32","v":0},{"$f":"IF((Table710[[#This Row],[Rank]]+Table710[[#This Row],[Score]])>0,1,0)","v":0},null,null,null,null,null,null,0,0]
[{"$f":"Dramatic!A149","v":"FF-201"},{"$f":"Dramatic!U149","v":0},{"$f":"Dramatic!S149","v":0},{"$f":"IF((Table710[[#This Row],[Rank]]+Table710[[#This Row],[Score]])>0,1,0)","v":0},null,null,null,null,null,null,0,0]
[{"$f":"Dramatic!A150","v":"FF-202"},{"$f":"Dramatic!U150","v":0},{"$f":"Dramatic!S150","v":0},{"$f":"IF((Table710[[#This Row],[Rank]]+Table710[[#This Row],[Score]])>0,1,0)","v":0},null,null,null,null,null,null,0,0]
[{"$f":"Dramatic!A151","v":"FF-203"},{"$f":"Dramatic!U151","v":0},{"$f":"Dramatic!S151","v":0},{"$f":"IF((Table710[[#This Row],[Rank]]+Table710[[#This Row],[Score]])>0,1,0)","v":0},null,null,null,null,null,null,0,0]
[{"$f":"Dramatic!A152","v":"FF-204"},{"$f":"Dramatic!U152","v":0},{"$f":"Dramatic!S152","v":0},{"$f":"IF((Table710[[#This Row],[Rank]]+Table710[[#This Row],[Score]])>0,1,0)","v":0},null,null,null,null,null,null,0,0]
[{"$f":"Dramatic!A39","v":"H-201"},{"$f":"Dramatic!U39","v":0},{"$f":"Dramatic!S39","v":0},{"$f":"IF((Table710[[#This Row],[Rank]]+Table710[[#This Row],[Score]])>0,1,0)","v":0},null,null,null,null,null,null,0,0]
[{"$f":"Dramatic!A40","v":"H-202"},{"$f":"Dramatic!U40","v":0},{"$f":"Dramatic!S40","v":0},{"$f":"IF((Table710[[#This Row],[Rank]]+Table710[[#This Row],[Score]])>0,1,0)","v":0},null,null,null,null,null,null,0,0]
[{"$f":"Dramatic!A41","v":"H-203"},{"$f":"Dramatic!U41","v":0},{"$f":"Dramatic!S41","v":0},{"$f":"IF((Table710[[#This Row],[Rank]]+Table710[[#This Row],[Score]])>0,1,0)","v":0},null,null,null,null,null,null,0,0]
[{"$f":"Dramatic!A42","v":"H-204"},{"$f":"Dramatic!U42","v":0},{"$f":"Dramatic!S42","v":0},{"$f":"IF((Table710[[#This Row],[Rank]]+Table710[[#This Row],[Score]])>0,1,0)","v":0},null,null,null,null,null,null,0,0]
[{"$f":"Dramatic!A44","v":"J-201"},{"$f":"Dramatic!U44","v":0},{"$f":"Dramatic!S44","v":0},{"$f":"IF((Table710[[#This Row],[Rank]]+Table710[[#This Row],[Score]])>0,1,0)","v":0},null,null,null,null,null,null,0,0]
[{"$f":"Dramatic!A45","v":"J-202"},{"$f":"Dramatic!U45","v":0},{"$f":"Dramatic!S45","v":0},{"$f":"IF((Table710[[#This Row],[Rank]]+Table710[[#This Row],[Score]])>0,1,0)","v":0},null,null,null,null,null,null,0,0]
[{"$f":"Dramatic!A46","v":"J-203"},{"$f":"Dramatic!U46","v":0},{"$f":"Dramatic!S46","v":0},{"$f":"IF((Table710[[#This Row],[Rank]]+Table710[[#This Row],[Score]])>0,1,0)","v":0},null,null,null,null,null,null,0,0]
[{"$f":"Dramatic!A47","v":"J-204"},{"$f":"Dramatic!U47","v":0},{"$f":"Dramatic!S47","v":0},{"$f":"IF((Table710[[#This Row],[Rank]]+Table710[[#This Row],[Score]])>0,1,0)","v":0},null,null,null,null,null,null,0,0]
[{"$f":"Dramatic!A49","v":"K-201"},{"$f":"Dramatic!U49","v":0},{"$f":"Dramatic!S49","v":0},{"$f":"IF((Table710[[#This Row],[Rank]]+Table710[[#This Row],[Score]])>0,1,0)","v":0},null,null,null,null,null,null,0,0]
[{"$f":"Dramatic!A50","v":"K-202"},{"$f":"Dramatic!U50","v":0},{"$f":"Dramatic!S50","v":0},{"$f":"IF((Table710[[#This Row],[Rank]]+Table710[[#This Row],[Score]])>0,1,0)","v":0},null,null,null,null,null,null,0,0]
[{"$f":"Dramatic!A51","v":"K-203"},{"$f":"Dramatic!U51","v":0},{"$f":"Dramatic!S51","v":0},{"$f":"IF((Table710[[#This Row],[Rank]]+Table710[[#This Row],[Score]])>0,1,0)","v":0},null,null,null,null,null,null,0,0]
[{"$f":"Dramatic!A52","v":"K-204"},{"$f":"Dramatic!U52","v":0},{"$f":"Dramatic!S52","v":0},{"$f":"IF((Table710[[#This Row],[Rank]]+Table710[[#This Row],[Score]])>0,1,0)","v":0},null,null,null,null,null,null,0,0]
[{"$f":"Dramatic!A54","v":"L-201"},{"$f":"Dramatic!U54","v":0},{"$f":"Dramatic!S54","v":0},{"$f":"IF((Table710[[#This Row],[Rank]]+Table710[[#This Row],[Score]])>0,1,0)","v":0},null,null,null,null,null,null,0,0]
[{"$f":"Dramatic!A55","v":"L-202"},{"$f":"Dramatic!U55","v":0},{"$f":"Dramatic!S55","v":0},{"$f":"IF((Table710[[#This Row],[Rank]]+Table710[[#This Row],[Score]])>0,1,0)","v":0},null,null,null,null,null,null,{"$f":"SUM(E67,G67,I67)","v":0},{"$f":"SUM(F67,H67,J67)","v":0}]
[{"$f":"Dramatic!A56","v":"L-203"},{"$f":"Dramatic!U56","v":0},{"$f":"Dramatic!S56","v":0},{"$f":"IF((Table710[[#This Row],[Rank]]+Table710[[#This Row],[Score]])>0,1,0)","v":0},null,null,null,null,null,null,0,0]
[{"$f":"Dramatic!A57","v":"L-204"},{"$f":"Dramatic!U57","v":0},{"$f":"Dramatic!S57","v":0},{"$f":"IF((Table710[[#This Row],[Rank]]+Table710[[#This Row],[Score]])>0,1,0)","v":0},null,null,null,null,null,null,0,0]
[{"$f":"Dramatic!A59","v":"M-201"},{"$f":"Dramatic!U59","v":0},{"$f":"Dramatic!S59","v":0},{"$f":"IF((Table710[[#This Row],[Rank]]+Table710[[#This Row],[Score]])>0,1,0)","v":0},null,null,null,null,null,null,0,0]
[{"$f":"Dramatic!A60","v":"M-202"},{"$f":"Dramatic!U60","v":0},{"$f":"Dramatic!S60","v":0},{"$f":"IF((Table710[[#This Row],[Rank]]+Table710[[#This Row],[Score]])>0,1,0)","v":0},null,null,null,null,null,null,0,0]
[{"$f":"Dramatic!A61","v":"M-203"},{"$f":"Dramatic!U61","v":0},{"$f":"Dramatic!S61","v":0},{"$f":"IF((Table710[[#This Row],[Rank]]+Table710[[#This Row],[Score]])>0,1,0)","v":0},null,null,null,null,null,null,0,0]
[{"$f":"Dramatic!A62","v":"M-204"},{"$f":"Dramatic!U62","v":0},{"$f":"Dramatic!S62","v":0},{"$f":"IF((Table710[[#This Row],[Rank]]+Table710[[#This Row],[Score]])>0,1,0)","v":0},null,null,null,null,null,null,0,0]
[{"$f":"Dramatic!A64","v":"N-201"},{"$f":"Dramatic!U64","v":0},{"$f":"Dramatic!S64","v":0},{"$f":"IF((Table710[[#This Row],[Rank]]+Table710[[#This Row],[Score]])>0,1,0)","v":0},null,null,null,null,null,null,0,0]
[{"$f":"Dramatic!A65","v":"N-202"},{"$f":"Dramatic!U65","v":0},{"$f":"Dramatic!S65","v":0},{"$f":"IF((Table710[[#This Row],[Rank]]+Table710[[#This Row],[Score]])>0,1,0)","v":0},null,null,null,null,null,null,0,0]
[{"$f":"Dramatic!A66","v":"N-203"},{"$f":"Dramatic!U66","v":0},{"$f":"Dramatic!S66","v":0},{"$f":"IF((Table710[[#This Row],[Rank]]+Table710[[#This Row],[Score]])>0,1,0)","v":0},null,null,null,null,null,null,0,0]
[{"$f":"Dramatic!A67","v":"N-204"},{"$f":"Dramatic!U67","v":0},{"$f":"Dramatic!S67","v":0},{"$f":"IF((Table710[[#This Row],[Rank]]+Table710[[#This Row],[Score]])>0,1,0)","v":0},null,null,null,null,null,null,0,0]
[{"$f":"Dramatic!A69","v":"P-201"},{"$f":"Dramatic!U69","v":0},{"$f":"Dramatic!S69","v":0},{"$f":"IF((Table710[[#This Row],[Rank]]+Table710[[#This Row],[Score]])>0,1,0)","v":0},null,null,null,null,null,null,0,0]
[{"$f":"Dramatic!A70","v":"P-202"},{"$f":"Dramatic!U70","v":0},{"$f":"Dramatic!S70","v":0},{"$f":"IF((Table710[[#This Row],[Rank]]+Table710[[#This Row],[Score]])>0,1,0)","v":0},null,null,null,null,null,null,0,0]
[{"$f":"Dramatic!A71","v":"P-203"},{"$f":"Dramatic!U71","v":0},{"$f":"Dramatic!S71","v":0},{"$f":"IF((Table710[[#This Row],[Rank]]+Table710[[#This Row],[Score]])>0,1,0)","v":0},null,null,null,null,null,null,0,0]
[{"$f":"Dramatic!A72","v":"P-204"},{"$f":"Dramatic!U72","v":0},{"$f":"Dramatic!S72","v":0},{"$f":"IF((Table710[[#This Row],[Rank]]+Table710[[#This Row],[Score]])>0,1,0)","v":0},null,null,null,null,null,null,0,0]
[{"$f":"Dramatic!A74","v":"Q-201"},{"$f":"Dramatic!U74","v":0},{"$f":"Dramatic!S74","v":0},{"$f":"IF((Table710[[#This Row],[Rank]]+Table710[[#This Row],[Score]])>0,1,0)","v":0},null,null,null,null,null,null,0,0]
[{"$f":"Dramatic!A75","v":"Q-202"},{"$f":"Dramatic!U75","v":0},{"$f":"Dramatic!S75","v":0},{"$f":"IF((Table710[[#This Row],[Rank]]+Table710[[#This Row],[Score]])>0,1,0)","v":0},null,null,null,null,null,null,0,0]
[{"$f":"Dramatic!A76","v":"Q-203"},{"$f":"Dramatic!U76","v":0},{"$f":"Dramatic!S76","v":0},{"$f":"IF((Table710[[#This Row],[Rank]]+Table710[[#This Row],[Score]])>0,1,0)","v":0},null,null,null,null,null,null,0,0]
[{"$f":"Dramatic!A77","v":"Q-204"},{"$f":"Dramatic!U77","v":0},{"$f":"Dramatic!S77","v":0},{"$f":"IF((Table710[[#This Row],[Rank]]+Table710[[#This Row],[Score]])>0,1,0)","v":0},null,null,null,null,null,null,0,0]
[{"$f":"Dramatic!A79","v":"R-201"},{"$f":"Dramatic!U79","v":0},{"$f":"Dramatic!S79","v":0},{"$f":"IF((Table710[[#This Row],[Rank]]+Table710[[#This Row],[Score]])>0,1,0)","v":0},null,null,null,null,null,null,0,0]
[{"$f":"Dramatic!A80","v":"R-202"},{"$f":"Dramatic!U80","v":0},{"$f":"Dramatic!S80","v":0},{"$f":"IF((Table710[[#This Row],[Rank]]+Table710[[#This Row],[Score]])>0,1,0)","v":0},null,null,null,null,null,null,0,0]
[{"$f":"Dramatic!A81","v":"R-203"},{"$f":"Dramatic!U81","v":0},{"$f":"Dramatic!S81","v":0},{"$f":"IF((Table710[[#This Row],[Rank]]+Table710[[#This Row],[Score]])>0,1,0)","v":0},null,null,null,null,null,null,0,0]
[{"$f":"Dramatic!A82","v":"R-204"},{"$f":"Dramatic!U82","v":0},{"$f":"Dramatic!S82","v":0},{"$f":"IF((Table710[[#This Row],[Rank]]+Table710[[#This Row],[Score]])>0,1,0)","v":0},null,null,null,null,null,null,0,0]
[{"$f":"Dramatic!A84","v":"S-201"},{"$f":"Dramatic!U84","v":0},{"$f":"Dramatic!S84","v":0},{"$f":"IF((Table710[[#This Row],[Rank]]+Table710[[#This Row],[Score]])>0,1,0)","v":0},null,null,null,null,null,null,0,0]
[{"$f":"Dramatic!A85","v":"S-202"},{"$f":"Dramatic!U85","v":0},{"$f":"Dramatic!S85","v":0},{"$f":"IF((Table710[[#This Row],[Rank]]+Table710[[#This Row],[Score]])>0,1,0)","v":0},null,null,null,null,null,null,0,0]
[{"$f":"Dramatic!A86","v":"S-203"},{"$f":"Dramatic!U86","v":0},{"$f":"Dramatic!S86","v":0},{"$f":"IF((Table710[[#This Row],[Rank]]+Table710[[#This Row],[Score]])>0,1,0)","v":0},null,null,null,null,null,null,0,0]
[{"$f":"Dramatic!A87","v":"S-204"},{"$f":"Dramatic!U87","v":0},{"$f":"Dramatic!S87","v":0},{"$f":"IF((Table710[[#This Row],[Rank]]+Table710[[#This Row],[Score]])>0,1,0)","v":0},null,null,null,null,null,null,0,0]
[{"$f":"Dramatic!A89","v":"T-201"},{"$f":"Dramatic!U89","v":0},{"$f":"Dramatic!S89","v":0},{"$f":"IF((Table710[[#This Row],[Rank]]+Table710[[#This Row],[Score]])>0,1,0)","v":0},null,null,null,null,null,null,0,0]
[{"$f":"Dramatic!A90","v":"T-202"},{"$f":"Dramatic!U90","v":0},{"$f":"Dramatic!S90","v":0},{"$f":"IF((Table710[[#This Row],[Rank]]+Table710[[#This Row],[Score]])>0,1,0)","v":0},null,null,null,null,null,null,0,0]
[{"$f":"Dramatic!A91","v":"T-203"},{"$f":"Dramatic!U91","v":0},{"$f":"Dramatic!S91","v":0},{"$f":"IF((Table710[[#This Row],[Rank]]+Table710[[#This Row],[Score]])>0,1,0)","v":0},null,null,null,null,null,null,0,0]
[{"$f":"Dramatic!A92","v":"T-204"},{"$f":"Dramatic!U92","v":0},{"$f":"Dramatic!S92","v":0},{"$f":"IF((Table710[[#This Row],[Rank]]+Table710[[#This Row],[Score]])>0,1,0)","v":0},null,null,null,null,null,null,0,0]
[{"$f":"Dramatic!A94","v":"U-201"},{"$f":"Dramatic!U94","v":0},{"$f":"Dramatic!S94","v":0},{"$f":"IF((Table710[[#This Row],[Rank]]+Table710[[#This Row],[Score]])>0,1,0)","v":0},null,null,null,null,null,null,0,0]
[{"$f":"Dramatic!A95","v":"U-202"},{"$f":"Dramatic!U95","v":0},{"$f":"Dramatic!S95","v":0},{"$f":"IF((Table710[[#This Row],[Rank]]+Table710[[#This Row],[Score]])>0,1,0)","v":0},null,null,null,null,null,null,{"$f":"SUM(E99,G99,I99)","v":0},{"$f":"SUM(F99,H99,J99)","v":0}]
[{"$f":"Dramatic!A96","v":"U-203"},{"$f":"Dramatic!U96","v":0},{"$f":"Dramatic!S96","v":0},{"$f":"IF((Table710[[#This Row],[Rank]]+Table710[[#This Row],[Score]])>0,1,0)","v":0},null,null,null,null,null,null,0,0]
[{"$f":"Dramatic!A97","v":"U-204"},{"$f":"Dramatic!U97","v":0},{"$f":"Dramatic!S97","v":0},{"$f":"IF((Table710[[#This Row],[Rank]]+Table710[[#This Row],[Score]])>0,1,0)","v":0},null,null,null,null,null,null,0,0]
[{"$f":"Dramatic!A99","v":"V-201"},{"$f":"Dramatic!U99","v":0},{"$f":"Dramatic!S99","v":0},{"$f":"IF((Table710[[#This Row],[Rank]]+Table710[[#This Row],[Score]])>0,1,0)","v":0},null,null,null,null,null,null,0,0]
[{"$f":"Dramatic!A100","v":"V-202"},{"$f":"Dramatic!U100","v":0},{"$f":"Dramatic!S100","v":0},{"$f":"IF((Table710[[#This Row],[Rank]]+Table710[[#This Row],[Score]])>0,1,0)","v":0},null,null,null,null,null,null,0,0]
[{"$f":"Dramatic!A101","v":"V-203"},{"$f":"Dramatic!U101","v":0},{"$f":"Dramatic!S101","v":0},{"$f":"IF((Table710[[#This Row],[Rank]]+Table710[[#This Row],[Score]])>0,1,0)","v":0},null,null,null,null,null,null,0,0]
[{"$f":"Dramatic!A102","v":"V-204"},{"$f":"Dramatic!U102","v":0},{"$f":"Dramatic!S102","v":0},{"$f":"IF((Table710[[#This Row],[Rank]]+Table710[[#This Row],[Score]])>0,1,0)","v":0},null,null,null,null,null,null,0,0]
[{"$f":"Dramatic!A104","v":"W-201"},{"$f":"Dramatic!U104","v":0},{"$f":"Dramatic!S104","v":0},{"$f":"IF((Table710[[#This Row],[Rank]]+Table710[[#This Row],[Score]])>0,1,0)","v":0},null,null,null,null,null,null,0,0]
[{"$f":"Dramatic!A105","v":"W-202"},{"$f":"Dramatic!U105","v":0},{"$f":"Dramatic!S105","v":0},{"$f":"IF((Table710[[#This Row],[Rank]]+Table710[[#This Row],[Score]])>0,1,0)","v":0},null,null,null,null,null,null,0,0]
[{"$f":"Dramatic!A106","v":"W-203"},{"$f":"Dramatic!U106","v":0},{"$f":"Dramatic!S106","v":0},{"$f":"IF((Table710[[#This Row],[Rank]]+Table710[[#This Row],[Score]])>0,1,0)","v":0},null,null,null,null,null,null,0,0]
[{"$f":"Dramatic!A107","v":"W-204"},{"$f":"Dramatic!U107","v":0},{"$f":"Dramatic!S107","v":0},{"$f":"IF((Table710[[#This Row],[Rank]]+Table710[[#This Row],[Score]])>0,1,0)","v":0},null,null,null,null,null,null,0,0]
[{"$f":"Dramatic!A109","v":"X-201"},{"$f":"Dramatic!U109","v":0},{"$f":"Dramatic!S109","v":0},{"$f":"IF((Table710[[#This Row],[Rank]]+Table710[[#This Row],[Score]])>0,1,0)","v":0},null,null,null,null,null,null,0,0]
[{"$f":"Dramatic!A110","v":"X-202"},{"$f":"Dramatic!U110","v":0},{"$f":"Dramatic!S110","v":0},{"$f":"IF((Table710[[#This Row],[Rank]]+Table710[[#This Row],[Score]])>0,1,0)","v":0},null,null,null,null,null,null,0,0]
[{"$f":"Dramatic!A111","v":"X-203"},{"$f":"Dramatic!U111","v":0},{"$f":"Dramatic!S111","v":0},{"$f":"IF((Table710[[#This Row],[Rank]]+Table710[[#This Row],[Score]])>0,1,0)","v":0},null,null,null,null,null,null,0,0]
[{"$f":"Dramatic!A112","v":"X-204"},{"$f":"Dramatic!U112","v":0},{"$f":"Dramatic!S112","v":0},{"$f":"IF((Table710[[#This Row],[Rank]]+Table710[[#This Row],[Score]])>0,1,0)","v":0},null,null,null,null,null,null,0,0]
[{"$f":"Dramatic!A114","v":"Y-201"},{"$f":"Dramatic!U114","v":0},{"$f":"Dramatic!S114","v":0},{"$f":"IF((Table710[[#This Row],[Rank]]+Table710[[#This Row],[Score]])>0,1,0)","v":0},null,null,null,null,null,null,0,0]
[{"$f":"Dramatic!A115","v":"Y-202"},{"$f":"Dramatic!U115","v":0},{"$f":"Dramatic!S115","v":0},{"$f":"IF((Table710[[#This Row],[Rank]]+Table710[[#This Row],[Score]])>0,1,0)","v":0},null,null,null,null,null,null,0,0]
[{"$f":"Dramatic!A116","v":"Y-203"},{"$f":"Dramatic!U116","v":0},{"$f":"Dramatic!S116","v":0},{"$f":"IF((Table710[[#This Row],[Rank]]+Table710[[#This Row],[Score]])>0,1,0)","v":0},null,null,null,null,null,null,0,0]
[{"$f":"Dramatic!A117","v":"Y-204"},{"$f":"Dramatic!U117","v":0},{"$f":"Dramatic!S117","v":0},{"$f":"IF((Table710[[#This Row],[Rank]]+Table710[[#This Row],[Score]])>0,1,0)","v":0},null,null,null,null,null,null,0,0]
[{"$f":"Dramatic!A119","v":"Z-201"},{"$f":"Dramatic!U119","v":0},{"$f":"Dramatic!S119","v":0},{"$f":"IF((Table710[[#This Row],[Rank]]+Table710[[#This Row],[Score]])>0,1,0)","v":0},null,null,null,null,null,null,0,0]
[{"$f":"Dramatic!A120","v":"Z-202"},{"$f":"Dramatic!U120","v":0},{"$f":"Dramatic!S120","v":0},{"$f":"IF((Table710[[#This Row],[Rank]]+Table710[[#This Row],[Score]])>0,1,0)","v":0},null,null,null,null,null,null,0,0]
[{"$f":"Dramatic!A121","v":"Z-203"},{"$f":"Dramatic!U121","v":0},{"$f":"Dramatic!S121","v":0},{"$f":"IF((Table710[[#This Row],[Rank]]+Table710[[#This Row],[Score]])>0,1,0)","v":0},null,null,null,null,null,null,0,0]
[{"$f":"Dramatic!A122","v":"Z-204"},{"$f":"Dramatic!U122","v":0},{"$f":"Dramatic!S122","v":0},{"$f":"IF((Table710[[#This Row],[Rank]]+Table710[[#This Row],[Score]])>0,1,0)","v":0},null,null,null,null,null,null,0,0]
[{"$f":"Dramatic!A31","v":"F-203"},{"$f":"Dramatic!U31","v":0},{"$f":"Dramatic!S31","v":0},{"$f":"IF((Table710[[#This Row],[Rank]]+Table710[[#This Row],[Score]])>0,1,0)","v":0},null,null,null,null,null,null,0,0]

{"sheet":"Classical","index":5,"n_rows":152,"n_cols":31,"rows_kept":152,"cut":false,"hidden":false,"merged":[]}
["Classical Scenes",null,null,null,null,null,null,null,null,null,"Rank 1-4",null,null,null,null,null,null,null,null,null,null,null,null,"S","E","G","F",null,"1violation","2violations","3violations"]
[null,null,null,null,null,null,null,null,null,null,"Round 1:",null,"Round 2:",null,"Round 3:",null,"-2 for each",null,null,null,null,null,null,null,null,null,null,"Drops lowest from column q"]
[null,null,null,"Student Name",null,"Student Name",null,"Student Name",null,"Title of Piece","R1 rank","R1 score","R2 rank","R2 score","R3 rank","R3 score","Time Violations",null,"TOTAL SCORE",null,"TOTAL RANK",null,null,"TOTAL SCHOOL SWEEPS POINTS",null,null,null,"Drop Lowest"]
["A-301",null,null,"301 - Leah",null,"Luli",null,null,null,"Comedy Errors",4,25,3,20,3,23,null,{"$f":"IF(Q4=\"1violation\",-7*1,IF(Q4=\"2violations\",-7*2,IF(Q4=\"3violations\",-7*3,IF(Q4=\"\",\"\"))))","v":""},{"$f":"SUM(L4,N4,P4,R4)","v":68},null,{"$f":"SUM(K4,M4,O4)","v":10},null,null,null,{"$f":"SUM(S4,S6,S5,S7,-AB4)","v":136},null,null,{"$f":"MIN(S4:S7)","v":0}]
["A-302",null,null,"302 - Charles",null,"Connor",null,null,null,"Cyrano",3,25,4,20,4,23,null,{"$f":"IF(Q5=\"1violation\",-7*1,IF(Q5=\"2violations\",-7*2,IF(Q5=\"3violations\",-7*3,IF(Q5=\"\",\"\"))))","v":""},{"$f":"SUM(L5,N5,P5,R5)","v":68},null,{"$f":"SUM(K5,M5,O5)","v":11}]
["A-303",null,null,null,null,null,null,null,null,null,null,null,null,null,null,null,null,"",{"$f":"SUM(L6,N6,P6,R6)","v":0},null,{"$f":"SUM(K6,M6,O6)","v":0}]
["A-304",null,null,null,null,null,null,null,null,null,null,null,null,null,null,null,null,"",{"$f":"SUM(L7,N7,P7,R7)","v":0},null,{"$f":"SUM(K7,M7,O7)","v":0}]
[]
["B-301",null,null,null,null,null,null,null,null,null,null,null,null,null,null,null,null,"",{"$f":"SUM(L9,N9,P9,R9)","v":0},null,{"$f":"SUM(K9,M9,O9)","v":0},null,null,null,{"$f":"SUM(S9,S11,S10,S12,-AB9)","v":0},null,null,{"$f":"MIN(S9:S12)","v":0}]
["B-302",null,null,null,null,null,null,null,null,null,null,null,null,null,null,null,null,"",{"$f":"SUM(L10,N10,P10,R10)","v":0},null,{"$f":"SUM(K10,M10,O10)","v":0}]
["B-303",null,null,null,null,null,null,null,null,null,null,null,null,null,null,null,null,"",{"$f":"SUM(L11,N11,P11,R11)","v":0},null,{"$f":"SUM(K11,M11,O11)","v":0}]
["B-304",null,null,null,null,null,null,null,null,null,null,null,null,null,null,null,null,"",{"$f":"SUM(L12,N12,P12,R12)","v":0},null,{"$f":"SUM(K12,M12,O12)","v":0}]
[]
["C-301",null,null,null,null,null,null,null,null,null,null,null,null,null,null,null,null,"",{"$f":"SUM(L14,N14,P14,R14)","v":0},null,{"$f":"SUM(K14,M14,O14)","v":0},null,null,null,{"$f":"SUM(S14,S16,S15,S17,-AB14)","v":0},null,null,{"$f":"MIN(S14:S17)","v":0}]
["C-302",null,null,null,null,null,null,null,null,null,null,null,null,null,null,null,null,"",{"$f":"SUM(L15,N15,P15,R15)","v":0},null,{"$f":"SUM(K15,M15,O15)","v":0}]
["C-303",null,null,null,null,null,null,null,null,null,null,null,null,null,null,null,null,"",{"$f":"SUM(L16,N16,P16,R16)","v":0},null,{"$f":"SUM(K16,M16,O16)","v":0}]
["C-304",null,null,null,null,null,null,null,null,null,null,null,null,null,null,null,null,"",{"$f":"SUM(L17,N17,P17,R17)","v":0},null,{"$f":"SUM(K17,M17,O17)","v":0}]
[]
["D-301",null,null,null,null,null,null,null,null,null,null,null,null,null,null,null,null,"",{"$f":"SUM(L19,N19,P19,R19)","v":0},null,{"$f":"SUM(K19,M19,O19)","v":0},null,null,null,{"$f":"SUM(S19,S21,S20,S22,-AB19)","v":0},null,null,{"$f":"MIN(S19:S22)","v":0}]
["D-302",null,null,null,null,null,null,null,null,null,null,null,null,null,null,null,null,"",{"$f":"SUM(L20,N20,P20,R20)","v":0},null,{"$f":"SUM(K20,M20,O20)","v":0}]
["D-303",null,null,null,null,null,null,null,null,null,null,null,null,null,null,null,null,"",{"$f":"SUM(L21,N21,P21,R21)","v":0},null,{"$f":"SUM(K21,M21,O21)","v":0}]
["D-304",null,null,null,null,null,null,null,null,null,null,null,null,null,null,null,null,"",{"$f":"SUM(L22,N22,P22,R22)","v":0},null,{"$f":"SUM(K22,M22,O22)","v":0}]
[]
["E-301",null,null,null,null,null,null,null,null,null,null,null,null,null,null,null,null,"",{"$f":"SUM(L24,N24,P24,R24)","v":0},null,{"$f":"SUM(K24,M24,O24)","v":0},null,null,null,{"$f":"SUM(S24,S26,S25,S27,-AB24)","v":0},null,null,{"$f":"MIN(S24:S27)","v":0}]
["E-302",null,null,null,null,null,null,null,null,null,null,null,null,null,null,null,null,"",{"$f":"SUM(L25,N25,P25,R25)","v":0},null,{"$f":"SUM(K25,M25,O25)","v":0}]
["E-303",null,null,null,null,null,null,null,null,null,null,null,null,null,null,null,null,"",{"$f":"SUM(L26,N26,P26,R26)","v":0},null,{"$f":"SUM(K26,M26,O26)","v":0}]
["E-304",null,null,null,null,null,null,null,null,null,null,null,null,null,null,null,null,"",{"$f":"SUM(L27,N27,P27,R27)","v":0},null,{"$f":"SUM(K27,M27,O27)","v":0}]
[]
["F-301",null,null,null,null,null,null,null,null,null,null,null,null,null,null,null,null,"",{"$f":"SUM(L29,N29,P29,R29)","v":0},null,{"$f":"SUM(K29,M29,O29)","v":0},null,null,null,{"$f":"SUM(S29,S31,S30,S32,-AB29)","v":0},null,null,{"$f":"MIN(S29:S32)","v":0}]
["F-302",null,null,null,null,null,null,null,null,null,null,null,null,null,null,null,null,"",{"$f":"SUM(L30,N30,P30,R30)","v":0},null,{"$f":"SUM(K30,M30,O30)","v":0}]
["F-303",null,null,null,null,null,null,null,null,null,null,null,null,null,null,null,null,"",{"$f":"SUM(L31,N31,P31,R31)","v":0},null,{"$f":"SUM(K31,M31,O31)","v":0}]
["F-304",null,null,null,null,null,null,null,null,null,null,null,null,null,null,null,null,"",{"$f":"SUM(L32,N32,P32,R32)","v":0},null,{"$f":"SUM(K32,M32,O32)","v":0}]
[]
["G-301",null,null,"303 - Gabriella Ehmann",null,"Luke Thrail",null,null,null,"Taming of the..",2,25,1,23,1,25,null,"",{"$f":"SUM(L34,N34,P34,R34)","v":73},null,{"$f":"SUM(K34,M34,O34)","v":4},null,null,null,{"$f":"SUM(S34,S36,S35,S37,-AB34)","v":73},null,null,{"$f":"MIN(S34:S37)","v":0}]
["G-302",null,null,null,null,null,null,null,null,null,null,null,null,null,null,null,null,"",{"$f":"SUM(L35,N35,P35,R35)","v":0},null,{"$f":"SUM(K35,M35,O35)","v":0}]
["G-303",null,null,null,null,null,null,null,null,null,null,null,null,null,null,null,null,"",{"$f":"SUM(L36,N36,P36,R36)","v":0},null,{"$f":"SUM(K36,M36,O36)","v":0}]
["G-304",null,null,null,null,null,null,null,null,null,null,null,null,null,null,null,null,"",{"$f":"SUM(L37,N37,P37,R37)","v":0},null,{"$f":"SUM(K37,M37,O37)","v":0}]
[]
["H-301",null,null,null,null,null,null,null,null,null,null,null,null,null,null,null,null,"",{"$f":"SUM(L39,N39,P39,R39)","v":0},null,{"$f":"SUM(K39,M39,O39)","v":0},null,null,null,{"$f":"SUM(S39,S41,S40,S42,-AB39)","v":0},null,null,{"$f":"MIN(S39:S42)","v":0}]
["H-302",null,null,null,null,null,null,null,null,null,null,null,null,null,null,null,null,"",{"$f":"SUM(L40,N40,P40,R40)","v":0},null,{"$f":"SUM(K40,M40,O40)","v":0}]
["H-303",null,null,null,null,null,null,null,null,null,null,null,null,null,null,null,null,"",{"$f":"SUM(L41,N41,P41,R41)","v":0},null,{"$f":"SUM(K41,M41,O41)","v":0}]
["H-304",null,null,null,null,null,null,null,null,null,null,null,null,null,null,null,null,"",{"$f":"SUM(L42,N42,P42,R42)","v":0},null,{"$f":"SUM(K42,M42,O42)","v":0}]
[]
["J-301",null,null,null,null,null,null,null,null,null,null,null,null,null,null,null,null,"",{"$f":"SUM(L44,N44,P44,R44)","v":0},null,{"$f":"SUM(K44,M44,O44)","v":0},null,null,null,{"$f":"SUM(S44,S46,S45,S47,-AB44)","v":0},null,null,{"$f":"MIN(S44:S47)","v":0}]
["J-302",null,null,null,null,null,null,null,null,null,null,null,null,null,null,null,null,"",{"$f":"SUM(L45,N45,P45,R45)","v":0},null,{"$f":"SUM(K45,M45,O45)","v":0}]
["J-303",null,null,null,null,null,null,null,null,null,null,null,null,null,null,null,null,"",{"$f":"SUM(L46,N46,P46,R46)","v":0},null,{"$f":"SUM(K46,M46,O46)","v":0}]
["J-304",null,null,null,null,null,null,null,null,null,null,null,null,null,null,null,null,"",{"$f":"SUM(L47,N47,P47,R47)","v":0},null,{"$f":"SUM(K47,M47,O47)","v":0}]
[]
["K-301",null,null,"304 - Korban Murphy",null,"Gannon Murphy",null,"Cash Reil",null,"Being Earnest",1,25,2,23,2,25,null,"",{"$f":"SUM(L49,N49,P49,R49)","v":73},null,{"$f":"SUM(K49,M49,O49)","v":5},null,null,null,{"$f":"SUM(S49,S51,S50,S52,-AB49)","v":73},null,null,{"$f":"MIN(S49:S52)","v":0}]
["K-302",null,null,null,null,null,null,null,null,null,null,null,null,null,null,null,null,"",{"$f":"SUM(L50,N50,P50,R50)","v":0},null,{"$f":"SUM(K50,M50,O50)","v":0}]
["K-303",null,null,null,null,null,null,null,null,null,null,null,null,null,null,null,null,"",{"$f":"SUM(L51,N51,P51,R51)","v":0},null,{"$f":"SUM(K51,M51,O51)","v":0}]
["K-304",null,null,null,null,null,null,null,null,null,null,null,null,null,null,null,null,"",{"$f":"SUM(L52,N52,P52,R52)","v":0},null,{"$f":"SUM(K52,M52,O52)","v":0}]
[]
["L-301",null,null,null,null,null,null,null,null,null,null,null,null,null,null,null,null,"",{"$f":"SUM(L54,N54,P54,R54)","v":0},null,{"$f":"SUM(K54,M54,O54)","v":0},null,null,null,{"$f":"SUM(S54,S56,S55,S57,-AB54)","v":0},null,null,{"$f":"MIN(S54:S57)","v":0}]
["L-302",null,null,null,null,null,null,null,null,null,null,null,null,null,null,null,null,"",{"$f":"SUM(L55,N55,P55,R55)","v":0},null,{"$f":"SUM(K55,M55,O55)","v":0}]
["L-303",null,null,null,null,null,null,null,null,null,null,null,null,null,null,null,null,"",{"$f":"SUM(L56,N56,P56,R56)","v":0},null,{"$f":"SUM(K56,M56,O56)","v":0}]
["L-304",null,null,null,null,null,null,null,null,null,null,null,null,null,null,null,null,"",{"$f":"SUM(L57,N57,P57,R57)","v":0},null,{"$f":"SUM(K57,M57,O57)","v":0}]
[]
["M-301",null,null,null,null,null,null,null,null,null,null,null,null,null,null,null,null,"",{"$f":"SUM(L59,N59,P59,R59)","v":0},null,{"$f":"SUM(K59,M59,O59)","v":0},null,null,null,{"$f":"SUM(S59,S61,S60,S62,-AB59)","v":0},null,null,{"$f":"MIN(S59:S62)","v":0}]
["M-302",null,null,null,null,null,null,null,null,null,null,null,null,null,null,null,null,"",{"$f":"SUM(L60,N60,P60,R60)","v":0},null,{"$f":"SUM(K60,M60,O60)","v":0}]
["M-303",null,null,null,null,null,null,null,null,null,null,null,null,null,null,null,null,"",{"$f":"SUM(L61,N61,P61,R61)","v":0},null,{"$f":"SUM(K61,M61,O61)","v":0}]
["M-304",null,null,null,null,null,null,null,null,null,null,null,null,null,null,null,null,"",{"$f":"SUM(L62,N62,P62,R62)","v":0},null,{"$f":"SUM(K62,M62,O62)","v":0}]
[]
["N-301",null,null,null,null,null,null,null,null,null,null,null,null,null,null,null,null,"",{"$f":"SUM(L64,N64,P64,R64)","v":0},null,{"$f":"SUM(K64,M64,O64)","v":0},null,null,null,{"$f":"SUM(S64,S66,S65,S67,-AB64)","v":0},null,null,{"$f":"MIN(S64:S67)","v":0}]
["N-302",null,null,null,null,null,null,null,null,null,null,null,null,null,null,null,null,"",{"$f":"SUM(L65,N65,P65,R65)","v":0},null,{"$f":"SUM(K65,M65,O65)","v":0}]
["N-303",null,null,null,null,null,null,null,null,null,null,null,null,null,null,null,null,"",{"$f":"SUM(L66,N66,P66,R66)","v":0},null,{"$f":"SUM(K66,M66,O66)","v":0}]
["N-304",null,null,null,null,null,null,null,null,null,null,null,null,null,null,null,null,"",{"$f":"SUM(L67,N67,P67,R67)","v":0},null,{"$f":"SUM(K67,M67,O67)","v":0}]
[]
["P-301",null,null,null,null,null,null,null,null,null,null,null,null,null,null,null,null,{"$f":"IF(Q69=\"1violation\",-7*1,IF(Q69=\"2violations\",-7*2,IF(Q69=\"3violations\",-7*3,IF(Q69=\"\",\"\"))))","v":""},{"$f":"SUM(L69,N69,P69,R69)","v":0},null,{"$f":"SUM(K69,M69,O69)","v":0},null,null,null,{"$f":"SUM(S69,S71,S70,S72,-AB69)","v":0},null,null,{"$f":"MIN(S69:S72)","v":0}]
["P-302",null,null,null,null,null,null,null,null,null,null,null,null,null,null,null,null,"",{"$f":"SUM(L70,N70,P70,R70)","v":0},null,{"$f":"SUM(K70,M70,O70)","v":0}]
["P-303",null,null,null,null,null,null,null,null,null,null,null,null,null,null,null,null,"",{"$f":"SUM(L71,N71,P71,R71)","v":0},null,{"$f":"SUM(K71,M71,O71)","v":0}]
["P-304",null,null,null,null,null,null,null,null,null,null,null,null,null,null,null,null,"",{"$f":"SUM(L72,N72,P72,R72)","v":0},null,{"$f":"SUM(K72,M72,O72)","v":0}]
[]
["Q-301",null,null,null,null,null,null,null,null,null,null,null,null,null,null,null,null,"",{"$f":"SUM(L74,N74,P74,R74)","v":0},null,{"$f":"SUM(K74,M74,O74)","v":0},null,null,null,{"$f":"SUM(S74,S76,S75,S77,-AB74)","v":0},null,null,{"$f":"MIN(S74:S77)","v":0}]
["Q-302",null,null,null,null,null,null,null,null,null,null,null,null,null,null,null,null,"",{"$f":"SUM(L75,N75,P75,R75)","v":0},null,{"$f":"SUM(K75,M75,O75)","v":0}]
["Q-303",null,null,null,null,null,null,null,null,null,null,null,null,null,null,null,null,"",{"$f":"SUM(L76,N76,P76,R76)","v":0},null,{"$f":"SUM(K76,M76,O76)","v":0}]
["Q-304",null,null,null,null,null,null,null,null,null,null,null,null,null,null,null,null,"",{"$f":"SUM(L77,N77,P77,R77)","v":0},null,{"$f":"SUM(K77,M77,O77)","v":0}]
[]
["R-301",null,null,null,null,null,null,null,null,null,null,null,null,null,null,null,null,"",{"$f":"SUM(L79,N79,P79,R79)","v":0},null,{"$f":"SUM(K79,M79,O79)","v":0},null,null,null,{"$f":"SUM(S79,S81,S80,S82,-AB79)","v":0},null,null,{"$f":"MIN(S79:S82)","v":0}]
["R-302",null,null,null,null,null,null,null,null,null,null,null,null,null,null,null,null,"",{"$f":"SUM(L80,N80,P80,R80)","v":0},null,{"$f":"SUM(K80,M80,O80)","v":0}]
["R-303",null,null,null,null,null,null,null,null,null,null,null,null,null,null,null,null,"",{"$f":"SUM(L81,N81,P81,R81)","v":0},null,{"$f":"SUM(K81,M81,O81)","v":0}]
["R-304",null,null,null,null,null,null,null,null,null,null,null,null,null,null,null,null,"",{"$f":"SUM(L82,N82,P82,R82)","v":0},null,{"$f":"SUM(K82,M82,O82)","v":0}]
[]
["S-301",null,null,null,null,null,null,null,null,null,null,null,null,null,null,null,null,"",{"$f":"SUM(L84,N84,P84,R84)","v":0},null,{"$f":"SUM(K84,M84,O84)","v":0},null,null,null,{"$f":"SUM(S84,S86,S85,S87,-AB84)","v":0},null,null,{"$f":"MIN(S84:S87)","v":0}]
["S-302",null,null,null,null,null,null,null,null,null,null,null,null,null,null,null,null,"",{"$f":"SUM(L85,N85,P85,R85)","v":0},null,{"$f":"SUM(K85,M85,O85)","v":0}]
["S-303",null,null,null,null,null,null,null,null,null,null,null,null,null,null,null,null,"",{"$f":"SUM(L86,N86,P86,R86)","v":0},null,{"$f":"SUM(K86,M86,O86)","v":0}]
["S-304",null,null,null,null,null,null,null,null,null,null,null,null,null,null,null,null,"",{"$f":"SUM(L87,N87,P87,R87)","v":0},null,{"$f":"SUM(K87,M87,O87)","v":0}]
[]
["T-301",null,null,null,null,null,null,null,null,null,null,null,null,null,null,null,null,"",{"$f":"SUM(L89,N89,P89,R89)","v":0},null,{"$f":"SUM(K89,M89,O89)","v":0},null,null,null,{"$f":"SUM(S89,S91,S90,S92,-AB89)","v":0},null,null,{"$f":"MIN(S89:S92)","v":0}]
["T-302",null,null,null,null,null,null,null,null,null,null,null,null,null,null,null,null,"",{"$f":"SUM(L90,N90,P90,R90)","v":0},null,{"$f":"SUM(K90,M90,O90)","v":0}]
["T-303",null,null,null,null,null,null,null,null,null,null,null,null,null,null,null,null,"",{"$f":"SUM(L91,N91,P91,R91)","v":0},null,{"$f":"SUM(K91,M91,O91)","v":0}]
["T-304",null,null,null,null,null,null,null,null,null,null,null,null,null,null,null,null,"",{"$f":"SUM(L92,N92,P92,R92)","v":0},null,{"$f":"SUM(K92,M92,O92)","v":0}]
[]
["U-301",null,null,null,null,null,null,null,null,null,null,null,null,null,null,null,null,"",{"$f":"SUM(L94,N94,P94,R94)","v":0},null,{"$f":"SUM(K94,M94,O94)","v":0},null,null,null,{"$f":"SUM(S94,S96,S95,S97,-AB94)","v":0},null,null,{"$f":"MIN(S94:S97)","v":0}]
["U-302",null,null,null,null,null,null,null,null,null,null,null,null,null,null,null,null,"",{"$f":"SUM(L95,N95,P95,R95)","v":0},null,{"$f":"SUM(K95,M95,O95)","v":0}]
["U-303",null,null,null,null,null,null,null,null,null,null,null,null,null,null,null,null,"",{"$f":"SUM(L96,N96,P96,R96)","v":0},null,{"$f":"SUM(K96,M96,O96)","v":0}]
["U-304",null,null,null,null,null,null,null,null,null,null,null,null,null,null,null,null,"",{"$f":"SUM(L97,N97,P97,R97)","v":0},null,{"$f":"SUM(K97,M97,O97)","v":0}]
[]
["V-301",null,null,null,null,null,null,null,null,null,null,null,null,null,null,null,null,"",{"$f":"SUM(L99,N99,P99,R99)","v":0},null,{"$f":"SUM(K99,M99,O99)","v":0},null,null,null,{"$f":"SUM(S99,S101,S100,S102,-AB99)","v":0},null,null,{"$f":"MIN(S99:S102)","v":0}]
["V-302",null,null,null,null,null,null,null,null,null,null,null,null,null,null,null,null,"",{"$f":"SUM(L100,N100,P100,R100)","v":0},null,{"$f":"SUM(K100,M100,O100)","v":0}]
["V-303",null,null,null,null,null,null,null,null,null,null,null,null,null,null,null,null,"",{"$f":"SUM(L101,N101,P101,R101)","v":0},null,{"$f":"SUM(K101,M101,O101)","v":0}]
["V-304",null,null,null,null,null,null,null,null,null,null,null,null,null,null,null,null,"",{"$f":"SUM(L102,N102,P102,R102)","v":0},null,{"$f":"SUM(K102,M102,O102)","v":0}]
[]
["W-301",null,null,null,null,null,null,null,null,null,null,null,null,null,null,null,null,"",{"$f":"SUM(L104,N104,P104,R104)","v":0},null,{"$f":"SUM(K104,M104,O104)","v":0},null,null,null,{"$f":"SUM(S104,S106,S105,S107,-AB104)","v":0},null,null,{"$f":"MIN(S104:S107)","v":0}]
["W-302",null,null,null,null,null,null,null,null,null,null,null,null,null,null,null,null,"",{"$f":"SUM(L105,N105,P105,R105)","v":0},null,{"$f":"SUM(K105,M105,O105)","v":0}]
["W-303",null,null,null,null,null,null,null,null,null,null,null,null,null,null,null,null,"",{"$f":"SUM(L106,N106,P106,R106)","v":0},null,{"$f":"SUM(K106,M106,O106)","v":0}]
["W-304",null,null,null,null,null,null,null,null,null,null,null,null,null,null,null,null,"",{"$f":"SUM(L107,N107,P107,R107)","v":0},null,{"$f":"SUM(K107,M107,O107)","v":0}]
[]
["X-301",null,null,null,null,null,null,null,null,null,null,null,null,null,null,null,null,"",{"$f":"SUM(L109,N109,P109,R109)","v":0},null,{"$f":"SUM(K109,M109,O109)","v":0},null,null,null,{"$f":"SUM(S109,S111,S110,S112,-AB109)","v":0},null,null,{"$f":"MIN(S109:S112)","v":0}]
["X-302",null,null,null,null,null,null,null,null,null,null,null,null,null,null,null,null,"",{"$f":"SUM(L110,N110,P110,R110)","v":0},null,{"$f":"SUM(K110,M110,O110)","v":0}]
["X-303",null,null,null,null,null,null,null,null,null,null,null,null,null,null,null,null,"",{"$f":"SUM(L111,N111,P111,R111)","v":0},null,{"$f":"SUM(K111,M111,O111)","v":0}]
["X-304",null,null,null,null,null,null,null,null,null,null,null,null,null,null,null,null,"",{"$f":"SUM(L112,N112,P112,R112)","v":0},null,{"$f":"SUM(K112,M112,O112)","v":0}]
[]
["Y-301",null,null,null,null,null,null,null,null,null,null,null,null,null,null,null,null,"",{"$f":"SUM(L114,N114,P114,R114)","v":0},null,{"$f":"SUM(K114,M114,O114)","v":0},null,null,null,{"$f":"SUM(S114,S116,S115,S117,-AB114)","v":0},null,null,{"$f":"MIN(S114:S117)","v":0}]
["Y-302",null,null,null,null,null,null,null,null,null,null,null,null,null,null,null,null,"",{"$f":"SUM(L115,N115,P115,R115)","v":0},null,{"$f":"SUM(K115,M115,O115)","v":0}]
["Y-303",null,null,null,null,null,null,null,null,null,null,null,null,null,null,null,null,"",{"$f":"SUM(L116,N116,P116,R116)","v":0},null,{"$f":"SUM(K116,M116,O116)","v":0}]
["Y-304",null,null,null,null,null,null,null,null,null,null,null,null,null,null,null,null,"",{"$f":"SUM(L117,N117,P117,R117)","v":0},null,{"$f":"SUM(K117,M117,O117)","v":0}]
[]
["Z-301",null,null,null,null,null,null,null,null,null,null,null,null,null,null,null,null,"",{"$f":"SUM(L119,N119,P119,R119)","v":0},null,{"$f":"SUM(K119,M119,O119)","v":0},null,null,null,{"$f":"SUM(S119,S121,S120,S122,-AB119)","v":0},null,null,{"$f":"MIN(S119:S122)","v":0}]
["Z-302",null,null,null,null,null,null,null,null,null,null,null,null,null,null,null,null,"",{"$f":"SUM(L120,N120,P120,R120)","v":0},null,{"$f":"SUM(K120,M120,O120)","v":0}]
["Z-303",null,null,null,null,null,null,null,null,null,null,null,null,null,null,null,null,"",{"$f":"SUM(L121,N121,P121,R121)","v":0},null,{"$f":"SUM(K121,M121,O121)","v":0}]
["Z-304",null,null,null,null,null,null,null,null,null,null,null,null,null,null,null,null,"",{"$f":"SUM(L122,N122,P122,R122)","v":0},null,{"$f":"SUM(K122,M122,O122)","v":0}]
[]
["AA-301",null,null,null,null,null,null,null,null,null,null,null,null,null,null,null,null,"",{"$f":"SUM(L124,N124,P124,R124)","v":0},null,{"$f":"SUM(K124,M124,O124)","v":0},null,null,null,{"$f":"SUM(S124,S126,S125,S127,-AB124)","v":0},null,null,{"$f":"MIN(S124:S127)","v":0}]
["AA-302",null,null,null,null,null,null,null,null,null,null,null,null,null,null,null,null,"",{"$f":"SUM(L125,N125,P125,R125)","v":0},null,{"$f":"SUM(K125,M125,O125)","v":0}]
["AA-303",null,null,null,null,null,null,null,null,null,null,null,null,null,null,null,null,"",{"$f":"SUM(L126,N126,P126,R126)","v":0},null,{"$f":"SUM(K126,M126,O126)","v":0}]
["AA-304",null,null,null,null,null,null,null,null,null,null,null,null,null,null,null,null,"",{"$f":"SUM(L127,N127,P127,R127)","v":0},null,{"$f":"SUM(K127,M127,O127)","v":0}]
[]
["BB-301",null,null,null,null,null,null,null,null,null,null,null,null,null,null,null,null,"",{"$f":"SUM(L129,N129,P129,R129)","v":0},null,{"$f":"SUM(K129,M129,O129)","v":0},null,null,null,{"$f":"SUM(S129,S131,S130,S132,-AB129)","v":0},null,null,{"$f":"MIN(S129:S132)","v":0}]
["BB-302",null,null,null,null,null,null,null,null,null,null,null,null,null,null,null,null,"",{"$f":"SUM(L130,N130,P130,R130)","v":0},null,{"$f":"SUM(K130,M130,O130)","v":0}]
["BB-303",null,null,null,null,null,null,null,null,null,null,null,null,null,null,null,null,"",{"$f":"SUM(L131,N131,P131,R131)","v":0},null,{"$f":"SUM(K131,M131,O131)","v":0}]
["BB-304",null,null,null,null,null,null,null,null,null,null,null,null,null,null,null,null,"",{"$f":"SUM(L132,N132,P132,R132)","v":0},null,{"$f":"SUM(K132,M132,O132)","v":0}]
[]
["CC-301",null,null,null,null,null,null,null,null,null,null,null,null,null,null,null,null,{"$f":"IF(Q134=\"1violation\",-7*1,IF(Q134=\"2violations\",-7*2,IF(Q134=\"3violations\",-7*3,IF(Q134=\"\",\"\"))))","v":""},{"$f":"SUM(L134,N134,P134,R134)","v":0},null,{"$f":"SUM(K134,M134,O134)","v":0},null,null,null,{"$f":"SUM(S134,S136,S135,S137,-AB134)","v":0},null,null,{"$f":"MIN(S134:S137)","v":0}]
["CC-302",null,null,null,null,null,null,null,null,null,null,null,null,null,null,null,null,"",{"$f":"SUM(L135,N135,P135,R135)","v":0},null,{"$f":"SUM(K135,M135,O135)","v":0}]
["CC-303",null,null,null,null,null,null,null,null,null,null,null,null,null,null,null,null,"",{"$f":"SUM(L136,N136,P136,R136)","v":0},null,{"$f":"SUM(K136,M136,O136)","v":0}]
["CC-304",null,null,null,null,null,null,null,null,null,null,null,null,null,null,null,null,"",{"$f":"SUM(L137,N137,P137,R137)","v":0},null,{"$f":"SUM(K137,M137,O137)","v":0}]
[]
["DD-301",null,null,null,null,null,null,null,null,null,null,null,null,null,null,null,null,"",{"$f":"SUM(L139,N139,P139,R139)","v":0},null,{"$f":"SUM(K139,M139,O139)","v":0},null,null,null,{"$f":"SUM(S139,S141,S140,S142,-AB139)","v":0},null,null,{"$f":"MIN(S139:S142)","v":0}]
["DD-302",null,null,null,null,null,null,null,null,null,null,null,null,null,null,null,null,"",{"$f":"SUM(L140,N140,P140,R140)","v":0},null,{"$f":"SUM(K140,M140,O140)","v":0}]
["DD-303",null,null,null,null,null,null,null,null,null,null,null,null,null,null,null,null,"",{"$f":"SUM(L141,N141,P141,R141)","v":0},null,{"$f":"SUM(K141,M141,O141)","v":0}]
["DD-304",null,null,null,null,null,null,null,null,null,null,null,null,null,null,null,null,"",{"$f":"SUM(L142,N142,P142,R142)","v":0},null,{"$f":"SUM(K142,M142,O142)","v":0}]
[]
["EE-301",null,null,null,null,null,null,null,null,null,null,null,null,null,null,null,null,"",{"$f":"SUM(L144,N144,P144,R144)","v":0},null,{"$f":"SUM(K144,M144,O144)","v":0},null,null,null,{"$f":"SUM(S144,S146,S145,S147,-AB144)","v":0},null,null,{"$f":"MIN(S144:S147)","v":0}]
["EE-302",null,null,null,null,null,null,null,null,null,null,null,null,null,null,null,null,"",{"$f":"SUM(L145,N145,P145,R145)","v":0},null,{"$f":"SUM(K145,M145,O145)","v":0}]
["EE-303",null,null,null,null,null,null,null,null,null,null,null,null,null,null,null,null,"",{"$f":"SUM(L146,N146,P146,R146)","v":0},null,{"$f":"SUM(K146,M146,O146)","v":0}]
["EE-304",null,null,null,null,null,null,null,null,null,null,null,null,null,null,null,null,"",{"$f":"SUM(L147,N147,P147,R147)","v":0},null,{"$f":"SUM(K147,M147,O147)","v":0}]
[]
["FF-301",null,null,null,null,null,null,null,null,null,null,null,null,null,null,null,null,"",{"$f":"SUM(L149,N149,P149,R149)","v":0},null,{"$f":"SUM(K149,M149,O149)","v":0},null,null,null,{"$f":"SUM(S149,S151,S150,S152,-AB149)","v":0},null,null,{"$f":"MIN(S149:S152)","v":0}]
["FF-302",null,null,null,null,null,null,null,null,null,null,null,null,null,null,null,null,"",{"$f":"SUM(L150,N150,P150,R150)","v":0},null,{"$f":"SUM(K150,M150,O150)","v":0}]
["FF-303",null,null,null,null,null,null,null,null,null,null,null,null,null,null,null,null,"",{"$f":"SUM(L151,N151,P151,R151)","v":0},null,{"$f":"SUM(K151,M151,O151)","v":0}]
["FF-304",null,null,null,null,null,null,null,null,null,null,null,null,null,null,null,null,"",{"$f":"SUM(L152,N152,P152,R152)","v":0},null,{"$f":"SUM(K152,M152,O152)","v":0}]

{"sheet":"ClassicalMR","index":6,"n_rows":122,"n_cols":12,"rows_kept":122,"cut":false,"hidden":false,"merged":[]}
["Classical",null,null,null,"Finals Medals Round Scores"]
["ID","Rank","Score","LeaveBlank","MR 1 Rank","MR 1 Score","MR2 Rank","MR 2 Score","MR3 Rank","MR 3 Score","Total MR Rank","Total MR Score"]
[{"$f":"Classical!A14","v":"C-301"},{"$f":"Classical!U14","v":0},{"$f":"Classical!S14","v":0},{"$f":"IF((Table71012[[#This Row],[Rank]]+Table71012[[#This Row],[Score]])>0,1,0)","v":0},null,null,null,null,null,null,{"$f":"SUM(E3,G3,I3)","v":0},{"$f":"SUM(F3,H3,J3)","v":0}]
[{"$f":"Classical!A4","v":"A-301"},{"$f":"Classical!U4","v":10},{"$f":"Classical!S4","v":68},{"$f":"IF((Table71012[[#This Row],[Rank]]+Table71012[[#This Row],[Score]])>0,1,0)","v":1},null,null,null,null,null,null,0,0]
[{"$f":"Classical!A6","v":"A-303"},{"$f":"Classical!U6","v":0},{"$f":"Classical!S6","v":0},{"$f":"IF((Table71012[[#This Row],[Rank]]+Table71012[[#This Row],[Score]])>0,1,0)","v":0},null,null,null,null,null,null,0,0]
[{"$f":"Classical!A7","v":"A-304"},{"$f":"Classical!U7","v":0},{"$f":"Classical!S7","v":0},{"$f":"IF((Table71012[[#This Row],[Rank]]+Table71012[[#This Row],[Score]])>0,1,0)","v":0},null,null,null,null,null,null,0,0]
[{"$f":"Classical!A124","v":"AA-301"},{"$f":"Classical!U124","v":0},{"$f":"Classical!S124","v":0},{"$f":"IF((Table71012[[#This Row],[Rank]]+Table71012[[#This Row],[Score]])>0,1,0)","v":0},null,null,null,null,null,null,0,0]
[{"$f":"Classical!A125","v":"AA-302"},{"$f":"Classical!U125","v":0},{"$f":"Classical!S125","v":0},{"$f":"IF((Table71012[[#This Row],[Rank]]+Table71012[[#This Row],[Score]])>0,1,0)","v":0},null,null,null,null,null,null,0,0]
[{"$f":"Classical!A126","v":"AA-303"},{"$f":"Classical!U126","v":0},{"$f":"Classical!S126","v":0},{"$f":"IF((Table71012[[#This Row],[Rank]]+Table71012[[#This Row],[Score]])>0,1,0)","v":0},null,null,null,null,null,null,0,0]
[{"$f":"Classical!A127","v":"AA-304"},{"$f":"Classical!U127","v":0},{"$f":"Classical!S127","v":0},{"$f":"IF((Table71012[[#This Row],[Rank]]+Table71012[[#This Row],[Score]])>0,1,0)","v":0},null,null,null,null,null,null,0,0]
[{"$f":"Classical!A9","v":"B-301"},{"$f":"Classical!U9","v":0},{"$f":"Classical!S9","v":0},{"$f":"IF((Table71012[[#This Row],[Rank]]+Table71012[[#This Row],[Score]])>0,1,0)","v":0},null,null,null,null,null,null,0,0]
[{"$f":"Classical!A10","v":"B-302"},{"$f":"Classical!U10","v":0},{"$f":"Classical!S10","v":0},{"$f":"IF((Table71012[[#This Row],[Rank]]+Table71012[[#This Row],[Score]])>0,1,0)","v":0},null,null,null,null,null,null,0,0]
[{"$f":"Classical!A11","v":"B-303"},{"$f":"Classical!U11","v":0},{"$f":"Classical!S11","v":0},{"$f":"IF((Table71012[[#This Row],[Rank]]+Table71012[[#This Row],[Score]])>0,1,0)","v":0},null,null,null,null,null,null,0,0]
[{"$f":"Classical!A12","v":"B-304"},{"$f":"Classical!U12","v":0},{"$f":"Classical!S12","v":0},{"$f":"IF((Table71012[[#This Row],[Rank]]+Table71012[[#This Row],[Score]])>0,1,0)","v":0},null,null,null,null,null,null,0,0]
[{"$f":"Classical!A129","v":"BB-301"},{"$f":"Classical!U129","v":0},{"$f":"Classical!S129","v":0},{"$f":"IF((Table71012[[#This Row],[Rank]]+Table71012[[#This Row],[Score]])>0,1,0)","v":0},null,null,null,null,null,null,0,0]
[{"$f":"Classical!A130","v":"BB-302"},{"$f":"Classical!U130","v":0},{"$f":"Classical!S130","v":0},{"$f":"IF((Table71012[[#This Row],[Rank]]+Table71012[[#This Row],[Score]])>0,1,0)","v":0},null,null,null,null,null,null,0,0]
[{"$f":"Classical!A131","v":"BB-303"},{"$f":"Classical!U131","v":0},{"$f":"Classical!S131","v":0},{"$f":"IF((Table71012[[#This Row],[Rank]]+Table71012[[#This Row],[Score]])>0,1,0)","v":0},null,null,null,null,null,null,0,0]
[{"$f":"Classical!A132","v":"BB-304"},{"$f":"Classical!U132","v":0},{"$f":"Classical!S132","v":0},{"$f":"IF((Table71012[[#This Row],[Rank]]+Table71012[[#This Row],[Score]])>0,1,0)","v":0},null,null,null,null,null,null,0,0]
[{"$f":"Classical!A15","v":"C-302"},{"$f":"Classical!U15","v":0},{"$f":"Classical!S15","v":0},{"$f":"IF((Table71012[[#This Row],[Rank]]+Table71012[[#This Row],[Score]])>0,1,0)","v":0},null,null,null,null,null,null,0,0]
[{"$f":"Classical!A16","v":"C-303"},{"$f":"Classical!U16","v":0},{"$f":"Classical!S16","v":0},{"$f":"IF((Table71012[[#This Row],[Rank]]+Table71012[[#This Row],[Score]])>0,1,0)","v":0},null,null,null,null,null,null,0,0]
[{"$f":"Classical!A17","v":"C-304"},{"$f":"Classical!U17","v":0},{"$f":"Classical!S17","v":0},{"$f":"IF((Table71012[[#This Row],[Rank]]+Table71012[[#This Row],[Score]])>0,1,0)","v":0},null,null,null,null,null,null,0,0]
[{"$f":"Classical!A134","v":"CC-301"},{"$f":"Classical!U134","v":0},{"$f":"Classical!S134","v":0},{"$f":"IF((Table71012[[#This Row],[Rank]]+Table71012[[#This Row],[Score]])>0,1,0)","v":0},null,null,null,null,null,null,0,0]
[{"$f":"Classical!A135","v":"CC-302"},{"$f":"Classical!U135","v":0},{"$f":"Classical!S135","v":0},{"$f":"IF((Table71012[[#This Row],[Rank]]+Table71012[[#This Row],[Score]])>0,1,0)","v":0},null,null,null,null,null,null,0,0]
[{"$f":"Classical!A136","v":"CC-303"},{"$f":"Classical!U136","v":0},{"$f":"Classical!S136","v":0},{"$f":"IF((Table71012[[#This Row],[Rank]]+Table71012[[#This Row],[Score]])>0,1,0)","v":0},null,null,null,null,null,null,0,0]
[{"$f":"Classical!A137","v":"CC-304"},{"$f":"Classical!U137","v":0},{"$f":"Classical!S137","v":0},{"$f":"IF((Table71012[[#This Row],[Rank]]+Table71012[[#This Row],[Score]])>0,1,0)","v":0},null,null,null,null,null,null,0,0]
[{"$f":"Classical!A19","v":"D-301"},{"$f":"Classical!U19","v":0},{"$f":"Classical!S19","v":0},{"$f":"IF((Table71012[[#This Row],[Rank]]+Table71012[[#This Row],[Score]])>0,1,0)","v":0},null,null,null,null,null,null,0,0]
[{"$f":"Classical!A20","v":"D-302"},{"$f":"Classical!U20","v":0},{"$f":"Classical!S20","v":0},{"$f":"IF((Table71012[[#This Row],[Rank]]+Table71012[[#This Row],[Score]])>0,1,0)","v":0},null,null,null,null,null,null,0,0]
[{"$f":"Classical!A21","v":"D-303"},{"$f":"Classical!U21","v":0},{"$f":"Classical!S21","v":0},{"$f":"IF((Table71012[[#This Row],[Rank]]+Table71012[[#This Row],[Score]])>0,1,0)","v":0},null,null,null,null,null,null,0,0]
[{"$f":"Classical!A22","v":"D-304"},{"$f":"Classical!U22","v":0},{"$f":"Classical!S22","v":0},{"$f":"IF((Table71012[[#This Row],[Rank]]+Table71012[[#This Row],[Score]])>0,1,0)","v":0},null,null,null,null,null,null,0,0]
[{"$f":"Classical!A139","v":"DD-301"},{"$f":"Classical!U139","v":0},{"$f":"Classical!S139","v":0},{"$f":"IF((Table71012[[#This Row],[Rank]]+Table71012[[#This Row],[Score]])>0,1,0)","v":0},null,null,null,null,null,null,0,0]
[{"$f":"Classical!A140","v":"DD-302"},{"$f":"Classical!U140","v":0},{"$f":"Classical!S140","v":0},{"$f":"IF((Table71012[[#This Row],[Rank]]+Table71012[[#This Row],[Score]])>0,1,0)","v":0},null,null,null,null,null,null,0,0]
[{"$f":"Classical!A141","v":"DD-303"},{"$f":"Classical!U141","v":0},{"$f":"Classical!S141","v":0},{"$f":"IF((Table71012[[#This Row],[Rank]]+Table71012[[#This Row],[Score]])>0,1,0)","v":0},null,null,null,null,null,null,0,0]
[{"$f":"Classical!A142","v":"DD-304"},{"$f":"Classical!U142","v":0},{"$f":"Classical!S142","v":0},{"$f":"IF((Table71012[[#This Row],[Rank]]+Table71012[[#This Row],[Score]])>0,1,0)","v":0},null,null,null,null,null,null,0,0]
[{"$f":"Classical!A24","v":"E-301"},{"$f":"Classical!U24","v":0},{"$f":"Classical!S24","v":0},{"$f":"IF((Table71012[[#This Row],[Rank]]+Table71012[[#This Row],[Score]])>0,1,0)","v":0},null,null,null,null,null,null,0,0]
[{"$f":"Classical!A25","v":"E-302"},{"$f":"Classical!U25","v":0},{"$f":"Classical!S25","v":0},{"$f":"IF((Table71012[[#This Row],[Rank]]+Table71012[[#This Row],[Score]])>0,1,0)","v":0},null,null,null,null,null,null,{"$f":"SUM(E35,G35,I35)","v":0},{"$f":"SUM(F35,H35,J35)","v":0}]
[{"$f":"Classical!A26","v":"E-303"},{"$f":"Classical!U26","v":0},{"$f":"Classical!S26","v":0},{"$f":"IF((Table71012[[#This Row],[Rank]]+Table71012[[#This Row],[Score]])>0,1,0)","v":0},null,null,null,null,null,null,0,0]
[{"$f":"Classical!A27","v":"E-304"},{"$f":"Classical!U27","v":0},{"$f":"Classical!S27","v":0},{"$f":"IF((Table71012[[#This Row],[Rank]]+Table71012[[#This Row],[Score]])>0,1,0)","v":0},null,null,null,null,null,null,0,0]
[{"$f":"Classical!A144","v":"EE-301"},{"$f":"Classical!U144","v":0},{"$f":"Classical!S144","v":0},{"$f":"IF((Table71012[[#This Row],[Rank]]+Table71012[[#This Row],[Score]])>0,1,0)","v":0},null,null,null,null,null,null,0,0]
[{"$f":"Classical!A145","v":"EE-302"},{"$f":"Classical!U145","v":0},{"$f":"Classical!S145","v":0},{"$f":"IF((Table71012[[#This Row],[Rank]]+Table71012[[#This Row],[Score]])>0,1,0)","v":0},null,null,null,null,null,null,0,0]
[{"$f":"Classical!A146","v":"EE-303"},{"$f":"Classical!U146","v":0},{"$f":"Classical!S146","v":0},{"$f":"IF((Table71012[[#This Row],[Rank]]+Table71012[[#This Row],[Score]])>0,1,0)","v":0},null,null,null,null,null,null,0,0]
[{"$f":"Classical!A147","v":"EE-304"},{"$f":"Classical!U147","v":0},{"$f":"Classical!S147","v":0},{"$f":"IF((Table71012[[#This Row],[Rank]]+Table71012[[#This Row],[Score]])>0,1,0)","v":0},null,null,null,null,null,null,0,0]
[{"$f":"Classical!A29","v":"F-301"},{"$f":"Classical!U29","v":0},{"$f":"Classical!S29","v":0},{"$f":"IF((Table71012[[#This Row],[Rank]]+Table71012[[#This Row],[Score]])>0,1,0)","v":0},null,null,null,null,null,null,0,0]
[{"$f":"Classical!A30","v":"F-302"},{"$f":"Classical!U30","v":0},{"$f":"Classical!S30","v":0},{"$f":"IF((Table71012[[#This Row],[Rank]]+Table71012[[#This Row],[Score]])>0,1,0)","v":0},null,null,null,null,null,null,0,0]
[{"$f":"Classical!A31","v":"F-303"},{"$f":"Classical!U31","v":0},{"$f":"Classical!S31","v":0},{"$f":"IF((Table71012[[#This Row],[Rank]]+Table71012[[#This Row],[Score]])>0,1,0)","v":0},null,null,null,null,null,null,0,0]
[{"$f":"Classical!A32","v":"F-304"},{"$f":"Classical!U32","v":0},{"$f":"Classical!S32","v":0},{"$f":"IF((Table71012[[#This Row],[Rank]]+Table71012[[#This Row],[Score]])>0,1,0)","v":0},null,null,null,null,null,null,0,0]
[{"$f":"Classical!A34","v":"G-301"},{"$f":"Classical!U34","v":4},{"$f":"Classical!S34","v":73},{"$f":"IF((Table71012[[#This Row],[Rank]]+Table71012[[#This Row],[Score]])>0,1,0)","v":1},null,null,null,null,null,null,0,0]
[{"$f":"Classical!A35","v":"G-302"},{"$f":"Classical!U35","v":0},{"$f":"Classical!S35","v":0},{"$f":"IF((Table71012[[#This Row],[Rank]]+Table71012[[#This Row],[Score]])>0,1,0)","v":0},null,null,null,null,null,null,0,0]
[{"$f":"Classical!A36","v":"G-303"},{"$f":"Classical!U36","v":0},{"$f":"Classical!S36","v":0},{"$f":"IF((Table71012[[#This Row],[Rank]]+Table71012[[#This Row],[Score]])>0,1,0)","v":0},null,null,null,null,null,null,0,0]
[{"$f":"Classical!A37","v":"G-304"},{"$f":"Classical!U37","v":0},{"$f":"Classical!S37","v":0},{"$f":"IF((Table71012[[#This Row],[Rank]]+Table71012[[#This Row],[Score]])>0,1,0)","v":0},null,null,null,null,null,null,0,0]
[{"$f":"Classical!A39","v":"H-301"},{"$f":"Classical!U39","v":0},{"$f":"Classical!S39","v":0},{"$f":"IF((Table71012[[#This Row],[Rank]]+Table71012[[#This Row],[Score]])>0,1,0)","v":0},null,null,null,null,null,null,0,0]
[{"$f":"Classical!A40","v":"H-302"},{"$f":"Classical!U40","v":0},{"$f":"Classical!S40","v":0},{"$f":"IF((Table71012[[#This Row],[Rank]]+Table71012[[#This Row],[Score]])>0,1,0)","v":0},null,null,null,null,null,null,0,0]
[{"$f":"Classical!A41","v":"H-303"},{"$f":"Classical!U41","v":0},{"$f":"Classical!S41","v":0},{"$f":"IF((Table71012[[#This Row],[Rank]]+Table71012[[#This Row],[Score]])>0,1,0)","v":0},null,null,null,null,null,null,0,0]
[{"$f":"Classical!A42","v":"H-304"},{"$f":"Classical!U42","v":0},{"$f":"Classical!S42","v":0},{"$f":"IF((Table71012[[#This Row],[Rank]]+Table71012[[#This Row],[Score]])>0,1,0)","v":0},null,null,null,null,null,null,0,0]
[{"$f":"Classical!A44","v":"J-301"},{"$f":"Classical!U44","v":0},{"$f":"Classical!S44","v":0},{"$f":"IF((Table71012[[#This Row],[Rank]]+Table71012[[#This Row],[Score]])>0,1,0)","v":0},null,null,null,null,null,null,0,0]
[{"$f":"Classical!A45","v":"J-302"},{"$f":"Classical!U45","v":0},{"$f":"Classical!S45","v":0},{"$f":"IF((Table71012[[#This Row],[Rank]]+Table71012[[#This Row],[Score]])>0,1,0)","v":0},null,null,null,null,null,null,0,0]
[{"$f":"Classical!A46","v":"J-303"},{"$f":"Classical!U46","v":0},{"$f":"Classical!S46","v":0},{"$f":"IF((Table71012[[#This Row],[Rank]]+Table71012[[#This Row],[Score]])>0,1,0)","v":0},null,null,null,null,null,null,0,0]
[{"$f":"Classical!A47","v":"J-304"},{"$f":"Classical!U47","v":0},{"$f":"Classical!S47","v":0},{"$f":"IF((Table71012[[#This Row],[Rank]]+Table71012[[#This Row],[Score]])>0,1,0)","v":0},null,null,null,null,null,null,0,0]
[{"$f":"Classical!A49","v":"K-301"},{"$f":"Classical!U49","v":5},{"$f":"Classical!S49","v":73},{"$f":"IF((Table71012[[#This Row],[Rank]]+Table71012[[#This Row],[Score]])>0,1,0)","v":1},null,null,null,null,null,null,0,0]
[{"$f":"Classical!A50","v":"K-302"},{"$f":"Classical!U50","v":0},{"$f":"Classical!S50","v":0},{"$f":"IF((Table71012[[#This Row],[Rank]]+Table71012[[#This Row],[Score]])>0,1,0)","v":0},null,null,null,null,null,null,0,0]
[{"$f":"Classical!A51","v":"K-303"},{"$f":"Classical!U51","v":0},{"$f":"Classical!S51","v":0},{"$f":"IF((Table71012[[#This Row],[Rank]]+Table71012[[#This Row],[Score]])>0,1,0)","v":0},null,null,null,null,null,null,0,0]
[{"$f":"Classical!A52","v":"K-304"},{"$f":"Classical!U52","v":0},{"$f":"Classical!S52","v":0},{"$f":"IF((Table71012[[#This Row],[Rank]]+Table71012[[#This Row],[Score]])>0,1,0)","v":0},null,null,null,null,null,null,0,0]
[{"$f":"Classical!A54","v":"L-301"},{"$f":"Classical!U54","v":0},{"$f":"Classical!S54","v":0},{"$f":"IF((Table71012[[#This Row],[Rank]]+Table71012[[#This Row],[Score]])>0,1,0)","v":0},null,null,null,null,null,null,0,0]
[{"$f":"Classical!A55","v":"L-302"},{"$f":"Classical!U55","v":0},{"$f":"Classical!S55","v":0},{"$f":"IF((Table71012[[#This Row],[Rank]]+Table71012[[#This Row],[Score]])>0,1,0)","v":0},null,null,null,null,null,null,0,0]
[{"$f":"Classical!A56","v":"L-303"},{"$f":"Classical!U56","v":0},{"$f":"Classical!S56","v":0},{"$f":"IF((Table71012[[#This Row],[Rank]]+Table71012[[#This Row],[Score]])>0,1,0)","v":0},null,null,null,null,null,null,0,0]
[{"$f":"Classical!A57","v":"L-304"},{"$f":"Classical!U57","v":0},{"$f":"Classical!S57","v":0},{"$f":"IF((Table71012[[#This Row],[Rank]]+Table71012[[#This Row],[Score]])>0,1,0)","v":0},null,null,null,null,null,null,0,0]
[{"$f":"Classical!A59","v":"M-301"},{"$f":"Classical!U59","v":0},{"$f":"Classical!S59","v":0},{"$f":"IF((Table71012[[#This Row],[Rank]]+Table71012[[#This Row],[Score]])>0,1,0)","v":0},null,null,null,null,null,null,0,0]
[{"$f":"Classical!A60","v":"M-302"},{"$f":"Classical!U60","v":0},{"$f":"Classical!S60","v":0},{"$f":"IF((Table71012[[#This Row],[Rank]]+Table71012[[#This Row],[Score]])>0,1,0)","v":0},null,null,null,null,null,null,{"$f":"SUM(E67,G67,I67)","v":0},{"$f":"SUM(F67,H67,J67)","v":0}]
[{"$f":"Classical!A61","v":"M-303"},{"$f":"Classical!U61","v":0},{"$f":"Classical!S61","v":0},{"$f":"IF((Table71012[[#This Row],[Rank]]+Table71012[[#This Row],[Score]])>0,1,0)","v":0},null,null,null,null,null,null,0,0]
[{"$f":"Classical!A62","v":"M-304"},{"$f":"Classical!U62","v":0},{"$f":"Classical!S62","v":0},{"$f":"IF((Table71012[[#This Row],[Rank]]+Table71012[[#This Row],[Score]])>0,1,0)","v":0},null,null,null,null,null,null,0,0]
[{"$f":"Classical!A64","v":"N-301"},{"$f":"Classical!U64","v":0},{"$f":"Classical!S64","v":0},{"$f":"IF((Table71012[[#This Row],[Rank]]+Table71012[[#This Row],[Score]])>0,1,0)","v":0},null,null,null,null,null,null,0,0]
[{"$f":"Classical!A65","v":"N-302"},{"$f":"Classical!U65","v":0},{"$f":"Classical!S65","v":0},{"$f":"IF((Table71012[[#This Row],[Rank]]+Table71012[[#This Row],[Score]])>0,1,0)","v":0},null,null,null,null,null,null,0,0]
[{"$f":"Classical!A66","v":"N-303"},{"$f":"Classical!U66","v":0},{"$f":"Classical!S66","v":0},{"$f":"IF((Table71012[[#This Row],[Rank]]+Table71012[[#This Row],[Score]])>0,1,0)","v":0},null,null,null,null,null,null,0,0]
[{"$f":"Classical!A67","v":"N-304"},{"$f":"Classical!U67","v":0},{"$f":"Classical!S67","v":0},{"$f":"IF((Table71012[[#This Row],[Rank]]+Table71012[[#This Row],[Score]])>0,1,0)","v":0},null,null,null,null,null,null,0,0]
[{"$f":"Classical!A69","v":"P-301"},{"$f":"Classical!U69","v":0},{"$f":"Classical!S69","v":0},{"$f":"IF((Table71012[[#This Row],[Rank]]+Table71012[[#This Row],[Score]])>0,1,0)","v":0},null,null,null,null,null,null,0,0]
[{"$f":"Classical!A70","v":"P-302"},{"$f":"Classical!U70","v":0},{"$f":"Classical!S70","v":0},{"$f":"IF((Table71012[[#This Row],[Rank]]+Table71012[[#This Row],[Score]])>0,1,0)","v":0},null,null,null,null,null,null,0,0]
[{"$f":"Classical!A71","v":"P-303"},{"$f":"Classical!U71","v":0},{"$f":"Classical!S71","v":0},{"$f":"IF((Table71012[[#This Row],[Rank]]+Table71012[[#This Row],[Score]])>0,1,0)","v":0},null,null,null,null,null,null,0,0]
[{"$f":"Classical!A72","v":"P-304"},{"$f":"Classical!U72","v":0},{"$f":"Classical!S72","v":0},{"$f":"IF((Table71012[[#This Row],[Rank]]+Table71012[[#This Row],[Score]])>0,1,0)","v":0},null,null,null,null,null,null,0,0]
[{"$f":"Classical!A74","v":"Q-301"},{"$f":"Classical!U74","v":0},{"$f":"Classical!S74","v":0},{"$f":"IF((Table71012[[#This Row],[Rank]]+Table71012[[#This Row],[Score]])>0,1,0)","v":0},null,null,null,null,null,null,0,0]
[{"$f":"Classical!A75","v":"Q-302"},{"$f":"Classical!U75","v":0},{"$f":"Classical!S75","v":0},{"$f":"IF((Table71012[[#This Row],[Rank]]+Table71012[[#This Row],[Score]])>0,1,0)","v":0},null,null,null,null,null,null,0,0]
[{"$f":"Classical!A76","v":"Q-303"},{"$f":"Classical!U76","v":0},{"$f":"Classical!S76","v":0},{"$f":"IF((Table71012[[#This Row],[Rank]]+Table71012[[#This Row],[Score]])>0,1,0)","v":0},null,null,null,null,null,null,0,0]
[{"$f":"Classical!A77","v":"Q-304"},{"$f":"Classical!U77","v":0},{"$f":"Classical!S77","v":0},{"$f":"IF((Table71012[[#This Row],[Rank]]+Table71012[[#This Row],[Score]])>0,1,0)","v":0},null,null,null,null,null,null,0,0]
[{"$f":"Classical!A79","v":"R-301"},{"$f":"Classical!U79","v":0},{"$f":"Classical!S79","v":0},{"$f":"IF((Table71012[[#This Row],[Rank]]+Table71012[[#This Row],[Score]])>0,1,0)","v":0},null,null,null,null,null,null,0,0]
[{"$f":"Classical!A80","v":"R-302"},{"$f":"Classical!U80","v":0},{"$f":"Classical!S80","v":0},{"$f":"IF((Table71012[[#This Row],[Rank]]+Table71012[[#This Row],[Score]])>0,1,0)","v":0},null,null,null,null,null,null,0,0]
[{"$f":"Classical!A81","v":"R-303"},{"$f":"Classical!U81","v":0},{"$f":"Classical!S81","v":0},{"$f":"IF((Table71012[[#This Row],[Rank]]+Table71012[[#This Row],[Score]])>0,1,0)","v":0},null,null,null,null,null,null,0,0]
[{"$f":"Classical!A82","v":"R-304"},{"$f":"Classical!U82","v":0},{"$f":"Classical!S82","v":0},{"$f":"IF((Table71012[[#This Row],[Rank]]+Table71012[[#This Row],[Score]])>0,1,0)","v":0},null,null,null,null,null,null,0,0]
[{"$f":"Classical!A84","v":"S-301"},{"$f":"Classical!U84","v":0},{"$f":"Classical!S84","v":0},{"$f":"IF((Table71012[[#This Row],[Rank]]+Table71012[[#This Row],[Score]])>0,1,0)","v":0},null,null,null,null,null,null,0,0]
[{"$f":"Classical!A85","v":"S-302"},{"$f":"Classical!U85","v":0},{"$f":"Classical!S85","v":0},{"$f":"IF((Table71012[[#This Row],[Rank]]+Table71012[[#This Row],[Score]])>0,1,0)","v":0},null,null,null,null,null,null,0,0]
[{"$f":"Classical!A86","v":"S-303"},{"$f":"Classical!U86","v":0},{"$f":"Classical!S86","v":0},{"$f":"IF((Table71012[[#This Row],[Rank]]+Table71012[[#This Row],[Score]])>0,1,0)","v":0},null,null,null,null,null,null,0,0]
[{"$f":"Classical!A87","v":"S-304"},{"$f":"Classical!U87","v":0},{"$f":"Classical!S87","v":0},{"$f":"IF((Table71012[[#This Row],[Rank]]+Table71012[[#This Row],[Score]])>0,1,0)","v":0},null,null,null,null,null,null,0,0]
[{"$f":"Classical!A89","v":"T-301"},{"$f":"Classical!U89","v":0},{"$f":"Classical!S89","v":0},{"$f":"IF((Table71012[[#This Row],[Rank]]+Table71012[[#This Row],[Score]])>0,1,0)","v":0},null,null,null,null,null,null,0,0]
[{"$f":"Classical!A90","v":"T-302"},{"$f":"Classical!U90","v":0},{"$f":"Classical!S90","v":0},{"$f":"IF((Table71012[[#This Row],[Rank]]+Table71012[[#This Row],[Score]])>0,1,0)","v":0},null,null,null,null,null,null,0,0]
[{"$f":"Classical!A91","v":"T-303"},{"$f":"Classical!U91","v":0},{"$f":"Classical!S91","v":0},{"$f":"IF((Table71012[[#This Row],[Rank]]+Table71012[[#This Row],[Score]])>0,1,0)","v":0},null,null,null,null,null,null,0,0]
[{"$f":"Classical!A92","v":"T-304"},{"$f":"Classical!U92","v":0},{"$f":"Classical!S92","v":0},{"$f":"IF((Table71012[[#This Row],[Rank]]+Table71012[[#This Row],[Score]])>0,1,0)","v":0},null,null,null,null,null,null,0,0]
[{"$f":"Classical!A94","v":"U-301"},{"$f":"Classical!U94","v":0},{"$f":"Classical!S94","v":0},{"$f":"IF((Table71012[[#This Row],[Rank]]+Table71012[[#This Row],[Score]])>0,1,0)","v":0},null,null,null,null,null,null,0,0]
[{"$f":"Classical!A95","v":"U-302"},{"$f":"Classical!U95","v":0},{"$f":"Classical!S95","v":0},{"$f":"IF((Table71012[[#This Row],[Rank]]+Table71012[[#This Row],[Score]])>0,1,0)","v":0},null,null,null,null,null,null,0,0]
[{"$f":"Classical!A96","v":"U-303"},{"$f":"Classical!U96","v":0},{"$f":"Classical!S96","v":0},{"$f":"IF((Table71012[[#This Row],[Rank]]+Table71012[[#This Row],[Score]])>0,1,0)","v":0},null,null,null,null,null,null,0,0]
[{"$f":"Classical!A97","v":"U-304"},{"$f":"Classical!U97","v":0},{"$f":"Classical!S97","v":0},{"$f":"IF((Table71012[[#This Row],[Rank]]+Table71012[[#This Row],[Score]])>0,1,0)","v":0},null,null,null,null,null,null,0,0]
[{"$f":"Classical!A99","v":"V-301"},{"$f":"Classical!U99","v":0},{"$f":"Classical!S99","v":0},{"$f":"IF((Table71012[[#This Row],[Rank]]+Table71012[[#This Row],[Score]])>0,1,0)","v":0},null,null,null,null,null,null,0,0]
[{"$f":"Classical!A100","v":"V-302"},{"$f":"Classical!U100","v":0},{"$f":"Classical!S100","v":0},{"$f":"IF((Table71012[[#This Row],[Rank]]+Table71012[[#This Row],[Score]])>0,1,0)","v":0},null,null,null,null,null,null,{"$f":"SUM(E99,G99,I99)","v":0},{"$f":"SUM(F99,H99,J99)","v":0}]
[{"$f":"Classical!A101","v":"V-303"},{"$f":"Classical!U101","v":0},{"$f":"Classical!S101","v":0},{"$f":"IF((Table71012[[#This Row],[Rank]]+Table71012[[#This Row],[Score]])>0,1,0)","v":0},null,null,null,null,null,null,0,0]
[{"$f":"Classical!A102","v":"V-304"},{"$f":"Classical!U102","v":0},{"$f":"Classical!S102","v":0},{"$f":"IF((Table71012[[#This Row],[Rank]]+Table71012[[#This Row],[Score]])>0,1,0)","v":0},null,null,null,null,null,null,0,0]
[{"$f":"Classical!A104","v":"W-301"},{"$f":"Classical!U104","v":0},{"$f":"Classical!S104","v":0},{"$f":"IF((Table71012[[#This Row],[Rank]]+Table71012[[#This Row],[Score]])>0,1,0)","v":0},null,null,null,null,null,null,0,0]
[{"$f":"Classical!A105","v":"W-302"},{"$f":"Classical!U105","v":0},{"$f":"Classical!S105","v":0},{"$f":"IF((Table71012[[#This Row],[Rank]]+Table71012[[#This Row],[Score]])>0,1,0)","v":0},null,null,null,null,null,null,0,0]
[{"$f":"Classical!A106","v":"W-303"},{"$f":"Classical!U106","v":0},{"$f":"Classical!S106","v":0},{"$f":"IF((Table71012[[#This Row],[Rank]]+Table71012[[#This Row],[Score]])>0,1,0)","v":0},null,null,null,null,null,null,0,0]
[{"$f":"Classical!A107","v":"W-304"},{"$f":"Classical!U107","v":0},{"$f":"Classical!S107","v":0},{"$f":"IF((Table71012[[#This Row],[Rank]]+Table71012[[#This Row],[Score]])>0,1,0)","v":0},null,null,null,null,null,null,0,0]
[{"$f":"Classical!A109","v":"X-301"},{"$f":"Classical!U109","v":0},{"$f":"Classical!S109","v":0},{"$f":"IF((Table71012[[#This Row],[Rank]]+Table71012[[#This Row],[Score]])>0,1,0)","v":0},null,null,null,null,null,null,0,0]
[{"$f":"Classical!A110","v":"X-302"},{"$f":"Classical!U110","v":0},{"$f":"Classical!S110","v":0},{"$f":"IF((Table71012[[#This Row],[Rank]]+Table71012[[#This Row],[Score]])>0,1,0)","v":0},null,null,null,null,null,null,0,0]
[{"$f":"Classical!A111","v":"X-303"},{"$f":"Classical!U111","v":0},{"$f":"Classical!S111","v":0},{"$f":"IF((Table71012[[#This Row],[Rank]]+Table71012[[#This Row],[Score]])>0,1,0)","v":0},null,null,null,null,null,null,0,0]
[{"$f":"Classical!A112","v":"X-304"},{"$f":"Classical!U112","v":0},{"$f":"Classical!S112","v":0},{"$f":"IF((Table71012[[#This Row],[Rank]]+Table71012[[#This Row],[Score]])>0,1,0)","v":0},null,null,null,null,null,null,0,0]
[{"$f":"Classical!A114","v":"Y-301"},{"$f":"Classical!U114","v":0},{"$f":"Classical!S114","v":0},{"$f":"IF((Table71012[[#This Row],[Rank]]+Table71012[[#This Row],[Score]])>0,1,0)","v":0},null,null,null,null,null,null,0,0]
[{"$f":"Classical!A115","v":"Y-302"},{"$f":"Classical!U115","v":0},{"$f":"Classical!S115","v":0},{"$f":"IF((Table71012[[#This Row],[Rank]]+Table71012[[#This Row],[Score]])>0,1,0)","v":0},null,null,null,null,null,null,0,0]
[{"$f":"Classical!A116","v":"Y-303"},{"$f":"Classical!U116","v":0},{"$f":"Classical!S116","v":0},{"$f":"IF((Table71012[[#This Row],[Rank]]+Table71012[[#This Row],[Score]])>0,1,0)","v":0},null,null,null,null,null,null,0,0]
[{"$f":"Classical!A117","v":"Y-304"},{"$f":"Classical!U117","v":0},{"$f":"Classical!S117","v":0},{"$f":"IF((Table71012[[#This Row],[Rank]]+Table71012[[#This Row],[Score]])>0,1,0)","v":0},null,null,null,null,null,null,0,0]
[{"$f":"Classical!A119","v":"Z-301"},{"$f":"Classical!U119","v":0},{"$f":"Classical!S119","v":0},{"$f":"IF((Table71012[[#This Row],[Rank]]+Table71012[[#This Row],[Score]])>0,1,0)","v":0},null,null,null,null,null,null,0,0]
[{"$f":"Classical!A120","v":"Z-302"},{"$f":"Classical!U120","v":0},{"$f":"Classical!S120","v":0},{"$f":"IF((Table71012[[#This Row],[Rank]]+Table71012[[#This Row],[Score]])>0,1,0)","v":0},null,null,null,null,null,null,0,0]
[{"$f":"Classical!A121","v":"Z-303"},{"$f":"Classical!U121","v":0},{"$f":"Classical!S121","v":0},{"$f":"IF((Table71012[[#This Row],[Rank]]+Table71012[[#This Row],[Score]])>0,1,0)","v":0},null,null,null,null,null,null,0,0]
[{"$f":"Classical!A122","v":"Z-304"},{"$f":"Classical!U122","v":0},{"$f":"Classical!S122","v":0},{"$f":"IF((Table71012[[#This Row],[Rank]]+Table71012[[#This Row],[Score]])>0,1,0)","v":0},null,null,null,null,null,null,0,0]
[{"$f":"Classical!A149","v":"FF-301"},{"$f":"Classical!U149","v":0},{"$f":"Classical!S149","v":0},{"$f":"IF((Table71012[[#This Row],[Rank]]+Table71012[[#This Row],[Score]])>0,1,0)","v":0},null,null,null,null,null,null,0,0]
[{"$f":"Classical!A150","v":"FF-302"},{"$f":"Classical!U150","v":0},{"$f":"Classical!S150","v":0},{"$f":"IF((Table71012[[#This Row],[Rank]]+Table71012[[#This Row],[Score]])>0,1,0)","v":0},null,null,null,null,null,null,0,0]
[{"$f":"Classical!A151","v":"FF-303"},{"$f":"Classical!U151","v":0},{"$f":"Classical!S151","v":0},{"$f":"IF((Table71012[[#This Row],[Rank]]+Table71012[[#This Row],[Score]])>0,1,0)","v":0},null,null,null,null,null,null,0,0]
[{"$f":"Classical!A152","v":"FF-304"},{"$f":"Classical!U152","v":0},{"$f":"Classical!S152","v":0},{"$f":"IF((Table71012[[#This Row],[Rank]]+Table71012[[#This Row],[Score]])>0,1,0)","v":0},null,null,null,null,null,null,0,0]
[{"$f":"Classical!A5","v":"A-302"},{"$f":"Classical!U5","v":11},{"$f":"Classical!S5","v":68},{"$f":"IF((Table71012[[#This Row],[Rank]]+Table71012[[#This Row],[Score]])>0,1,0)","v":1},null,null,null,null,null,null,0,0]

{"sheet":"Contemporary","index":7,"n_rows":152,"n_cols":31,"rows_kept":152,"cut":false,"hidden":false,"merged":[]}
["Contemporary Scenes",null,null,null,null,null,null,null,null,null,"Rank 1-4",null,null,null,null,null,null,null,null,null,null,null,null,"S","E","G","F",null,"1violation","2violations","3violations"]
[null,null,null,null,null,null,null,null,null,null,"Round 1:",null,"Round 2:",null,"Round 3:",null,"-2 for each",null,null,null,null,null,null,null,null,null,null,"Drops lowest from column q"]
[null,null,null,"Student Name",null,"Student Name",null,"Student Name",null,"Title of Piece","R1 rank","R1 score","R2 rank","R2 score","R3 rank","R3 score","Time Violations",null,"TOTAL SCORE",null,"TOTAL RANK",null,null,"TOTAL SCHOOL SWEEPS POINTS",null,null,null,"Drop Lowest"]
["A-401",null,null,"409 - Sephe",null,"Triniti",null,null,null,"Detention",2,24,4,22,4,22,null,{"$f":"IF(Q4=\"1violation\",-7*1,IF(Q4=\"2violations\",-7*2,IF(Q4=\"3violations\",-7*3,IF(Q4=\"\",\"\"))))","v":""},{"$f":"SUM(L4,N4,P4,R4)","v":68},null,{"$f":"SUM(K4,M4,O4)","v":10},null,null,null,{"$f":"SUM(S4,S6,S5,S7,-AB4)","v":210},null,null,{"$f":"MIN(S4:S7)","v":52}]
["A-402",null,null,"408 - Andrew",null,"Degenet",null,null,null,"Help Desk",1,25,3,23,1,25,null,{"$f":"IF(Q5=\"1violation\",-7*1,IF(Q5=\"2violations\",-7*2,IF(Q5=\"3violations\",-7*3,IF(Q5=\"\",\"\"))))","v":""},{"$f":"SUM(L5,N5,P5,R5)","v":73},null,{"$f":"SUM(K5,M5,O5)","v":5}]
["A-403",null,null,"407 - Cale ",null,"Maverick",null,null,null,"Anti-Social",4,14,4,23,4,22,"1violation",-7,{"$f":"SUM(L6,N6,P6,R6)","v":52},null,{"$f":"SUM(K6,M6,O6)","v":12}]
["A-404",null,null,"406 - Keona",null,"Cassia",null,null,null,"The Odd Couple",3,23,2,23,2,23,null,"",{"$f":"SUM(L7,N7,P7,R7)","v":69},null,{"$f":"SUM(K7,M7,O7)","v":7}]
[]
["B-401",null,null,"405 - Lilly Spendlove",null,"Alexa Ordaz",null,null,null,"Body Body/Madeline and Gerald",4,21,2,17,4,20,null,"",{"$f":"SUM(L9,N9,P9,R9)","v":58},null,{"$f":"SUM(K9,M9,O9)","v":10},null,null,null,{"$f":"SUM(S9,S11,S10,S12,-AB9)","v":122},null,null,{"$f":"MIN(S9:S12)","v":0}]
["B-402",null,null,"404 - Paisley Henrie",null,"Bryson Henrie",null,null,null,"Queen Lucy",4,24,1,17,3,23,null,"",{"$f":"SUM(L10,N10,P10,R10)","v":64},null,{"$f":"SUM(K10,M10,O10)","v":8}]
["B-403",null,null,null,null,null,null,null,null,null,null,null,null,null,null,null,null,"",{"$f":"SUM(L11,N11,P11,R11)","v":0},null,{"$f":"SUM(K11,M11,O11)","v":0}]
["B-404",null,null,null,null,null,null,null,null,null,null,null,null,null,null,null,null,"",{"$f":"SUM(L12,N12,P12,R12)","v":0},null,{"$f":"SUM(K12,M12,O12)","v":0}]
[]
["C-401",null,null,"403 - Destiny Gross",null,"Jewely-lette",null,null,null,"Family Meeting",3,23,3,17,4,23,null,"",{"$f":"SUM(L14,N14,P14,R14)","v":63},null,{"$f":"SUM(K14,M14,O14)","v":10},null,null,null,{"$f":"SUM(S14,S16,S15,S17,-AB14)","v":63},null,null,{"$f":"MIN(S14:S17)","v":0}]
["C-402",null,null,"402 - Ava Florance",null,"Mikenna Holm",null,null,null,"The Odd Couple",null,null,null,null,null,null,null,"",{"$f":"SUM(L15,N15,P15,R15)","v":0},null,{"$f":"SUM(K15,M15,O15)","v":0}]
["C-403",null,null,null,null,null,null,null,null,null,null,null,null,null,null,null,null,"",{"$f":"SUM(L16,N16,P16,R16)","v":0},null,{"$f":"SUM(K16,M16,O16)","v":0}]
["C-404",null,null,null,null,null,null,null,null,null,null,null,null,null,null,null,null,"",{"$f":"SUM(L17,N17,P17,R17)","v":0},null,{"$f":"SUM(K17,M17,O17)","v":0}]
[]
["D-401",null,null,null,null,null,null,null,null,null,null,null,null,null,null,null,null,"",{"$f":"SUM(L19,N19,P19,R19)","v":0},null,{"$f":"SUM(K19,M19,O19)","v":0},null,null,null,{"$f":"SUM(S19,S21,S20,S22,-AB19)","v":0},null,null,{"$f":"MIN(S19:S22)","v":0}]
["D-402",null,null,null,null,null,null,null,null,null,null,null,null,null,null,null,null,"",{"$f":"SUM(L20,N20,P20,R20)","v":0},null,{"$f":"SUM(K20,M20,O20)","v":0}]
["D-403",null,null,null,null,null,null,null,null,null,null,null,null,null,null,null,null,"",{"$f":"SUM(L21,N21,P21,R21)","v":0},null,{"$f":"SUM(K21,M21,O21)","v":0}]
["D-404",null,null,null,null,null,null,null,null,null,null,null,null,null,null,null,null,"",{"$f":"SUM(L22,N22,P22,R22)","v":0},null,{"$f":"SUM(K22,M22,O22)","v":0}]
[]
["E-401",null,null,"401 - Kaitlyn Esplin",null,"Ike Staples",null,null,null,"Operation Redneck",4,21,1,24,2,24,null,"",{"$f":"SUM(L24,N24,P24,R24)","v":69},null,{"$f":"SUM(K24,M24,O24)","v":7},null,null,null,{"$f":"SUM(S24,S26,S25,S27,-AB24)","v":69},null,null,{"$f":"MIN(S24:S27)","v":0}]
["E-402",null,null,null,null,null,null,null,null,null,null,null,null,null,null,null,null,"",{"$f":"SUM(L25,N25,P25,R25)","v":0},null,{"$f":"SUM(K25,M25,O25)","v":0}]
["E-403",null,null,null,null,null,null,null,null,null,null,null,null,null,null,null,null,"",{"$f":"SUM(L26,N26,P26,R26)","v":0},null,{"$f":"SUM(K26,M26,O26)","v":0}]
["E-404",null,null,null,null,null,null,null,null,null,null,null,null,null,null,null,null,"",{"$f":"SUM(L27,N27,P27,R27)","v":0},null,{"$f":"SUM(K27,M27,O27)","v":0}]
[]
["F-401",null,null,null,null,null,null,null,null,null,null,null,null,null,null,null,null,"",{"$f":"SUM(L29,N29,P29,R29)","v":0},null,{"$f":"SUM(K29,M29,O29)","v":0},null,null,null,{"$f":"SUM(S29,S31,S30,S32,-AB29)","v":0},null,null,{"$f":"MIN(S29:S32)","v":0}]
["F-402",null,null,null,null,null,null,null,null,null,null,null,null,null,null,null,null,"",{"$f":"SUM(L30,N30,P30,R30)","v":0},null,{"$f":"SUM(K30,M30,O30)","v":0}]
["F-403",null,null,null,null,null,null,null,null,null,null,null,null,null,null,null,null,"",{"$f":"SUM(L31,N31,P31,R31)","v":0},null,{"$f":"SUM(K31,M31,O31)","v":0}]
["F-404",null,null,null,null,null,null,null,null,null,null,null,null,null,null,null,null,"",{"$f":"SUM(L32,N32,P32,R32)","v":0},null,{"$f":"SUM(K32,M32,O32)","v":0}]
[]
["G-401",null,null,null,null,null,null,null,null,null,null,null,null,null,null,null,null,"",{"$f":"SUM(L34,N34,P34,R34)","v":0},null,{"$f":"SUM(K34,M34,O34)","v":0},null,null,null,{"$f":"SUM(S34,S36,S35,S37,-AB34)","v":0},null,null,{"$f":"MIN(S34:S37)","v":0}]
["G-402",null,null,null,null,null,null,null,null,null,null,null,null,null,null,null,null,"",{"$f":"SUM(L35,N35,P35,R35)","v":0},null,{"$f":"SUM(K35,M35,O35)","v":0}]
["G-403",null,null,null,null,null,null,null,null,null,null,null,null,null,null,null,null,"",{"$f":"SUM(L36,N36,P36,R36)","v":0},null,{"$f":"SUM(K36,M36,O36)","v":0}]
["G-404",null,null,null,null,null,null,null,null,null,null,null,null,null,null,null,null,"",{"$f":"SUM(L37,N37,P37,R37)","v":0},null,{"$f":"SUM(K37,M37,O37)","v":0}]
[]
["H-401",null,null,null,null,null,null,null,null,null,null,null,null,null,null,null,null,"",{"$f":"SUM(L39,N39,P39,R39)","v":0},null,{"$f":"SUM(K39,M39,O39)","v":0},null,null,null,{"$f":"SUM(S39,S41,S40,S42,-AB39)","v":0},null,null,{"$f":"MIN(S39:S42)","v":0}]
["H-402",null,null,null,null,null,null,null,null,null,null,null,null,null,null,null,null,"",{"$f":"SUM(L40,N40,P40,R40)","v":0},null,{"$f":"SUM(K40,M40,O40)","v":0}]
["H-403",null,null,null,null,null,null,null,null,null,null,null,null,null,null,null,null,"",{"$f":"SUM(L41,N41,P41,R41)","v":0},null,{"$f":"SUM(K41,M41,O41)","v":0}]
["H-404",null,null,null,null,null,null,null,null,null,null,null,null,null,null,null,null,"",{"$f":"SUM(L42,N42,P42,R42)","v":0},null,{"$f":"SUM(K42,M42,O42)","v":0}]
[]
["J-401",null,null,"410 - DJ Johnson",null,"Kenneth Severa",null,null,null,"10th Doctors ",2,24,4,19,1,25,null,"",{"$f":"SUM(L44,N44,P44,R44)","v":68},null,{"$f":"SUM(K44,M44,O44)","v":7},null,null,null,{"$f":"SUM(S44,S46,S45,S47,-AB44)","v":68},null,null,{"$f":"MIN(S44:S47)","v":0}]
["J-402",null,null,null,null,null,null,null,null,null,null,null,null,null,null,null,null,"",{"$f":"SUM(L45,N45,P45,R45)","v":0},null,{"$f":"SUM(K45,M45,O45)","v":0}]
["J-403",null,null,null,null,null,null,null,null,null,null,null,null,null,null,null,null,"",{"$f":"SUM(L46,N46,P46,R46)","v":0},null,{"$f":"SUM(K46,M46,O46)","v":0}]
["J-404",null,null,null,null,null,null,null,null,null,null,null,null,null,null,null,null,"",{"$f":"SUM(L47,N47,P47,R47)","v":0},null,{"$f":"SUM(K47,M47,O47)","v":0}]
[]
["K-401",null,null,"411 - Alyssa Allred",null,"Brigham Bronson",null,null,null,"We're on a Mission",1,25,4,14,3,23,null,"",{"$f":"SUM(L49,N49,P49,R49)","v":62},null,{"$f":"SUM(K49,M49,O49)","v":8},null,null,null,{"$f":"SUM(S49,S51,S50,S52,-AB49)","v":62},null,null,{"$f":"MIN(S49:S52)","v":0}]
["K-402",null,null,null,null,null,null,null,null,null,null,null,null,null,null,null,null,"",{"$f":"SUM(L50,N50,P50,R50)","v":0},null,{"$f":"SUM(K50,M50,O50)","v":0}]
["K-403",null,null,null,null,null,null,null,null,null,null,null,null,null,null,null,null,"",{"$f":"SUM(L51,N51,P51,R51)","v":0},null,{"$f":"SUM(K51,M51,O51)","v":0}]
["K-404",null,null,null,null,null,null,null,null,null,null,null,null,null,null,null,null,"",{"$f":"SUM(L52,N52,P52,R52)","v":0},null,{"$f":"SUM(K52,M52,O52)","v":0}]
[]
["L-401",null,null,null,null,null,null,null,null,null,null,null,null,null,null,null,null,"",{"$f":"SUM(L54,N54,P54,R54)","v":0},null,{"$f":"SUM(K54,M54,O54)","v":0},null,null,null,{"$f":"SUM(S54,S56,S55,S57,-AB54)","v":0},null,null,{"$f":"MIN(S54:S57)","v":0}]
["L-402",null,null,null,null,null,null,null,null,null,null,null,null,null,null,null,null,"",{"$f":"SUM(L55,N55,P55,R55)","v":0},null,{"$f":"SUM(K55,M55,O55)","v":0}]
["L-403",null,null,null,null,null,null,null,null,null,null,null,null,null,null,null,null,"",{"$f":"SUM(L56,N56,P56,R56)","v":0},null,{"$f":"SUM(K56,M56,O56)","v":0}]
["L-404",null,null,null,null,null,null,null,null,null,null,null,null,null,null,null,null,"",{"$f":"SUM(L57,N57,P57,R57)","v":0},null,{"$f":"SUM(K57,M57,O57)","v":0}]
[]
["M-401",null,null,null,null,null,null,null,null,null,null,null,null,null,null,null,null,"",{"$f":"SUM(L59,N59,P59,R59)","v":0},null,{"$f":"SUM(K59,M59,O59)","v":0},null,null,null,{"$f":"SUM(S59,S61,S60,S62,-AB59)","v":0},null,null,{"$f":"MIN(S59:S62)","v":0}]
["M-402",null,null,null,null,null,null,null,null,null,null,null,null,null,null,null,null,"",{"$f":"SUM(L60,N60,P60,R60)","v":0},null,{"$f":"SUM(K60,M60,O60)","v":0}]
["M-403",null,null,null,null,null,null,null,null,null,null,null,null,null,null,null,null,"",{"$f":"SUM(L61,N61,P61,R61)","v":0},null,{"$f":"SUM(K61,M61,O61)","v":0}]
["M-404",null,null,null,null,null,null,null,null,null,null,null,null,null,null,null,null,"",{"$f":"SUM(L62,N62,P62,R62)","v":0},null,{"$f":"SUM(K62,M62,O62)","v":0}]
[]
["N-401",null,null,null,null,null,null,null,null,null,null,null,null,null,null,null,null,"",{"$f":"SUM(L64,N64,P64,R64)","v":0},null,{"$f":"SUM(K64,M64,O64)","v":0},null,null,null,{"$f":"SUM(S64,S66,S65,S67,-AB64)","v":0},null,null,{"$f":"MIN(S64:S67)","v":0}]
["N-402",null,null,null,null,null,null,null,null,null,null,null,null,null,null,null,null,"",{"$f":"SUM(L65,N65,P65,R65)","v":0},null,{"$f":"SUM(K65,M65,O65)","v":0}]
["N-403",null,null,null,null,null,null,null,null,null,null,null,null,null,null,null,null,"",{"$f":"SUM(L66,N66,P66,R66)","v":0},null,{"$f":"SUM(K66,M66,O66)","v":0}]
["N-404",null,null,null,null,null,null,null,null,null,null,null,null,null,null,null,null,"",{"$f":"SUM(L67,N67,P67,R67)","v":0},null,{"$f":"SUM(K67,M67,O67)","v":0}]
[]
["P-401",null,null,null,null,null,null,null,null,null,null,null,null,null,null,null,null,{"$f":"IF(Q69=\"1violation\",-7*1,IF(Q69=\"2violations\",-7*2,IF(Q69=\"3violations\",-7*3,IF(Q69=\"\",\"\"))))","v":""},{"$f":"SUM(L69,N69,P69,R69)","v":0},null,{"$f":"SUM(K69,M69,O69)","v":0},null,null,null,{"$f":"SUM(S69,S71,S70,S72,-AB69)","v":0},null,null,{"$f":"MIN(S69:S72)","v":0}]
["P-402",null,null,null,null,null,null,null,null,null,null,null,null,null,null,null,null,"",{"$f":"SUM(L70,N70,P70,R70)","v":0},null,{"$f":"SUM(K70,M70,O70)","v":0}]
["P-403",null,null,null,null,null,null,null,null,null,null,null,null,null,null,null,null,"",{"$f":"SUM(L71,N71,P71,R71)","v":0},null,{"$f":"SUM(K71,M71,O71)","v":0}]
["P-404",null,null,null,null,null,null,null,null,null,null,null,null,null,null,null,null,"",{"$f":"SUM(L72,N72,P72,R72)","v":0},null,{"$f":"SUM(K72,M72,O72)","v":0}]
[]
["Q-401",null,null,null,null,null,null,null,null,null,null,null,null,null,null,null,null,"",{"$f":"SUM(L74,N74,P74,R74)","v":0},null,{"$f":"SUM(K74,M74,O74)","v":0},null,null,null,{"$f":"SUM(S74,S76,S75,S77,-AB74)","v":0},null,null,{"$f":"MIN(S74:S77)","v":0}]
["Q-402",null,null,null,null,null,null,null,null,null,null,null,null,null,null,null,null,"",{"$f":"SUM(L75,N75,P75,R75)","v":0},null,{"$f":"SUM(K75,M75,O75)","v":0}]
["Q-403",null,null,null,null,null,null,null,null,null,null,null,null,null,null,null,null,"",{"$f":"SUM(L76,N76,P76,R76)","v":0},null,{"$f":"SUM(K76,M76,O76)","v":0}]
["Q-404",null,null,null,null,null,null,null,null,null,null,null,null,null,null,null,null,"",{"$f":"SUM(L77,N77,P77,R77)","v":0},null,{"$f":"SUM(K77,M77,O77)","v":0}]
[]
["R-401",null,null,null,null,null,null,null,null,null,null,null,null,null,null,null,null,"",{"$f":"SUM(L79,N79,P79,R79)","v":0},null,{"$f":"SUM(K79,M79,O79)","v":0},null,null,null,{"$f":"SUM(S79,S81,S80,S82,-AB79)","v":0},null,null,{"$f":"MIN(S79:S82)","v":0}]
["R-402",null,null,null,null,null,null,null,null,null,null,null,null,null,null,null,null,"",{"$f":"SUM(L80,N80,P80,R80)","v":0},null,{"$f":"SUM(K80,M80,O80)","v":0}]
["R-403",null,null,null,null,null,null,null,null,null,null,null,null,null,null,null,null,"",{"$f":"SUM(L81,N81,P81,R81)","v":0},null,{"$f":"SUM(K81,M81,O81)","v":0}]
["R-404",null,null,null,null,null,null,null,null,null,null,null,null,null,null,null,null,"",{"$f":"SUM(L82,N82,P82,R82)","v":0},null,{"$f":"SUM(K82,M82,O82)","v":0}]
[]
["S-401",null,null,null,null,null,null,null,null,null,null,null,null,null,null,null,null,"",{"$f":"SUM(L84,N84,P84,R84)","v":0},null,{"$f":"SUM(K84,M84,O84)","v":0},null,null,null,{"$f":"SUM(S84,S86,S85,S87,-AB84)","v":0},null,null,{"$f":"MIN(S84:S87)","v":0}]
["S-402",null,null,null,null,null,null,null,null,null,null,null,null,null,null,null,null,"",{"$f":"SUM(L85,N85,P85,R85)","v":0},null,{"$f":"SUM(K85,M85,O85)","v":0}]
["S-403",null,null,null,null,null,null,null,null,null,null,null,null,null,null,null,null,"",{"$f":"SUM(L86,N86,P86,R86)","v":0},null,{"$f":"SUM(K86,M86,O86)","v":0}]
["S-404",null,null,null,null,null,null,null,null,null,null,null,null,null,null,null,null,"",{"$f":"SUM(L87,N87,P87,R87)","v":0},null,{"$f":"SUM(K87,M87,O87)","v":0}]
[]
["T-401",null,null,null,null,null,null,null,null,null,null,null,null,null,null,null,null,"",{"$f":"SUM(L89,N89,P89,R89)","v":0},null,{"$f":"SUM(K89,M89,O89)","v":0},null,null,null,{"$f":"SUM(S89,S91,S90,S92,-AB89)","v":0},null,null,{"$f":"MIN(S89:S92)","v":0}]
["T-402",null,null,null,null,null,null,null,null,null,null,null,null,null,null,null,null,"",{"$f":"SUM(L90,N90,P90,R90)","v":0},null,{"$f":"SUM(K90,M90,O90)","v":0}]
["T-403",null,null,null,null,null,null,null,null,null,null,null,null,null,null,null,null,"",{"$f":"SUM(L91,N91,P91,R91)","v":0},null,{"$f":"SUM(K91,M91,O91)","v":0}]
["T-404",null,null,null,null,null,null,null,null,null,null,null,null,null,null,null,null,"",{"$f":"SUM(L92,N92,P92,R92)","v":0},null,{"$f":"SUM(K92,M92,O92)","v":0}]
[]
["U-401",null,null,null,null,null,null,null,null,null,null,null,null,null,null,null,null,"",{"$f":"SUM(L94,N94,P94,R94)","v":0},null,{"$f":"SUM(K94,M94,O94)","v":0},null,null,null,{"$f":"SUM(S94,S96,S95,S97,-AB94)","v":0},null,null,{"$f":"MIN(S94:S97)","v":0}]
["U-402",null,null,null,null,null,null,null,null,null,null,null,null,null,null,null,null,"",{"$f":"SUM(L95,N95,P95,R95)","v":0},null,{"$f":"SUM(K95,M95,O95)","v":0}]
["U-403",null,null,null,null,null,null,null,null,null,null,null,null,null,null,null,null,"",{"$f":"SUM(L96,N96,P96,R96)","v":0},null,{"$f":"SUM(K96,M96,O96)","v":0}]
["U-404",null,null,null,null,null,null,null,null,null,null,null,null,null,null,null,null,"",{"$f":"SUM(L97,N97,P97,R97)","v":0},null,{"$f":"SUM(K97,M97,O97)","v":0}]
[]
["V-401",null,null,null,null,null,null,null,null,null,null,null,null,null,null,null,null,"",{"$f":"SUM(L99,N99,P99,R99)","v":0},null,{"$f":"SUM(K99,M99,O99)","v":0},null,null,null,{"$f":"SUM(S99,S101,S100,S102,-AB99)","v":0},null,null,{"$f":"MIN(S99:S102)","v":0}]
["V-402",null,null,null,null,null,null,null,null,null,null,null,null,null,null,null,null,"",{"$f":"SUM(L100,N100,P100,R100)","v":0},null,{"$f":"SUM(K100,M100,O100)","v":0}]
["V-403",null,null,null,null,null,null,null,null,null,null,null,null,null,null,null,null,"",{"$f":"SUM(L101,N101,P101,R101)","v":0},null,{"$f":"SUM(K101,M101,O101)","v":0}]
["V-404",null,null,null,null,null,null,null,null,null,null,null,null,null,null,null,null,"",{"$f":"SUM(L102,N102,P102,R102)","v":0},null,{"$f":"SUM(K102,M102,O102)","v":0}]
[]
["W-401",null,null,null,null,null,null,null,null,null,null,null,null,null,null,null,null,"",{"$f":"SUM(L104,N104,P104,R104)","v":0},null,{"$f":"SUM(K104,M104,O104)","v":0},null,null,null,{"$f":"SUM(S104,S106,S105,S107,-AB104)","v":0},null,null,{"$f":"MIN(S104:S107)","v":0}]
["W-402",null,null,null,null,null,null,null,null,null,null,null,null,null,null,null,null,"",{"$f":"SUM(L105,N105,P105,R105)","v":0},null,{"$f":"SUM(K105,M105,O105)","v":0}]
["W-403",null,null,null,null,null,null,null,null,null,null,null,null,null,null,null,null,"",{"$f":"SUM(L106,N106,P106,R106)","v":0},null,{"$f":"SUM(K106,M106,O106)","v":0}]
["W-404",null,null,null,null,null,null,null,null,null,null,null,null,null,null,null,null,"",{"$f":"SUM(L107,N107,P107,R107)","v":0},null,{"$f":"SUM(K107,M107,O107)","v":0}]
[]
["X-401",null,null,null,null,null,null,null,null,null,null,null,null,null,null,null,null,"",{"$f":"SUM(L109,N109,P109,R109)","v":0},null,{"$f":"SUM(K109,M109,O109)","v":0},null,null,null,{"$f":"SUM(S109,S111,S110,S112,-AB109)","v":0},null,null,{"$f":"MIN(S109:S112)","v":0}]
["X-402",null,null,null,null,null,null,null,null,null,null,null,null,null,null,null,null,"",{"$f":"SUM(L110,N110,P110,R110)","v":0},null,{"$f":"SUM(K110,M110,O110)","v":0}]
["X-403",null,null,null,null,null,null,null,null,null,null,null,null,null,null,null,null,"",{"$f":"SUM(L111,N111,P111,R111)","v":0},null,{"$f":"SUM(K111,M111,O111)","v":0}]
["X-404",null,null,null,null,null,null,null,null,null,null,null,null,null,null,null,null,"",{"$f":"SUM(L112,N112,P112,R112)","v":0},null,{"$f":"SUM(K112,M112,O112)","v":0}]
[]
["Y-401",null,null,null,null,null,null,null,null,null,null,null,null,null,null,null,null,"",{"$f":"SUM(L114,N114,P114,R114)","v":0},null,{"$f":"SUM(K114,M114,O114)","v":0},null,null,null,{"$f":"SUM(S114,S116,S115,S117,-AB114)","v":0},null,null,{"$f":"MIN(S114:S117)","v":0}]
["Y-402",null,null,null,null,null,null,null,null,null,null,null,null,null,null,null,null,"",{"$f":"SUM(L115,N115,P115,R115)","v":0},null,{"$f":"SUM(K115,M115,O115)","v":0}]
["Y-403",null,null,null,null,null,null,null,null,null,null,null,null,null,null,null,null,"",{"$f":"SUM(L116,N116,P116,R116)","v":0},null,{"$f":"SUM(K116,M116,O116)","v":0}]
["Y-404",null,null,null,null,null,null,null,null,null,null,null,null,null,null,null,null,"",{"$f":"SUM(L117,N117,P117,R117)","v":0},null,{"$f":"SUM(K117,M117,O117)","v":0}]
[]
["Z-401",null,null,null,null,null,null,null,null,null,null,null,null,null,null,null,null,"",{"$f":"SUM(L119,N119,P119,R119)","v":0},null,{"$f":"SUM(K119,M119,O119)","v":0},null,null,null,{"$f":"SUM(S119,S121,S120,S122,-AB119)","v":0},null,null,{"$f":"MIN(S119:S122)","v":0}]
["Z-402",null,null,null,null,null,null,null,null,null,null,null,null,null,null,null,null,"",{"$f":"SUM(L120,N120,P120,R120)","v":0},null,{"$f":"SUM(K120,M120,O120)","v":0}]
["Z-403",null,null,null,null,null,null,null,null,null,null,null,null,null,null,null,null,"",{"$f":"SUM(L121,N121,P121,R121)","v":0},null,{"$f":"SUM(K121,M121,O121)","v":0}]
["Z-404",null,null,null,null,null,null,null,null,null,null,null,null,null,null,null,null,"",{"$f":"SUM(L122,N122,P122,R122)","v":0},null,{"$f":"SUM(K122,M122,O122)","v":0}]
[]
["AA-401",null,null,null,null,null,null,null,null,null,null,null,null,null,null,null,null,"",{"$f":"SUM(L124,N124,P124,R124)","v":0},null,{"$f":"SUM(K124,M124,O124)","v":0},null,null,null,{"$f":"SUM(S124,S126,S125,S127,-AB124)","v":0},null,null,{"$f":"MIN(S124:S127)","v":0}]
["AA-402",null,null,null,null,null,null,null,null,null,null,null,null,null,null,null,null,"",{"$f":"SUM(L125,N125,P125,R125)","v":0},null,{"$f":"SUM(K125,M125,O125)","v":0}]
["AA-403",null,null,null,null,null,null,null,null,null,null,null,null,null,null,null,null,"",{"$f":"SUM(L126,N126,P126,R126)","v":0},null,{"$f":"SUM(K126,M126,O126)","v":0}]
["AA-404",null,null,null,null,null,null,null,null,null,null,null,null,null,null,null,null,"",{"$f":"SUM(L127,N127,P127,R127)","v":0},null,{"$f":"SUM(K127,M127,O127)","v":0}]
[]
["BB-401",null,null,null,null,null,null,null,null,null,null,null,null,null,null,null,null,"",{"$f":"SUM(L129,N129,P129,R129)","v":0},null,{"$f":"SUM(K129,M129,O129)","v":0},null,null,null,{"$f":"SUM(S129,S131,S130,S132,-AB129)","v":0},null,null,{"$f":"MIN(S129:S132)","v":0}]
["BB-402",null,null,null,null,null,null,null,null,null,null,null,null,null,null,null,null,"",{"$f":"SUM(L130,N130,P130,R130)","v":0},null,{"$f":"SUM(K130,M130,O130)","v":0}]
["BB-403",null,null,null,null,null,null,null,null,null,null,null,null,null,null,null,null,"",{"$f":"SUM(L131,N131,P131,R131)","v":0},null,{"$f":"SUM(K131,M131,O131)","v":0}]
["BB-404",null,null,null,null,null,null,null,null,null,null,null,null,null,null,null,null,"",{"$f":"SUM(L132,N132,P132,R132)","v":0},null,{"$f":"SUM(K132,M132,O132)","v":0}]
[]
["CC-401",null,null,null,null,null,null,null,null,null,null,null,null,null,null,null,null,{"$f":"IF(Q134=\"1violation\",-7*1,IF(Q134=\"2violations\",-7*2,IF(Q134=\"3violations\",-7*3,IF(Q134=\"\",\"\"))))","v":""},{"$f":"SUM(L134,N134,P134,R134)","v":0},null,{"$f":"SUM(K134,M134,O134)","v":0},null,null,null,{"$f":"SUM(S134,S136,S135,S137,-AB134)","v":0},null,null,{"$f":"MIN(S134:S137)","v":0}]
["CC-402",null,null,null,null,null,null,null,null,null,null,null,null,null,null,null,null,"",{"$f":"SUM(L135,N135,P135,R135)","v":0},null,{"$f":"SUM(K135,M135,O135)","v":0}]
["CC-403",null,null,null,null,null,null,null,null,null,null,null,null,null,null,null,null,"",{"$f":"SUM(L136,N136,P136,R136)","v":0},null,{"$f":"SUM(K136,M136,O136)","v":0}]
["CC-404",null,null,null,null,null,null,null,null,null,null,null,null,null,null,null,null,"",{"$f":"SUM(L137,N137,P137,R137)","v":0},null,{"$f":"SUM(K137,M137,O137)","v":0}]
[]
["DD-401",null,null,null,null,null,null,null,null,null,null,null,null,null,null,null,null,"",{"$f":"SUM(L139,N139,P139,R139)","v":0},null,{"$f":"SUM(K139,M139,O139)","v":0},null,null,null,{"$f":"SUM(S139,S141,S140,S142,-AB139)","v":0},null,null,{"$f":"MIN(S139:S142)","v":0}]
["DD-402",null,null,null,null,null,null,null,null,null,null,null,null,null,null,null,null,"",{"$f":"SUM(L140,N140,P140,R140)","v":0},null,{"$f":"SUM(K140,M140,O140)","v":0}]
["DD-403",null,null,null,null,null,null,null,null,null,null,null,null,null,null,null,null,"",{"$f":"SUM(L141,N141,P141,R141)","v":0},null,{"$f":"SUM(K141,M141,O141)","v":0}]
["DD-404",null,null,null,null,null,null,null,null,null,null,null,null,null,null,null,null,"",{"$f":"SUM(L142,N142,P142,R142)","v":0},null,{"$f":"SUM(K142,M142,O142)","v":0}]
[]
["EE-401",null,null,null,null,null,null,null,null,null,null,null,null,null,null,null,null,"",{"$f":"SUM(L144,N144,P144,R144)","v":0},null,{"$f":"SUM(K144,M144,O144)","v":0},null,null,null,{"$f":"SUM(S144,S146,S145,S147,-AB144)","v":0},null,null,{"$f":"MIN(S144:S147)","v":0}]
["EE-402",null,null,null,null,null,null,null,null,null,null,null,null,null,null,null,null,"",{"$f":"SUM(L145,N145,P145,R145)","v":0},null,{"$f":"SUM(K145,M145,O145)","v":0}]
["EE-403",null,null,null,null,null,null,null,null,null,null,null,null,null,null,null,null,"",{"$f":"SUM(L146,N146,P146,R146)","v":0},null,{"$f":"SUM(K146,M146,O146)","v":0}]
["EE-404",null,null,null,null,null,null,null,null,null,null,null,null,null,null,null,null,"",{"$f":"SUM(L147,N147,P147,R147)","v":0},null,{"$f":"SUM(K147,M147,O147)","v":0}]
[]
["FF-401",null,null,null,null,null,null,null,null,null,null,null,null,null,null,null,null,"",{"$f":"SUM(L149,N149,P149,R149)","v":0},null,{"$f":"SUM(K149,M149,O149)","v":0},null,null,null,{"$f":"SUM(S149,S151,S150,S152,-AB149)","v":0},null,null,{"$f":"MIN(S149:S152)","v":0}]
["FF-402",null,null,null,null,null,null,null,null,null,null,null,null,null,null,null,null,"",{"$f":"SUM(L150,N150,P150,R150)","v":0},null,{"$f":"SUM(K150,M150,O150)","v":0}]
["FF-403",null,null,null,null,null,null,null,null,null,null,null,null,null,null,null,null,"",{"$f":"SUM(L151,N151,P151,R151)","v":0},null,{"$f":"SUM(K151,M151,O151)","v":0}]
["FF-404",null,null,null,null,null,null,null,null,null,null,null,null,null,null,null,null,"",{"$f":"SUM(L152,N152,P152,R152)","v":0},null,{"$f":"SUM(K152,M152,O152)","v":0}]

{"sheet":"ContemporaryMR","index":8,"n_rows":122,"n_cols":12,"rows_kept":122,"cut":false,"hidden":false,"merged":[]}
["Contemporary ",0,null,null,"Finals Medals Round Scores"]
["ID","Rank","Score","LeaveBlank","MR 1 Rank","MR 1 Score","MR2 Rank","MR 2 Score","MR3 Rank","MR 3 Score","Total MR Rank","Total MR Score"]
[{"$f":"Contemporary!A5","v":"A-402"},{"$f":"Contemporary!U5","v":5},{"$f":"Contemporary!S5","v":73},{"$f":"IF((Table7101213[[#This Row],[Rank]]+Table7101213[[#This Row],[Score]])>0,1,0)","v":1},3,23,3,24,2,22,{"$f":"SUM(E3,G3,I3)","v":8},{"$f":"SUM(F3,H3,J3)","v":69}]
[{"$f":"Contemporary!A7","v":"A-404"},{"$f":"Contemporary!U7","v":7},{"$f":"Contemporary!S7","v":69},{"$f":"IF((Table7101213[[#This Row],[Rank]]+Table7101213[[#This Row],[Score]])>0,1,0)","v":1},6,20,4,24,4,20,14,64]
[{"$f":"Contemporary!A24","v":"E-401"},{"$f":"Contemporary!U24","v":7},{"$f":"Contemporary!S24","v":69},{"$f":"IF((Table7101213[[#This Row],[Rank]]+Table7101213[[#This Row],[Score]])>0,1,0)","v":1},4,22,5,23,1,24,10,69]
[{"$f":"Contemporary!A44","v":"J-401"},{"$f":"Contemporary!U44","v":7},{"$f":"Contemporary!S44","v":68},{"$f":"IF((Table7101213[[#This Row],[Rank]]+Table7101213[[#This Row],[Score]])>0,1,0)","v":1},2,24,1,25,5,19,8,68]
[{"$f":"Contemporary!A10","v":"B-402"},{"$f":"Contemporary!U10","v":8},{"$f":"Contemporary!S10","v":64},{"$f":"IF((Table7101213[[#This Row],[Rank]]+Table7101213[[#This Row],[Score]])>0,1,0)","v":1},5,20,2,25,3,22,10,67]
[{"$f":"Contemporary!A49","v":"K-401"},{"$f":"Contemporary!U49","v":8},{"$f":"Contemporary!S49","v":62},{"$f":"IF((Table7101213[[#This Row],[Rank]]+Table7101213[[#This Row],[Score]])>0,1,0)","v":1},1,24,6,23,6,18,13,65]
[{"$f":"Contemporary!A4","v":"A-401"},{"$f":"Contemporary!U4","v":10},{"$f":"Contemporary!S4","v":68},{"$f":"IF((Table7101213[[#This Row],[Rank]]+Table7101213[[#This Row],[Score]])>0,1,0)","v":1},null,null,null,null,null,null,0,0]
[{"$f":"Contemporary!A14","v":"C-401"},{"$f":"Contemporary!U14","v":10},{"$f":"Contemporary!S14","v":63},{"$f":"IF((Table7101213[[#This Row],[Rank]]+Table7101213[[#This Row],[Score]])>0,1,0)","v":1},null,null,null,null,null,null,0,0]
[{"$f":"Contemporary!A9","v":"B-401"},{"$f":"Contemporary!U9","v":10},{"$f":"Contemporary!S9","v":58},{"$f":"IF((Table7101213[[#This Row],[Rank]]+Table7101213[[#This Row],[Score]])>0,1,0)","v":1},null,null,null,null,null,null,0,0]
[{"$f":"Contemporary!A6","v":"A-403"},{"$f":"Contemporary!U6","v":12},{"$f":"Contemporary!S6","v":52},{"$f":"IF((Table7101213[[#This Row],[Rank]]+Table7101213[[#This Row],[Score]])>0,1,0)","v":1},null,null,null,null,null,null,0,0]
[{"$f":"Contemporary!A19","v":"D-401"},{"$f":"Contemporary!U19","v":0},{"$f":"Contemporary!S19","v":0},{"$f":"IF((Table7101213[[#This Row],[Rank]]+Table7101213[[#This Row],[Score]])>0,1,0)","v":0},null,null,null,null,null,null,0,0]
[{"$f":"Contemporary!A124","v":"AA-401"},{"$f":"Contemporary!U124","v":0},{"$f":"Contemporary!S124","v":0},{"$f":"IF((Table7101213[[#This Row],[Rank]]+Table7101213[[#This Row],[Score]])>0,1,0)","v":0},null,null,null,null,null,null,0,0]
[{"$f":"Contemporary!A125","v":"AA-402"},{"$f":"Contemporary!U125","v":0},{"$f":"Contemporary!S125","v":0},{"$f":"IF((Table7101213[[#This Row],[Rank]]+Table7101213[[#This Row],[Score]])>0,1,0)","v":0},null,null,null,null,null,null,0,0]
[{"$f":"Contemporary!A126","v":"AA-403"},{"$f":"Contemporary!U126","v":0},{"$f":"Contemporary!S126","v":0},{"$f":"IF((Table7101213[[#This Row],[Rank]]+Table7101213[[#This Row],[Score]])>0,1,0)","v":0},null,null,null,null,null,null,0,0]
[{"$f":"Contemporary!A127","v":"AA-404"},{"$f":"Contemporary!U127","v":0},{"$f":"Contemporary!S127","v":0},{"$f":"IF((Table7101213[[#This Row],[Rank]]+Table7101213[[#This Row],[Score]])>0,1,0)","v":0},null,null,null,null,null,null,0,0]
[{"$f":"Contemporary!A11","v":"B-403"},{"$f":"Contemporary!U11","v":0},{"$f":"Contemporary!S11","v":0},{"$f":"IF((Table7101213[[#This Row],[Rank]]+Table7101213[[#This Row],[Score]])>0,1,0)","v":0},null,null,null,null,null,null,0,0]
[{"$f":"Contemporary!A12","v":"B-404"},{"$f":"Contemporary!U12","v":0},{"$f":"Contemporary!S12","v":0},{"$f":"IF((Table7101213[[#This Row],[Rank]]+Table7101213[[#This Row],[Score]])>0,1,0)","v":0},null,null,null,null,null,null,0,0]
[{"$f":"Contemporary!A129","v":"BB-401"},{"$f":"Contemporary!U129","v":0},{"$f":"Contemporary!S129","v":0},{"$f":"IF((Table7101213[[#This Row],[Rank]]+Table7101213[[#This Row],[Score]])>0,1,0)","v":0},null,null,null,null,null,null,0,0]
[{"$f":"Contemporary!A130","v":"BB-402"},{"$f":"Contemporary!U130","v":0},{"$f":"Contemporary!S130","v":0},{"$f":"IF((Table7101213[[#This Row],[Rank]]+Table7101213[[#This Row],[Score]])>0,1,0)","v":0},null,null,null,null,null,null,0,0]
[{"$f":"Contemporary!A131","v":"BB-403"},{"$f":"Contemporary!U131","v":0},{"$f":"Contemporary!S131","v":0},{"$f":"IF((Table7101213[[#This Row],[Rank]]+Table7101213[[#This Row],[Score]])>0,1,0)","v":0},null,null,null,null,null,null,0,0]
[{"$f":"Contemporary!A132","v":"BB-404"},{"$f":"Contemporary!U132","v":0},{"$f":"Contemporary!S132","v":0},{"$f":"IF((Table7101213[[#This Row],[Rank]]+Table7101213[[#This Row],[Score]])>0,1,0)","v":0},null,null,null,null,null,null,0,0]
[{"$f":"Contemporary!A15","v":"C-402"},{"$f":"Contemporary!U15","v":0},{"$f":"Contemporary!S15","v":0},{"$f":"IF((Table7101213[[#This Row],[Rank]]+Table7101213[[#This Row],[Score]])>0,1,0)","v":0},null,null,null,null,null,null,0,0]
[{"$f":"Contemporary!A16","v":"C-403"},{"$f":"Contemporary!U16","v":0},{"$f":"Contemporary!S16","v":0},{"$f":"IF((Table7101213[[#This Row],[Rank]]+Table7101213[[#This Row],[Score]])>0,1,0)","v":0},null,null,null,null,null,null,0,0]
[{"$f":"Contemporary!A17","v":"C-404"},{"$f":"Contemporary!U17","v":0},{"$f":"Contemporary!S17","v":0},{"$f":"IF((Table7101213[[#This Row],[Rank]]+Table7101213[[#This Row],[Score]])>0,1,0)","v":0},null,null,null,null,null,null,0,0]
[{"$f":"Contemporary!A134","v":"CC-401"},{"$f":"Contemporary!U134","v":0},{"$f":"Contemporary!S134","v":0},{"$f":"IF((Table7101213[[#This Row],[Rank]]+Table7101213[[#This Row],[Score]])>0,1,0)","v":0},null,null,null,null,null,null,0,0]
[{"$f":"Contemporary!A135","v":"CC-402"},{"$f":"Contemporary!U135","v":0},{"$f":"Contemporary!S135","v":0},{"$f":"IF((Table7101213[[#This Row],[Rank]]+Table7101213[[#This Row],[Score]])>0,1,0)","v":0},null,null,null,null,null,null,0,0]
[{"$f":"Contemporary!A136","v":"CC-403"},{"$f":"Contemporary!U136","v":0},{"$f":"Contemporary!S136","v":0},{"$f":"IF((Table7101213[[#This Row],[Rank]]+Table7101213[[#This Row],[Score]])>0,1,0)","v":0},null,null,null,null,null,null,0,0]
[{"$f":"Contemporary!A137","v":"CC-404"},{"$f":"Contemporary!U137","v":0},{"$f":"Contemporary!S137","v":0},{"$f":"IF((Table7101213[[#This Row],[Rank]]+Table7101213[[#This Row],[Score]])>0,1,0)","v":0},null,null,null,null,null,null,0,0]
[{"$f":"Contemporary!A20","v":"D-402"},{"$f":"Contemporary!U20","v":0},{"$f":"Contemporary!S20","v":0},{"$f":"IF((Table7101213[[#This Row],[Rank]]+Table7101213[[#This Row],[Score]])>0,1,0)","v":0},null,null,null,null,null,null,0,0]
[{"$f":"Contemporary!A21","v":"D-403"},{"$f":"Contemporary!U21","v":0},{"$f":"Contemporary!S21","v":0},{"$f":"IF((Table7101213[[#This Row],[Rank]]+Table7101213[[#This Row],[Score]])>0,1,0)","v":0},null,null,null,null,null,null,0,0]
[{"$f":"Contemporary!A22","v":"D-404"},{"$f":"Contemporary!U22","v":0},{"$f":"Contemporary!S22","v":0},{"$f":"IF((Table7101213[[#This Row],[Rank]]+Table7101213[[#This Row],[Score]])>0,1,0)","v":0},null,null,null,null,null,null,0,0]
[{"$f":"Contemporary!A139","v":"DD-401"},{"$f":"Contemporary!U139","v":0},{"$f":"Contemporary!S139","v":0},{"$f":"IF((Table7101213[[#This Row],[Rank]]+Table7101213[[#This Row],[Score]])>0,1,0)","v":0},null,null,null,null,null,null,0,0]
[{"$f":"Contemporary!A140","v":"DD-402"},{"$f":"Contemporary!U140","v":0},{"$f":"Contemporary!S140","v":0},{"$f":"IF((Table7101213[[#This Row],[Rank]]+Table7101213[[#This Row],[Score]])>0,1,0)","v":0},null,null,null,null,null,null,{"$f":"SUM(E35,G35,I35)","v":0},{"$f":"SUM(F35,H35,J35)","v":0}]
[{"$f":"Contemporary!A141","v":"DD-403"},{"$f":"Contemporary!U141","v":0},{"$f":"Contemporary!S141","v":0},{"$f":"IF((Table7101213[[#This Row],[Rank]]+Table7101213[[#This Row],[Score]])>0,1,0)","v":0},null,null,null,null,null,null,0,0]
[{"$f":"Contemporary!A142","v":"DD-404"},{"$f":"Contemporary!U142","v":0},{"$f":"Contemporary!S142","v":0},{"$f":"IF((Table7101213[[#This Row],[Rank]]+Table7101213[[#This Row],[Score]])>0,1,0)","v":0},null,null,null,null,null,null,0,0]
[{"$f":"Contemporary!A25","v":"E-402"},{"$f":"Contemporary!U25","v":0},{"$f":"Contemporary!S25","v":0},{"$f":"IF((Table7101213[[#This Row],[Rank]]+Table7101213[[#This Row],[Score]])>0,1,0)","v":0},null,null,null,null,null,null,0,0]
[{"$f":"Contemporary!A26","v":"E-403"},{"$f":"Contemporary!U26","v":0},{"$f":"Contemporary!S26","v":0},{"$f":"IF((Table7101213[[#This Row],[Rank]]+Table7101213[[#This Row],[Score]])>0,1,0)","v":0},null,null,null,null,null,null,0,0]
[{"$f":"Contemporary!A27","v":"E-404"},{"$f":"Contemporary!U27","v":0},{"$f":"Contemporary!S27","v":0},{"$f":"IF((Table7101213[[#This Row],[Rank]]+Table7101213[[#This Row],[Score]])>0,1,0)","v":0},null,null,null,null,null,null,0,0]
[{"$f":"Contemporary!A144","v":"EE-401"},{"$f":"Contemporary!U144","v":0},{"$f":"Contemporary!S144","v":0},{"$f":"IF((Table7101213[[#This Row],[Rank]]+Table7101213[[#This Row],[Score]])>0,1,0)","v":0},null,null,null,null,null,null,0,0]
[{"$f":"Contemporary!A145","v":"EE-402"},{"$f":"Contemporary!U145","v":0},{"$f":"Contemporary!S145","v":0},{"$f":"IF((Table7101213[[#This Row],[Rank]]+Table7101213[[#This Row],[Score]])>0,1,0)","v":0},null,null,null,null,null,null,0,0]
[{"$f":"Contemporary!A146","v":"EE-403"},{"$f":"Contemporary!U146","v":0},{"$f":"Contemporary!S146","v":0},{"$f":"IF((Table7101213[[#This Row],[Rank]]+Table7101213[[#This Row],[Score]])>0,1,0)","v":0},null,null,null,null,null,null,0,0]
[{"$f":"Contemporary!A147","v":"EE-404"},{"$f":"Contemporary!U147","v":0},{"$f":"Contemporary!S147","v":0},{"$f":"IF((Table7101213[[#This Row],[Rank]]+Table7101213[[#This Row],[Score]])>0,1,0)","v":0},null,null,null,null,null,null,0,0]
[{"$f":"Contemporary!A29","v":"F-401"},{"$f":"Contemporary!U29","v":0},{"$f":"Contemporary!S29","v":0},{"$f":"IF((Table7101213[[#This Row],[Rank]]+Table7101213[[#This Row],[Score]])>0,1,0)","v":0},null,null,null,null,null,null,0,0]
[{"$f":"Contemporary!A30","v":"F-402"},{"$f":"Contemporary!U30","v":0},{"$f":"Contemporary!S30","v":0},{"$f":"IF((Table7101213[[#This Row],[Rank]]+Table7101213[[#This Row],[Score]])>0,1,0)","v":0},null,null,null,null,null,null,0,0]
[{"$f":"Contemporary!A31","v":"F-403"},{"$f":"Contemporary!U31","v":0},{"$f":"Contemporary!S31","v":0},{"$f":"IF((Table7101213[[#This Row],[Rank]]+Table7101213[[#This Row],[Score]])>0,1,0)","v":0},null,null,null,null,null,null,0,0]
[{"$f":"Contemporary!A32","v":"F-404"},{"$f":"Contemporary!U32","v":0},{"$f":"Contemporary!S32","v":0},{"$f":"IF((Table7101213[[#This Row],[Rank]]+Table7101213[[#This Row],[Score]])>0,1,0)","v":0},null,null,null,null,null,null,0,0]
[{"$f":"Contemporary!A34","v":"G-401"},{"$f":"Contemporary!U34","v":0},{"$f":"Contemporary!S34","v":0},{"$f":"IF((Table7101213[[#This Row],[Rank]]+Table7101213[[#This Row],[Score]])>0,1,0)","v":0},null,null,null,null,null,null,0,0]
[{"$f":"Contemporary!A35","v":"G-402"},{"$f":"Contemporary!U35","v":0},{"$f":"Contemporary!S35","v":0},{"$f":"IF((Table7101213[[#This Row],[Rank]]+Table7101213[[#This Row],[Score]])>0,1,0)","v":0},null,null,null,null,null,null,0,0]
[{"$f":"Contemporary!A36","v":"G-403"},{"$f":"Contemporary!U36","v":0},{"$f":"Contemporary!S36","v":0},{"$f":"IF((Table7101213[[#This Row],[Rank]]+Table7101213[[#This Row],[Score]])>0,1,0)","v":0},null,null,null,null,null,null,0,0]
[{"$f":"Contemporary!A37","v":"G-404"},{"$f":"Contemporary!U37","v":0},{"$f":"Contemporary!S37","v":0},{"$f":"IF((Table7101213[[#This Row],[Rank]]+Table7101213[[#This Row],[Score]])>0,1,0)","v":0},null,null,null,null,null,null,0,0]
[{"$f":"Contemporary!A39","v":"H-401"},{"$f":"Contemporary!U39","v":0},{"$f":"Contemporary!S39","v":0},{"$f":"IF((Table7101213[[#This Row],[Rank]]+Table7101213[[#This Row],[Score]])>0,1,0)","v":0},null,null,null,null,null,null,0,0]
[{"$f":"Contemporary!A40","v":"H-402"},{"$f":"Contemporary!U40","v":0},{"$f":"Contemporary!S40","v":0},{"$f":"IF((Table7101213[[#This Row],[Rank]]+Table7101213[[#This Row],[Score]])>0,1,0)","v":0},null,null,null,null,null,null,0,0]
[{"$f":"Contemporary!A41","v":"H-403"},{"$f":"Contemporary!U41","v":0},{"$f":"Contemporary!S41","v":0},{"$f":"IF((Table7101213[[#This Row],[Rank]]+Table7101213[[#This Row],[Score]])>0,1,0)","v":0},null,null,null,null,null,null,0,0]
[{"$f":"Contemporary!A42","v":"H-404"},{"$f":"Contemporary!U42","v":0},{"$f":"Contemporary!S42","v":0},{"$f":"IF((Table7101213[[#This Row],[Rank]]+Table7101213[[#This Row],[Score]])>0,1,0)","v":0},null,null,null,null,null,null,0,0]
[{"$f":"Contemporary!A45","v":"J-402"},{"$f":"Contemporary!U45","v":0},{"$f":"Contemporary!S45","v":0},{"$f":"IF((Table7101213[[#This Row],[Rank]]+Table7101213[[#This Row],[Score]])>0,1,0)","v":0},null,null,null,null,null,null,0,0]
[{"$f":"Contemporary!A46","v":"J-403"},{"$f":"Contemporary!U46","v":0},{"$f":"Contemporary!S46","v":0},{"$f":"IF((Table7101213[[#This Row],[Rank]]+Table7101213[[#This Row],[Score]])>0,1,0)","v":0},null,null,null,null,null,null,0,0]
[{"$f":"Contemporary!A47","v":"J-404"},{"$f":"Contemporary!U47","v":0},{"$f":"Contemporary!S47","v":0},{"$f":"IF((Table7101213[[#This Row],[Rank]]+Table7101213[[#This Row],[Score]])>0,1,0)","v":0},null,null,null,null,null,null,0,0]
[{"$f":"Contemporary!A50","v":"K-402"},{"$f":"Contemporary!U50","v":0},{"$f":"Contemporary!S50","v":0},{"$f":"IF((Table7101213[[#This Row],[Rank]]+Table7101213[[#This Row],[Score]])>0,1,0)","v":0},null,null,null,null,null,null,0,0]
[{"$f":"Contemporary!A51","v":"K-403"},{"$f":"Contemporary!U51","v":0},{"$f":"Contemporary!S51","v":0},{"$f":"IF((Table7101213[[#This Row],[Rank]]+Table7101213[[#This Row],[Score]])>0,1,0)","v":0},null,null,null,null,null,null,0,0]
[{"$f":"Contemporary!A52","v":"K-404"},{"$f":"Contemporary!U52","v":0},{"$f":"Contemporary!S52","v":0},{"$f":"IF((Table7101213[[#This Row],[Rank]]+Table7101213[[#This Row],[Score]])>0,1,0)","v":0},null,null,null,null,null,null,0,0]
[{"$f":"Contemporary!A54","v":"L-401"},{"$f":"Contemporary!U54","v":0},{"$f":"Contemporary!S54","v":0},{"$f":"IF((Table7101213[[#This Row],[Rank]]+Table7101213[[#This Row],[Score]])>0,1,0)","v":0},null,null,null,null,null,null,0,0]
[{"$f":"Contemporary!A55","v":"L-402"},{"$f":"Contemporary!U55","v":0},{"$f":"Contemporary!S55","v":0},{"$f":"IF((Table7101213[[#This Row],[Rank]]+Table7101213[[#This Row],[Score]])>0,1,0)","v":0},null,null,null,null,null,null,0,0]
[{"$f":"Contemporary!A56","v":"L-403"},{"$f":"Contemporary!U56","v":0},{"$f":"Contemporary!S56","v":0},{"$f":"IF((Table7101213[[#This Row],[Rank]]+Table7101213[[#This Row],[Score]])>0,1,0)","v":0},null,null,null,null,null,null,0,0]
[{"$f":"Contemporary!A57","v":"L-404"},{"$f":"Contemporary!U57","v":0},{"$f":"Contemporary!S57","v":0},{"$f":"IF((Table7101213[[#This Row],[Rank]]+Table7101213[[#This Row],[Score]])>0,1,0)","v":0},null,null,null,null,null,null,0,0]
[{"$f":"Contemporary!A59","v":"M-401"},{"$f":"Contemporary!U59","v":0},{"$f":"Contemporary!S59","v":0},{"$f":"IF((Table7101213[[#This Row],[Rank]]+Table7101213[[#This Row],[Score]])>0,1,0)","v":0},null,null,null,null,null,null,{"$f":"SUM(E67,G67,I67)","v":0},{"$f":"SUM(F67,H67,J67)","v":0}]
[{"$f":"Contemporary!A60","v":"M-402"},{"$f":"Contemporary!U60","v":0},{"$f":"Contemporary!S60","v":0},{"$f":"IF((Table7101213[[#This Row],[Rank]]+Table7101213[[#This Row],[Score]])>0,1,0)","v":0},null,null,null,null,null,null,0,0]
[{"$f":"Contemporary!A61","v":"M-403"},{"$f":"Contemporary!U61","v":0},{"$f":"Contemporary!S61","v":0},{"$f":"IF((Table7101213[[#This Row],[Rank]]+Table7101213[[#This Row],[Score]])>0,1,0)","v":0},null,null,null,null,null,null,0,0]
[{"$f":"Contemporary!A62","v":"M-404"},{"$f":"Contemporary!U62","v":0},{"$f":"Contemporary!S62","v":0},{"$f":"IF((Table7101213[[#This Row],[Rank]]+Table7101213[[#This Row],[Score]])>0,1,0)","v":0},null,null,null,null,null,null,0,0]
[{"$f":"Contemporary!A64","v":"N-401"},{"$f":"Contemporary!U64","v":0},{"$f":"Contemporary!S64","v":0},{"$f":"IF((Table7101213[[#This Row],[Rank]]+Table7101213[[#This Row],[Score]])>0,1,0)","v":0},null,null,null,null,null,null,0,0]
[{"$f":"Contemporary!A65","v":"N-402"},{"$f":"Contemporary!U65","v":0},{"$f":"Contemporary!S65","v":0},{"$f":"IF((Table7101213[[#This Row],[Rank]]+Table7101213[[#This Row],[Score]])>0,1,0)","v":0},null,null,null,null,null,null,0,0]
[{"$f":"Contemporary!A66","v":"N-403"},{"$f":"Contemporary!U66","v":0},{"$f":"Contemporary!S66","v":0},{"$f":"IF((Table7101213[[#This Row],[Rank]]+Table7101213[[#This Row],[Score]])>0,1,0)","v":0},null,null,null,null,null,null,0,0]
[{"$f":"Contemporary!A67","v":"N-404"},{"$f":"Contemporary!U67","v":0},{"$f":"Contemporary!S67","v":0},{"$f":"IF((Table7101213[[#This Row],[Rank]]+Table7101213[[#This Row],[Score]])>0,1,0)","v":0},null,null,null,null,null,null,0,0]
[{"$f":"Contemporary!A69","v":"P-401"},{"$f":"Contemporary!U69","v":0},{"$f":"Contemporary!S69","v":0},{"$f":"IF((Table7101213[[#This Row],[Rank]]+Table7101213[[#This Row],[Score]])>0,1,0)","v":0},null,null,null,null,null,null,0,0]
[{"$f":"Contemporary!A70","v":"P-402"},{"$f":"Contemporary!U70","v":0},{"$f":"Contemporary!S70","v":0},{"$f":"IF((Table7101213[[#This Row],[Rank]]+Table7101213[[#This Row],[Score]])>0,1,0)","v":0},null,null,null,null,null,null,0,0]
[{"$f":"Contemporary!A71","v":"P-403"},{"$f":"Contemporary!U71","v":0},{"$f":"Contemporary!S71","v":0},{"$f":"IF((Table7101213[[#This Row],[Rank]]+Table7101213[[#This Row],[Score]])>0,1,0)","v":0},null,null,null,null,null,null,0,0]
[{"$f":"Contemporary!A72","v":"P-404"},{"$f":"Contemporary!U72","v":0},{"$f":"Contemporary!S72","v":0},{"$f":"IF((Table7101213[[#This Row],[Rank]]+Table7101213[[#This Row],[Score]])>0,1,0)","v":0},null,null,null,null,null,null,0,0]
[{"$f":"Contemporary!A74","v":"Q-401"},{"$f":"Contemporary!U74","v":0},{"$f":"Contemporary!S74","v":0},{"$f":"IF((Table7101213[[#This Row],[Rank]]+Table7101213[[#This Row],[Score]])>0,1,0)","v":0},null,null,null,null,null,null,0,0]
[{"$f":"Contemporary!A75","v":"Q-402"},{"$f":"Contemporary!U75","v":0},{"$f":"Contemporary!S75","v":0},{"$f":"IF((Table7101213[[#This Row],[Rank]]+Table7101213[[#This Row],[Score]])>0,1,0)","v":0},null,null,null,null,null,null,0,0]
[{"$f":"Contemporary!A76","v":"Q-403"},{"$f":"Contemporary!U76","v":0},{"$f":"Contemporary!S76","v":0},{"$f":"IF((Table7101213[[#This Row],[Rank]]+Table7101213[[#This Row],[Score]])>0,1,0)","v":0},null,null,null,null,null,null,0,0]
[{"$f":"Contemporary!A77","v":"Q-404"},{"$f":"Contemporary!U77","v":0},{"$f":"Contemporary!S77","v":0},{"$f":"IF((Table7101213[[#This Row],[Rank]]+Table7101213[[#This Row],[Score]])>0,1,0)","v":0},null,null,null,null,null,null,0,0]
[{"$f":"Contemporary!A79","v":"R-401"},{"$f":"Contemporary!U79","v":0},{"$f":"Contemporary!S79","v":0},{"$f":"IF((Table7101213[[#This Row],[Rank]]+Table7101213[[#This Row],[Score]])>0,1,0)","v":0},null,null,null,null,null,null,0,0]
[{"$f":"Contemporary!A80","v":"R-402"},{"$f":"Contemporary!U80","v":0},{"$f":"Contemporary!S80","v":0},{"$f":"IF((Table7101213[[#This Row],[Rank]]+Table7101213[[#This Row],[Score]])>0,1,0)","v":0},null,null,null,null,null,null,0,0]
[{"$f":"Contemporary!A81","v":"R-403"},{"$f":"Contemporary!U81","v":0},{"$f":"Contemporary!S81","v":0},{"$f":"IF((Table7101213[[#This Row],[Rank]]+Table7101213[[#This Row],[Score]])>0,1,0)","v":0},null,null,null,null,null,null,0,0]
[{"$f":"Contemporary!A82","v":"R-404"},{"$f":"Contemporary!U82","v":0},{"$f":"Contemporary!S82","v":0},{"$f":"IF((Table7101213[[#This Row],[Rank]]+Table7101213[[#This Row],[Score]])>0,1,0)","v":0},null,null,null,null,null,null,0,0]
[{"$f":"Contemporary!A84","v":"S-401"},{"$f":"Contemporary!U84","v":0},{"$f":"Contemporary!S84","v":0},{"$f":"IF((Table7101213[[#This Row],[Rank]]+Table7101213[[#This Row],[Score]])>0,1,0)","v":0},null,null,null,null,null,null,0,0]
[{"$f":"Contemporary!A85","v":"S-402"},{"$f":"Contemporary!U85","v":0},{"$f":"Contemporary!S85","v":0},{"$f":"IF((Table7101213[[#This Row],[Rank]]+Table7101213[[#This Row],[Score]])>0,1,0)","v":0},null,null,null,null,null,null,0,0]
[{"$f":"Contemporary!A86","v":"S-403"},{"$f":"Contemporary!U86","v":0},{"$f":"Contemporary!S86","v":0},{"$f":"IF((Table7101213[[#This Row],[Rank]]+Table7101213[[#This Row],[Score]])>0,1,0)","v":0},null,null,null,null,null,null,0,0]
[{"$f":"Contemporary!A87","v":"S-404"},{"$f":"Contemporary!U87","v":0},{"$f":"Contemporary!S87","v":0},{"$f":"IF((Table7101213[[#This Row],[Rank]]+Table7101213[[#This Row],[Score]])>0,1,0)","v":0},null,null,null,null,null,null,0,0]
[{"$f":"Contemporary!A89","v":"T-401"},{"$f":"Contemporary!U89","v":0},{"$f":"Contemporary!S89","v":0},{"$f":"IF((Table7101213[[#This Row],[Rank]]+Table7101213[[#This Row],[Score]])>0,1,0)","v":0},null,null,null,null,null,null,0,0]
[{"$f":"Contemporary!A90","v":"T-402"},{"$f":"Contemporary!U90","v":0},{"$f":"Contemporary!S90","v":0},{"$f":"IF((Table7101213[[#This Row],[Rank]]+Table7101213[[#This Row],[Score]])>0,1,0)","v":0},null,null,null,null,null,null,0,0]
[{"$f":"Contemporary!A91","v":"T-403"},{"$f":"Contemporary!U91","v":0},{"$f":"Contemporary!S91","v":0},{"$f":"IF((Table7101213[[#This Row],[Rank]]+Table7101213[[#This Row],[Score]])>0,1,0)","v":0},null,null,null,null,null,null,0,0]
[{"$f":"Contemporary!A92","v":"T-404"},{"$f":"Contemporary!U92","v":0},{"$f":"Contemporary!S92","v":0},{"$f":"IF((Table7101213[[#This Row],[Rank]]+Table7101213[[#This Row],[Score]])>0,1,0)","v":0},null,null,null,null,null,null,0,0]
[{"$f":"Contemporary!A94","v":"U-401"},{"$f":"Contemporary!U94","v":0},{"$f":"Contemporary!S94","v":0},{"$f":"IF((Table7101213[[#This Row],[Rank]]+Table7101213[[#This Row],[Score]])>0,1,0)","v":0},null,null,null,null,null,null,0,0]
[{"$f":"Contemporary!A95","v":"U-402"},{"$f":"Contemporary!U95","v":0},{"$f":"Contemporary!S95","v":0},{"$f":"IF((Table7101213[[#This Row],[Rank]]+Table7101213[[#This Row],[Score]])>0,1,0)","v":0},null,null,null,null,null,null,0,0]
[{"$f":"Contemporary!A96","v":"U-403"},{"$f":"Contemporary!U96","v":0},{"$f":"Contemporary!S96","v":0},{"$f":"IF((Table7101213[[#This Row],[Rank]]+Table7101213[[#This Row],[Score]])>0,1,0)","v":0},null,null,null,null,null,null,0,0]
[{"$f":"Contemporary!A97","v":"U-404"},{"$f":"Contemporary!U97","v":0},{"$f":"Contemporary!S97","v":0},{"$f":"IF((Table7101213[[#This Row],[Rank]]+Table7101213[[#This Row],[Score]])>0,1,0)","v":0},null,null,null,null,null,null,0,0]
[{"$f":"Contemporary!A99","v":"V-401"},{"$f":"Contemporary!U99","v":0},{"$f":"Contemporary!S99","v":0},{"$f":"IF((Table7101213[[#This Row],[Rank]]+Table7101213[[#This Row],[Score]])>0,1,0)","v":0},null,null,null,null,null,null,{"$f":"SUM(E99,G99,I99)","v":0},{"$f":"SUM(F99,H99,J99)","v":0}]
[{"$f":"Contemporary!A100","v":"V-402"},{"$f":"Contemporary!U100","v":0},{"$f":"Contemporary!S100","v":0},{"$f":"IF((Table7101213[[#This Row],[Rank]]+Table7101213[[#This Row],[Score]])>0,1,0)","v":0},null,null,null,null,null,null,0,0]
[{"$f":"Contemporary!A101","v":"V-403"},{"$f":"Contemporary!U101","v":0},{"$f":"Contemporary!S101","v":0},{"$f":"IF((Table7101213[[#This Row],[Rank]]+Table7101213[[#This Row],[Score]])>0,1,0)","v":0},null,null,null,null,null,null,0,0]
[{"$f":"Contemporary!A102","v":"V-404"},{"$f":"Contemporary!U102","v":0},{"$f":"Contemporary!S102","v":0},{"$f":"IF((Table7101213[[#This Row],[Rank]]+Table7101213[[#This Row],[Score]])>0,1,0)","v":0},null,null,null,null,null,null,0,0]
[{"$f":"Contemporary!A104","v":"W-401"},{"$f":"Contemporary!U104","v":0},{"$f":"Contemporary!S104","v":0},{"$f":"IF((Table7101213[[#This Row],[Rank]]+Table7101213[[#This Row],[Score]])>0,1,0)","v":0},null,null,null,null,null,null,0,0]
[{"$f":"Contemporary!A105","v":"W-402"},{"$f":"Contemporary!U105","v":0},{"$f":"Contemporary!S105","v":0},{"$f":"IF((Table7101213[[#This Row],[Rank]]+Table7101213[[#This Row],[Score]])>0,1,0)","v":0},null,null,null,null,null,null,0,0]
[{"$f":"Contemporary!A106","v":"W-403"},{"$f":"Contemporary!U106","v":0},{"$f":"Contemporary!S106","v":0},{"$f":"IF((Table7101213[[#This Row],[Rank]]+Table7101213[[#This Row],[Score]])>0,1,0)","v":0},null,null,null,null,null,null,0,0]
[{"$f":"Contemporary!A107","v":"W-404"},{"$f":"Contemporary!U107","v":0},{"$f":"Contemporary!S107","v":0},{"$f":"IF((Table7101213[[#This Row],[Rank]]+Table7101213[[#This Row],[Score]])>0,1,0)","v":0},null,null,null,null,null,null,0,0]
[{"$f":"Contemporary!A109","v":"X-401"},{"$f":"Contemporary!U109","v":0},{"$f":"Contemporary!S109","v":0},{"$f":"IF((Table7101213[[#This Row],[Rank]]+Table7101213[[#This Row],[Score]])>0,1,0)","v":0},null,null,null,null,null,null,0,0]
[{"$f":"Contemporary!A110","v":"X-402"},{"$f":"Contemporary!U110","v":0},{"$f":"Contemporary!S110","v":0},{"$f":"IF((Table7101213[[#This Row],[Rank]]+Table7101213[[#This Row],[Score]])>0,1,0)","v":0},null,null,null,null,null,null,0,0]
[{"$f":"Contemporary!A111","v":"X-403"},{"$f":"Contemporary!U111","v":0},{"$f":"Contemporary!S111","v":0},{"$f":"IF((Table7101213[[#This Row],[Rank]]+Table7101213[[#This Row],[Score]])>0,1,0)","v":0},null,null,null,null,null,null,0,0]
[{"$f":"Contemporary!A112","v":"X-404"},{"$f":"Contemporary!U112","v":0},{"$f":"Contemporary!S112","v":0},{"$f":"IF((Table7101213[[#This Row],[Rank]]+Table7101213[[#This Row],[Score]])>0,1,0)","v":0},null,null,null,null,null,null,0,0]
[{"$f":"Contemporary!A114","v":"Y-401"},{"$f":"Contemporary!U114","v":0},{"$f":"Contemporary!S114","v":0},{"$f":"IF((Table7101213[[#This Row],[Rank]]+Table7101213[[#This Row],[Score]])>0,1,0)","v":0},null,null,null,null,null,null,0,0]
[{"$f":"Contemporary!A115","v":"Y-402"},{"$f":"Contemporary!U115","v":0},{"$f":"Contemporary!S115","v":0},{"$f":"IF((Table7101213[[#This Row],[Rank]]+Table7101213[[#This Row],[Score]])>0,1,0)","v":0},null,null,null,null,null,null,0,0]
[{"$f":"Contemporary!A116","v":"Y-403"},{"$f":"Contemporary!U116","v":0},{"$f":"Contemporary!S116","v":0},{"$f":"IF((Table7101213[[#This Row],[Rank]]+Table7101213[[#This Row],[Score]])>0,1,0)","v":0},null,null,null,null,null,null,0,0]
[{"$f":"Contemporary!A117","v":"Y-404"},{"$f":"Contemporary!U117","v":0},{"$f":"Contemporary!S117","v":0},{"$f":"IF((Table7101213[[#This Row],[Rank]]+Table7101213[[#This Row],[Score]])>0,1,0)","v":0},null,null,null,null,null,null,0,0]
[{"$f":"Contemporary!A119","v":"Z-401"},{"$f":"Contemporary!U119","v":0},{"$f":"Contemporary!S119","v":0},{"$f":"IF((Table7101213[[#This Row],[Rank]]+Table7101213[[#This Row],[Score]])>0,1,0)","v":0},null,null,null,null,null,null,0,0]
[{"$f":"Contemporary!A120","v":"Z-402"},{"$f":"Contemporary!U120","v":0},{"$f":"Contemporary!S120","v":0},{"$f":"IF((Table7101213[[#This Row],[Rank]]+Table7101213[[#This Row],[Score]])>0,1,0)","v":0},null,null,null,null,null,null,0,0]
[{"$f":"Contemporary!A121","v":"Z-403"},{"$f":"Contemporary!U121","v":0},{"$f":"Contemporary!S121","v":0},{"$f":"IF((Table7101213[[#This Row],[Rank]]+Table7101213[[#This Row],[Score]])>0,1,0)","v":0},null,null,null,null,null,null,0,0]
[{"$f":"Contemporary!A122","v":"Z-404"},{"$f":"Contemporary!U122","v":0},{"$f":"Contemporary!S122","v":0},{"$f":"IF((Table7101213[[#This Row],[Rank]]+Table7101213[[#This Row],[Score]])>0,1,0)","v":0},null,null,null,null,null,null,0,0]
[{"$f":"Contemporary!A149","v":"FF-401"},{"$f":"Contemporary!U149","v":0},{"$f":"Contemporary!S149","v":0},{"$f":"IF((Table7101213[[#This Row],[Rank]]+Table7101213[[#This Row],[Score]])>0,1,0)","v":0},null,null,null,null,null,null,0,0]
[{"$f":"Contemporary!A150","v":"FF-402"},{"$f":"Contemporary!U150","v":0},{"$f":"Contemporary!S150","v":0},{"$f":"IF((Table7101213[[#This Row],[Rank]]+Table7101213[[#This Row],[Score]])>0,1,0)","v":0},null,null,null,null,null,null,0,0]
[{"$f":"Contemporary!A151","v":"FF-403"},{"$f":"Contemporary!U151","v":0},{"$f":"Contemporary!S151","v":0},{"$f":"IF((Table7101213[[#This Row],[Rank]]+Table7101213[[#This Row],[Score]])>0,1,0)","v":0},null,null,null,null,null,null,0,0]
[{"$f":"Contemporary!A152","v":"FF-404"},{"$f":"Contemporary!U152","v":0},{"$f":"Contemporary!S152","v":0},{"$f":"IF((Table7101213[[#This Row],[Rank]]+Table7101213[[#This Row],[Score]])>0,1,0)","v":0},null,null,null,null,null,null,0,0]

{"sheet":"Pantomime","index":9,"n_rows":152,"n_cols":31,"rows_kept":152,"cut":false,"hidden":false,"merged":[]}
["Pantomimes",null,null,null,null,null,null,null,null,null,"Rank 1-4",null,null,null,null,null,null,null,null,null,null,null,null,"S","E","G","F",null,"1violation","2violations","3violations"]
[null,null,null,null,null,null,null,null,null,null,"Round 1:",null,"Round 2:",null,"Round 3:",null,"-2 for each",null,null,null,null,null,null,null,null,null,null,"Drops lowest from column q"]
[null,null,null,null,null,"Student Name",null,"Student Name",null,"Title of Piece","R1 rank","R1 score","R2 rank","R2 score","R3 rank","R3 score","Time Violations",null,"TOTAL SCORE",null,"TOTAL RANK",null,null,"TOTAL SCHOOL SWEEPS POINTS",null,null,null,"Drop Lowest"]
["A-501",null,null,null,null,"504 - Sonia",null,null,null,"Babysitting",4,20,3,19,2,25,null,{"$f":"IF(Q4=\"1violation\",-7*1,IF(Q4=\"2violations\",-7*2,IF(Q4=\"3violations\",-7*3,IF(Q4=\"\",\"\"))))","v":""},{"$f":"SUM(L4,N4,P4,R4)","v":64},null,{"$f":"SUM(K4,M4,O4)","v":9},null,null,null,{"$f":"SUM(S4,S6,S5,S7,-AB4)","v":204},null,null,{"$f":"MIN(S4:S7)","v":63}]
["A-502",null,null,null,null,"505 - Olivia",null,null,null,"Pancakes",2,22,4,18,4,23,null,{"$f":"IF(Q5=\"1violation\",-7*1,IF(Q5=\"2violations\",-7*2,IF(Q5=\"3violations\",-7*3,IF(Q5=\"\",\"\"))))","v":""},{"$f":"SUM(L5,N5,P5,R5)","v":63},null,{"$f":"SUM(K5,M5,O5)","v":10}]
["A-503",null,null,null,null,"506 - Abby",null,null,null,"Cupcakes",4,20,2,23,4,23,null,"",{"$f":"SUM(L6,N6,P6,R6)","v":66},null,{"$f":"SUM(K6,M6,O6)","v":10}]
["A-504",null,null,null,null,"507 - Keona",null,null,null,"Monday Morning",1,25,1,24,1,25,null,"",{"$f":"SUM(L7,N7,P7,R7)","v":74},null,{"$f":"SUM(K7,M7,O7)","v":3}]
[]
["B-501",null,null,null,null,"501 - Jocelyn Ceronino",null,"Makenzie Roundy",null,"Drivers Test",4,20,4,17,4,23,null,"",{"$f":"SUM(L9,N9,P9,R9)","v":60},null,{"$f":"SUM(K9,M9,O9)","v":12},null,null,null,{"$f":"SUM(S9,S11,S10,S12,-AB9)","v":60},null,null,{"$f":"MIN(S9:S12)","v":0}]
["B-502",null,null,null,null,null,null,null,null,null,null,null,null,null,null,null,null,"",{"$f":"SUM(L10,N10,P10,R10)","v":0},null,{"$f":"SUM(K10,M10,O10)","v":0}]
["B-503",null,null,null,null,null,null,null,null,null,null,null,null,null,null,null,null,"",{"$f":"SUM(L11,N11,P11,R11)","v":0},null,{"$f":"SUM(K11,M11,O11)","v":0}]
["B-504",null,null,null,null,null,null,null,null,null,null,null,null,null,null,null,null,"",{"$f":"SUM(L12,N12,P12,R12)","v":0},null,{"$f":"SUM(K12,M12,O12)","v":0}]
[]
["C-501",null,null,null,null,"502 - Gabe Cummens",null,"Jay Cummens",null,"Off Brand",4,21,4,16,3,24,null,"",{"$f":"SUM(L14,N14,P14,R14)","v":61},null,{"$f":"SUM(K14,M14,O14)","v":11},null,null,null,{"$f":"SUM(S14,S16,S15,S17,-AB14)","v":61},null,null,{"$f":"MIN(S14:S17)","v":0}]
["C-502",null,null,null,null,null,null,null,null,null,null,null,null,null,null,null,null,"",{"$f":"SUM(L15,N15,P15,R15)","v":0},null,{"$f":"SUM(K15,M15,O15)","v":0}]
["C-503",null,null,null,null,null,null,null,null,null,null,null,null,null,null,null,null,"",{"$f":"SUM(L16,N16,P16,R16)","v":0},null,{"$f":"SUM(K16,M16,O16)","v":0}]
["C-504",null,null,null,null,null,null,null,null,null,null,null,null,null,null,null,null,"",{"$f":"SUM(L17,N17,P17,R17)","v":0},null,{"$f":"SUM(K17,M17,O17)","v":0}]
[]
["D-501",null,null,null,null,null,null,null,null,null,null,null,null,null,null,null,null,"",{"$f":"SUM(L19,N19,P19,R19)","v":0},null,{"$f":"SUM(K19,M19,O19)","v":0},null,null,null,{"$f":"SUM(S19,S21,S20,S22,-AB19)","v":0},null,null,{"$f":"MIN(S19:S22)","v":0}]
["D-502",null,null,null,null,null,null,null,null,null,null,null,null,null,null,null,null,"",{"$f":"SUM(L20,N20,P20,R20)","v":0},null,{"$f":"SUM(K20,M20,O20)","v":0}]
["D-503",null,null,null,null,null,null,null,null,null,null,null,null,null,null,null,null,"",{"$f":"SUM(L21,N21,P21,R21)","v":0},null,{"$f":"SUM(K21,M21,O21)","v":0}]
["D-504",null,null,null,null,null,null,null,null,null,null,null,null,null,null,null,null,"",{"$f":"SUM(L22,N22,P22,R22)","v":0},null,{"$f":"SUM(K22,M22,O22)","v":0}]
[]
["E-501",null,null,null,null,null,null,null,null,null,null,null,null,null,null,null,null,"",{"$f":"SUM(L24,N24,P24,R24)","v":0},null,{"$f":"SUM(K24,M24,O24)","v":0},null,null,null,{"$f":"SUM(S24,S26,S25,S27,-AB24)","v":0},null,null,{"$f":"MIN(S24:S27)","v":0}]
["E-502",null,null,null,null,null,null,null,null,null,null,null,null,null,null,null,null,"",{"$f":"SUM(L25,N25,P25,R25)","v":0},null,{"$f":"SUM(K25,M25,O25)","v":0}]
["E-503",null,null,null,null,null,null,null,null,null,null,null,null,null,null,null,null,"",{"$f":"SUM(L26,N26,P26,R26)","v":0},null,{"$f":"SUM(K26,M26,O26)","v":0}]
["E-504",null,null,null,null,null,null,null,null,null,null,null,null,null,null,null,null,"",{"$f":"SUM(L27,N27,P27,R27)","v":0},null,{"$f":"SUM(K27,M27,O27)","v":0}]
[]
["F-501",null,null,null,null,"503 - Kira Platt\t\t\t\t",null,null,null,"How I Missed the Bus",3,22,4,14,4,22,null,"",{"$f":"SUM(L29,N29,P29,R29)","v":58},null,{"$f":"SUM(K29,M29,O29)","v":11},null,null,null,{"$f":"SUM(S29,S31,S30,S32,-AB29)","v":58},null,null,{"$f":"MIN(S29:S32)","v":0}]
["F-502",null,null,null,null,null,null,null,null,null,null,null,null,null,null,null,null,"",{"$f":"SUM(L30,N30,P30,R30)","v":0},null,{"$f":"SUM(K30,M30,O30)","v":0}]
["F-503",null,null,null,null,null,null,null,null,null,null,null,null,null,null,null,null,"",{"$f":"SUM(L31,N31,P31,R31)","v":0},null,{"$f":"SUM(K31,M31,O31)","v":0}]
["F-504",null,null,null,null,null,null,null,null,null,null,null,null,null,null,null,null,"",{"$f":"SUM(L32,N32,P32,R32)","v":0},null,{"$f":"SUM(K32,M32,O32)","v":0}]
[]
["G-501",null,null,null,null,null,null,null,null,null,null,null,null,null,null,null,null,"",{"$f":"SUM(L34,N34,P34,R34)","v":0},null,{"$f":"SUM(K34,M34,O34)","v":0},null,null,null,{"$f":"SUM(S34,S36,S35,S37,-AB34)","v":0},null,null,{"$f":"MIN(S34:S37)","v":0}]
["G-502",null,null,null,null,null,null,null,null,null,null,null,null,null,null,null,null,"",{"$f":"SUM(L35,N35,P35,R35)","v":0},null,{"$f":"SUM(K35,M35,O35)","v":0}]
["G-503",null,null,null,null,null,null,null,null,null,null,null,null,null,null,null,null,"",{"$f":"SUM(L36,N36,P36,R36)","v":0},null,{"$f":"SUM(K36,M36,O36)","v":0}]
["G-504",null,null,null,null,null,null,null,null,null,null,null,null,null,null,null,null,"",{"$f":"SUM(L37,N37,P37,R37)","v":0},null,{"$f":"SUM(K37,M37,O37)","v":0}]
[]
["H-501",null,null,null,null,null,null,null,null,null,null,null,null,null,null,null,null,"",{"$f":"SUM(L39,N39,P39,R39)","v":0},null,{"$f":"SUM(K39,M39,O39)","v":0},null,null,null,{"$f":"SUM(S39,S41,S40,S42,-AB39)","v":0},null,null,{"$f":"MIN(S39:S42)","v":0}]
["H-502",null,null,null,null,null,null,null,null,null,null,null,null,null,null,null,null,"",{"$f":"SUM(L40,N40,P40,R40)","v":0},null,{"$f":"SUM(K40,M40,O40)","v":0}]
["H-503",null,null,null,null,null,null,null,null,null,null,null,null,null,null,null,null,"",{"$f":"SUM(L41,N41,P41,R41)","v":0},null,{"$f":"SUM(K41,M41,O41)","v":0}]
["H-504",null,null,null,null,null,null,null,null,null,null,null,null,null,null,null,null,"",{"$f":"SUM(L42,N42,P42,R42)","v":0},null,{"$f":"SUM(K42,M42,O42)","v":0}]
[]
["J-501",null,null,null,null,null,null,null,null,null,null,null,null,null,null,null,null,"",{"$f":"SUM(L44,N44,P44,R44)","v":0},null,{"$f":"SUM(K44,M44,O44)","v":0},null,null,null,{"$f":"SUM(S44,S46,S45,S47,-AB44)","v":0},null,null,{"$f":"MIN(S44:S47)","v":0}]
["J-502",null,null,null,null,null,null,null,null,null,null,null,null,null,null,null,null,"",{"$f":"SUM(L45,N45,P45,R45)","v":0},null,{"$f":"SUM(K45,M45,O45)","v":0}]
["J-503",null,null,null,null,null,null,null,null,null,null,null,null,null,null,null,null,"",{"$f":"SUM(L46,N46,P46,R46)","v":0},null,{"$f":"SUM(K46,M46,O46)","v":0}]
["J-504",null,null,null,null,null,null,null,null,null,null,null,null,null,null,null,null,"",{"$f":"SUM(L47,N47,P47,R47)","v":0},null,{"$f":"SUM(K47,M47,O47)","v":0}]
[]
["K-501",null,null,null,null,null,null,null,null,null,null,null,null,null,null,null,null,"",{"$f":"SUM(L49,N49,P49,R49)","v":0},null,{"$f":"SUM(K49,M49,O49)","v":0},null,null,null,{"$f":"SUM(S49,S51,S50,S52,-AB49)","v":0},null,null,{"$f":"MIN(S49:S52)","v":0}]
["K-502",null,null,null,null,null,null,null,null,null,null,null,null,null,null,null,null,"",{"$f":"SUM(L50,N50,P50,R50)","v":0},null,{"$f":"SUM(K50,M50,O50)","v":0}]
["K-503",null,null,null,null,null,null,null,null,null,null,null,null,null,null,null,null,"",{"$f":"SUM(L51,N51,P51,R51)","v":0},null,{"$f":"SUM(K51,M51,O51)","v":0}]
["K-504",null,null,null,null,null,null,null,null,null,null,null,null,null,null,null,null,"",{"$f":"SUM(L52,N52,P52,R52)","v":0},null,{"$f":"SUM(K52,M52,O52)","v":0}]
[]
["L-501",null,null,null,null,null,null,null,null,null,null,null,null,null,null,null,null,"",{"$f":"SUM(L54,N54,P54,R54)","v":0},null,{"$f":"SUM(K54,M54,O54)","v":0},null,null,null,{"$f":"SUM(S54,S56,S55,S57,-AB54)","v":0},null,null,{"$f":"MIN(S54:S57)","v":0}]
["L-502",null,null,null,null,null,null,null,null,null,null,null,null,null,null,null,null,"",{"$f":"SUM(L55,N55,P55,R55)","v":0},null,{"$f":"SUM(K55,M55,O55)","v":0}]
["L-503",null,null,null,null,null,null,null,null,null,null,null,null,null,null,null,null,"",{"$f":"SUM(L56,N56,P56,R56)","v":0},null,{"$f":"SUM(K56,M56,O56)","v":0}]
["L-504",null,null,null,null,null,null,null,null,null,null,null,null,null,null,null,null,"",{"$f":"SUM(L57,N57,P57,R57)","v":0},null,{"$f":"SUM(K57,M57,O57)","v":0}]
[]
["M-501",null,null,null,null,null,null,null,null,null,null,null,null,null,null,null,null,"",{"$f":"SUM(L59,N59,P59,R59)","v":0},null,{"$f":"SUM(K59,M59,O59)","v":0},null,null,null,{"$f":"SUM(S59,S61,S60,S62,-AB59)","v":0},null,null,{"$f":"MIN(S59:S62)","v":0}]
["M-502",null,null,null,null,null,null,null,null,null,null,null,null,null,null,null,null,"",{"$f":"SUM(L60,N60,P60,R60)","v":0},null,{"$f":"SUM(K60,M60,O60)","v":0}]
["M-503",null,null,null,null,null,null,null,null,null,null,null,null,null,null,null,null,"",{"$f":"SUM(L61,N61,P61,R61)","v":0},null,{"$f":"SUM(K61,M61,O61)","v":0}]
["M-504",null,null,null,null,null,null,null,null,null,null,null,null,null,null,null,null,"",{"$f":"SUM(L62,N62,P62,R62)","v":0},null,{"$f":"SUM(K62,M62,O62)","v":0}]
[]
["N-501",null,null,null,null,null,null,null,null,null,null,null,null,null,null,null,null,"",{"$f":"SUM(L64,N64,P64,R64)","v":0},null,{"$f":"SUM(K64,M64,O64)","v":0},null,null,null,{"$f":"SUM(S64,S66,S65,S67,-AB64)","v":0},null,null,{"$f":"MIN(S64:S67)","v":0}]
["N-502",null,null,null,null,null,null,null,null,null,null,null,null,null,null,null,null,"",{"$f":"SUM(L65,N65,P65,R65)","v":0},null,{"$f":"SUM(K65,M65,O65)","v":0}]
["N-503",null,null,null,null,null,null,null,null,null,null,null,null,null,null,null,null,"",{"$f":"SUM(L66,N66,P66,R66)","v":0},null,{"$f":"SUM(K66,M66,O66)","v":0}]
["N-504",null,null,null,null,null,null,null,null,null,null,null,null,null,null,null,null,"",{"$f":"SUM(L67,N67,P67,R67)","v":0},null,{"$f":"SUM(K67,M67,O67)","v":0}]
[]
["P-501",null,null,null,null,null,null,null,null,null,null,null,null,null,null,null,null,{"$f":"IF(Q69=\"1violation\",-7*1,IF(Q69=\"2violations\",-7*2,IF(Q69=\"3violations\",-7*3,IF(Q69=\"\",\"\"))))","v":""},{"$f":"SUM(L69,N69,P69,R69)","v":0},null,{"$f":"SUM(K69,M69,O69)","v":0},null,null,null,{"$f":"SUM(S69,S71,S70,S72,-AB69)","v":0},null,null,{"$f":"MIN(S69:S72)","v":0}]
["P-502",null,null,null,null,null,null,null,null,null,null,null,null,null,null,null,null,"",{"$f":"SUM(L70,N70,P70,R70)","v":0},null,{"$f":"SUM(K70,M70,O70)","v":0}]
["P-503",null,null,null,null,null,null,null,null,null,null,null,null,null,null,null,null,"",{"$f":"SUM(L71,N71,P71,R71)","v":0},null,{"$f":"SUM(K71,M71,O71)","v":0}]
["P-504",null,null,null,null,null,null,null,null,null,null,null,null,null,null,null,null,"",{"$f":"SUM(L72,N72,P72,R72)","v":0},null,{"$f":"SUM(K72,M72,O72)","v":0}]
[]
["Q-501",null,null,null,null,null,null,null,null,null,null,null,null,null,null,null,null,"",{"$f":"SUM(L74,N74,P74,R74)","v":0},null,{"$f":"SUM(K74,M74,O74)","v":0},null,null,null,{"$f":"SUM(S74,S76,S75,S77,-AB74)","v":0},null,null,{"$f":"MIN(S74:S77)","v":0}]
["Q-502",null,null,null,null,null,null,null,null,null,null,null,null,null,null,null,null,"",{"$f":"SUM(L75,N75,P75,R75)","v":0},null,{"$f":"SUM(K75,M75,O75)","v":0}]
["Q-502",null,null,null,null,null,null,null,null,null,null,null,null,null,null,null,null,"",{"$f":"SUM(L76,N76,P76,R76)","v":0},null,{"$f":"SUM(K76,M76,O76)","v":0}]
["Q-504",null,null,null,null,null,null,null,null,null,null,null,null,null,null,null,null,"",{"$f":"SUM(L77,N77,P77,R77)","v":0},null,{"$f":"SUM(K77,M77,O77)","v":0}]
[]
["R-501",null,null,null,null,null,null,null,null,null,null,null,null,null,null,null,null,"",{"$f":"SUM(L79,N79,P79,R79)","v":0},null,{"$f":"SUM(K79,M79,O79)","v":0},null,null,null,{"$f":"SUM(S79,S81,S80,S82,-AB79)","v":0},null,null,{"$f":"MIN(S79:S82)","v":0}]
["R-502",null,null,null,null,null,null,null,null,null,null,null,null,null,null,null,null,"",{"$f":"SUM(L80,N80,P80,R80)","v":0},null,{"$f":"SUM(K80,M80,O80)","v":0}]
["R-503",null,null,null,null,null,null,null,null,null,null,null,null,null,null,null,null,"",{"$f":"SUM(L81,N81,P81,R81)","v":0},null,{"$f":"SUM(K81,M81,O81)","v":0}]
["R-504",null,null,null,null,null,null,null,null,null,null,null,null,null,null,null,null,"",{"$f":"SUM(L82,N82,P82,R82)","v":0},null,{"$f":"SUM(K82,M82,O82)","v":0}]
[]
["S-501",null,null,null,null,null,null,null,null,null,null,null,null,null,null,null,null,"",{"$f":"SUM(L84,N84,P84,R84)","v":0},null,{"$f":"SUM(K84,M84,O84)","v":0},null,null,null,{"$f":"SUM(S84,S86,S85,S87,-AB84)","v":0},null,null,{"$f":"MIN(S84:S87)","v":0}]
["S-502",null,null,null,null,null,null,null,null,null,null,null,null,null,null,null,null,"",{"$f":"SUM(L85,N85,P85,R85)","v":0},null,{"$f":"SUM(K85,M85,O85)","v":0}]
["S-503",null,null,null,null,null,null,null,null,null,null,null,null,null,null,null,null,"",{"$f":"SUM(L86,N86,P86,R86)","v":0},null,{"$f":"SUM(K86,M86,O86)","v":0}]
["S-504",null,null,null,null,null,null,null,null,null,null,null,null,null,null,null,null,"",{"$f":"SUM(L87,N87,P87,R87)","v":0},null,{"$f":"SUM(K87,M87,O87)","v":0}]
[]
["T-501",null,null,null,null,null,null,null,null,null,null,null,null,null,null,null,null,"",{"$f":"SUM(L89,N89,P89,R89)","v":0},null,{"$f":"SUM(K89,M89,O89)","v":0},null,null,null,{"$f":"SUM(S89,S91,S90,S92,-AB89)","v":0},null,null,{"$f":"MIN(S89:S92)","v":0}]
["T-502",null,null,null,null,null,null,null,null,null,null,null,null,null,null,null,null,"",{"$f":"SUM(L90,N90,P90,R90)","v":0},null,{"$f":"SUM(K90,M90,O90)","v":0}]
["T-503",null,null,null,null,null,null,null,null,null,null,null,null,null,null,null,null,"",{"$f":"SUM(L91,N91,P91,R91)","v":0},null,{"$f":"SUM(K91,M91,O91)","v":0}]
["T-504",null,null,null,null,null,null,null,null,null,null,null,null,null,null,null,null,"",{"$f":"SUM(L92,N92,P92,R92)","v":0},null,{"$f":"SUM(K92,M92,O92)","v":0}]
[]
["U-501",null,null,null,null,null,null,null,null,null,null,null,null,null,null,null,null,"",{"$f":"SUM(L94,N94,P94,R94)","v":0},null,{"$f":"SUM(K94,M94,O94)","v":0},null,null,null,{"$f":"SUM(S94,S96,S95,S97,-AB94)","v":0},null,null,{"$f":"MIN(S94:S97)","v":0}]
["U-502",null,null,null,null,null,null,null,null,null,null,null,null,null,null,null,null,"",{"$f":"SUM(L95,N95,P95,R95)","v":0},null,{"$f":"SUM(K95,M95,O95)","v":0}]
["U-503",null,null,null,null,null,null,null,null,null,null,null,null,null,null,null,null,"",{"$f":"SUM(L96,N96,P96,R96)","v":0},null,{"$f":"SUM(K96,M96,O96)","v":0}]
["U-504",null,null,null,null,null,null,null,null,null,null,null,null,null,null,null,null,"",{"$f":"SUM(L97,N97,P97,R97)","v":0},null,{"$f":"SUM(K97,M97,O97)","v":0}]
[]
["V-501",null,null,null,null,null,null,null,null,null,null,null,null,null,null,null,null,"",{"$f":"SUM(L99,N99,P99,R99)","v":0},null,{"$f":"SUM(K99,M99,O99)","v":0},null,null,null,{"$f":"SUM(S99,S101,S100,S102,-AB99)","v":0},null,null,{"$f":"MIN(S99:S102)","v":0}]
["V-502",null,null,null,null,null,null,null,null,null,null,null,null,null,null,null,null,"",{"$f":"SUM(L100,N100,P100,R100)","v":0},null,{"$f":"SUM(K100,M100,O100)","v":0}]
["V-503",null,null,null,null,null,null,null,null,null,null,null,null,null,null,null,null,"",{"$f":"SUM(L101,N101,P101,R101)","v":0},null,{"$f":"SUM(K101,M101,O101)","v":0}]
["V-504",null,null,null,null,null,null,null,null,null,null,null,null,null,null,null,null,"",{"$f":"SUM(L102,N102,P102,R102)","v":0},null,{"$f":"SUM(K102,M102,O102)","v":0}]
[]
["W-501",null,null,null,null,null,null,null,null,null,null,null,null,null,null,null,null,"",{"$f":"SUM(L104,N104,P104,R104)","v":0},null,{"$f":"SUM(K104,M104,O104)","v":0},null,null,null,{"$f":"SUM(S104,S106,S105,S107,-AB104)","v":0},null,null,{"$f":"MIN(S104:S107)","v":0}]
["W-502",null,null,null,null,null,null,null,null,null,null,null,null,null,null,null,null,"",{"$f":"SUM(L105,N105,P105,R105)","v":0},null,{"$f":"SUM(K105,M105,O105)","v":0}]
["W-503",null,null,null,null,null,null,null,null,null,null,null,null,null,null,null,null,"",{"$f":"SUM(L106,N106,P106,R106)","v":0},null,{"$f":"SUM(K106,M106,O106)","v":0}]
["W-504",null,null,null,null,null,null,null,null,null,null,null,null,null,null,null,null,"",{"$f":"SUM(L107,N107,P107,R107)","v":0},null,{"$f":"SUM(K107,M107,O107)","v":0}]
[]
["X-501",null,null,null,null,null,null,null,null,null,null,null,null,null,null,null,null,"",{"$f":"SUM(L109,N109,P109,R109)","v":0},null,{"$f":"SUM(K109,M109,O109)","v":0},null,null,null,{"$f":"SUM(S109,S111,S110,S112,-AB109)","v":0},null,null,{"$f":"MIN(S109:S112)","v":0}]
["X-502",null,null,null,null,null,null,null,null,null,null,null,null,null,null,null,null,"",{"$f":"SUM(L110,N110,P110,R110)","v":0},null,{"$f":"SUM(K110,M110,O110)","v":0}]
["X-503",null,null,null,null,null,null,null,null,null,null,null,null,null,null,null,null,"",{"$f":"SUM(L111,N111,P111,R111)","v":0},null,{"$f":"SUM(K111,M111,O111)","v":0}]
["X-504",null,null,null,null,null,null,null,null,null,null,null,null,null,null,null,null,"",{"$f":"SUM(L112,N112,P112,R112)","v":0},null,{"$f":"SUM(K112,M112,O112)","v":0}]
[]
["Y-501",null,null,null,null,null,null,null,null,null,null,null,null,null,null,null,null,"",{"$f":"SUM(L114,N114,P114,R114)","v":0},null,{"$f":"SUM(K114,M114,O114)","v":0},null,null,null,{"$f":"SUM(S114,S116,S115,S117,-AB114)","v":0},null,null,{"$f":"MIN(S114:S117)","v":0}]
["Y-502",null,null,null,null,null,null,null,null,null,null,null,null,null,null,null,null,"",{"$f":"SUM(L115,N115,P115,R115)","v":0},null,{"$f":"SUM(K115,M115,O115)","v":0}]
["Y-503",null,null,null,null,null,null,null,null,null,null,null,null,null,null,null,null,"",{"$f":"SUM(L116,N116,P116,R116)","v":0},null,{"$f":"SUM(K116,M116,O116)","v":0}]
["Y-504",null,null,null,null,null,null,null,null,null,null,null,null,null,null,null,null,"",{"$f":"SUM(L117,N117,P117,R117)","v":0},null,{"$f":"SUM(K117,M117,O117)","v":0}]
[]
["Z-501",null,null,null,null,null,null,null,null,null,null,null,null,null,null,null,null,"",{"$f":"SUM(L119,N119,P119,R119)","v":0},null,{"$f":"SUM(K119,M119,O119)","v":0},null,null,null,{"$f":"SUM(S119,S121,S120,S122,-AB119)","v":0},null,null,{"$f":"MIN(S119:S122)","v":0}]
["Z-502",null,null,null,null,null,null,null,null,null,null,null,null,null,null,null,null,"",{"$f":"SUM(L120,N120,P120,R120)","v":0},null,{"$f":"SUM(K120,M120,O120)","v":0}]
["Z-503",null,null,null,null,null,null,null,null,null,null,null,null,null,null,null,null,"",{"$f":"SUM(L121,N121,P121,R121)","v":0},null,{"$f":"SUM(K121,M121,O121)","v":0}]
["Z-504",null,null,null,null,null,null,null,null,null,null,null,null,null,null,null,null,"",{"$f":"SUM(L122,N122,P122,R122)","v":0},null,{"$f":"SUM(K122,M122,O122)","v":0}]
[]
["AA-501",null,null,null,null,null,null,null,null,null,null,null,null,null,null,null,null,"",{"$f":"SUM(L124,N124,P124,R124)","v":0},null,{"$f":"SUM(K124,M124,O124)","v":0},null,null,null,{"$f":"SUM(S124,S126,S125,S127,-AB124)","v":0},null,null,{"$f":"MIN(S124:S127)","v":0}]
["AA-502",null,null,null,null,null,null,null,null,null,null,null,null,null,null,null,null,"",{"$f":"SUM(L125,N125,P125,R125)","v":0},null,{"$f":"SUM(K125,M125,O125)","v":0}]
["AA-503",null,null,null,null,null,null,null,null,null,null,null,null,null,null,null,null,"",{"$f":"SUM(L126,N126,P126,R126)","v":0},null,{"$f":"SUM(K126,M126,O126)","v":0}]
["AA-504",null,null,null,null,null,null,null,null,null,null,null,null,null,null,null,null,"",{"$f":"SUM(L127,N127,P127,R127)","v":0},null,{"$f":"SUM(K127,M127,O127)","v":0}]
[]
["BB-501",null,null,null,null,null,null,null,null,null,null,null,null,null,null,null,null,"",{"$f":"SUM(L129,N129,P129,R129)","v":0},null,{"$f":"SUM(K129,M129,O129)","v":0},null,null,null,{"$f":"SUM(S129,S131,S130,S132,-AB129)","v":0},null,null,{"$f":"MIN(S129:S132)","v":0}]
["BB-502",null,null,null,null,null,null,null,null,null,null,null,null,null,null,null,null,"",{"$f":"SUM(L130,N130,P130,R130)","v":0},null,{"$f":"SUM(K130,M130,O130)","v":0}]
["BB-503",null,null,null,null,null,null,null,null,null,null,null,null,null,null,null,null,"",{"$f":"SUM(L131,N131,P131,R131)","v":0},null,{"$f":"SUM(K131,M131,O131)","v":0}]
["BB-504",null,null,null,null,null,null,null,null,null,null,null,null,null,null,null,null,"",{"$f":"SUM(L132,N132,P132,R132)","v":0},null,{"$f":"SUM(K132,M132,O132)","v":0}]
[]
["CC-501",null,null,null,null,null,null,null,null,null,null,null,null,null,null,null,null,{"$f":"IF(Q134=\"1violation\",-7*1,IF(Q134=\"2violations\",-7*2,IF(Q134=\"3violations\",-7*3,IF(Q134=\"\",\"\"))))","v":""},{"$f":"SUM(L134,N134,P134,R134)","v":0},null,{"$f":"SUM(K134,M134,O134)","v":0},null,null,null,{"$f":"SUM(S134,S136,S135,S137,-AB134)","v":0},null,null,{"$f":"MIN(S134:S137)","v":0}]
["CC-502",null,null,null,null,null,null,null,null,null,null,null,null,null,null,null,null,"",{"$f":"SUM(L135,N135,P135,R135)","v":0},null,{"$f":"SUM(K135,M135,O135)","v":0}]
["CC-503",null,null,null,null,null,null,null,null,null,null,null,null,null,null,null,null,"",{"$f":"SUM(L136,N136,P136,R136)","v":0},null,{"$f":"SUM(K136,M136,O136)","v":0}]
["CC-504",null,null,null,null,null,null,null,null,null,null,null,null,null,null,null,null,"",{"$f":"SUM(L137,N137,P137,R137)","v":0},null,{"$f":"SUM(K137,M137,O137)","v":0}]
[]
["DD-501",null,null,null,null,null,null,null,null,null,null,null,null,null,null,null,null,"",{"$f":"SUM(L139,N139,P139,R139)","v":0},null,{"$f":"SUM(K139,M139,O139)","v":0},null,null,null,{"$f":"SUM(S139,S141,S140,S142,-AB139)","v":0},null,null,{"$f":"MIN(S139:S142)","v":0}]
["DD-502",null,null,null,null,null,null,null,null,null,null,null,null,null,null,null,null,"",{"$f":"SUM(L140,N140,P140,R140)","v":0},null,{"$f":"SUM(K140,M140,O140)","v":0}]
["DD-503",null,null,null,null,null,null,null,null,null,null,null,null,null,null,null,null,"",{"$f":"SUM(L141,N141,P141,R141)","v":0},null,{"$f":"SUM(K141,M141,O141)","v":0}]
["DD-504",null,null,null,null,null,null,null,null,null,null,null,null,null,null,null,null,"",{"$f":"SUM(L142,N142,P142,R142)","v":0},null,{"$f":"SUM(K142,M142,O142)","v":0}]
[]
["EE-501",null,null,null,null,null,null,null,null,null,null,null,null,null,null,null,null,"",{"$f":"SUM(L144,N144,P144,R144)","v":0},null,{"$f":"SUM(K144,M144,O144)","v":0},null,null,null,{"$f":"SUM(S144,S146,S145,S147,-AB144)","v":0},null,null,{"$f":"MIN(S144:S147)","v":0}]
["EE-502",null,null,null,null,null,null,null,null,null,null,null,null,null,null,null,null,"",{"$f":"SUM(L145,N145,P145,R145)","v":0},null,{"$f":"SUM(K145,M145,O145)","v":0}]
["EE-503",null,null,null,null,null,null,null,null,null,null,null,null,null,null,null,null,"",{"$f":"SUM(L146,N146,P146,R146)","v":0},null,{"$f":"SUM(K146,M146,O146)","v":0}]
["EE-504",null,null,null,null,null,null,null,null,null,null,null,null,null,null,null,null,"",{"$f":"SUM(L147,N147,P147,R147)","v":0},null,{"$f":"SUM(K147,M147,O147)","v":0}]
[]
["FF-501",null,null,null,null,null,null,null,null,null,null,null,null,null,null,null,null,"",{"$f":"SUM(L149,N149,P149,R149)","v":0},null,{"$f":"SUM(K149,M149,O149)","v":0},null,null,null,{"$f":"SUM(S149,S151,S150,S152,-AB149)","v":0},null,null,{"$f":"MIN(S149:S152)","v":0}]
["FF-502",null,null,null,null,null,null,null,null,null,null,null,null,null,null,null,null,"",{"$f":"SUM(L150,N150,P150,R150)","v":0},null,{"$f":"SUM(K150,M150,O150)","v":0}]
["FF-503",null,null,null,null,null,null,null,null,null,null,null,null,null,null,null,null,"",{"$f":"SUM(L151,N151,P151,R151)","v":0},null,{"$f":"SUM(K151,M151,O151)","v":0}]
["FF-504",null,null,null,null,null,null,null,null,null,null,null,null,null,null,null,null,"",{"$f":"SUM(L152,N152,P152,R152)","v":0},null,{"$f":"SUM(K152,M152,O152)","v":0}]

{"sheet":"PantomimeMR","index":10,"n_rows":122,"n_cols":12,"rows_kept":122,"cut":false,"hidden":false,"merged":[]}
["Pantomime",null,null,null,"Finals Medals Round Scores"]
["ID","Rank","Score","LeaveBlank","MR 1 Rank","MR 1 Score","MR2 Rank","MR 2 Score","MR3 Rank","MR 3 Score","Total MR Rank","Total MR Score"]
[{"$f":"Pantomime!A7","v":"A-504"},{"$f":"Pantomime!U7","v":3},{"$f":"Pantomime!S7","v":74},{"$f":"IF((Table710121314[[#This Row],[Rank]]+Table710121314[[#This Row],[Score]])>0,1,0)","v":1},2,24,2,24,4,23,{"$f":"SUM(E3,G3,I3)","v":8},{"$f":"SUM(F3,H3,J3)","v":71}]
[{"$f":"Pantomime!A4","v":"A-501"},{"$f":"Pantomime!U4","v":9},{"$f":"Pantomime!S4","v":64},{"$f":"IF((Table710121314[[#This Row],[Rank]]+Table710121314[[#This Row],[Score]])>0,1,0)","v":1},4,23,5,22,3,23,12,68]
[{"$f":"Pantomime!A6","v":"A-503"},{"$f":"Pantomime!U6","v":10},{"$f":"Pantomime!S6","v":66},{"$f":"IF((Table710121314[[#This Row],[Rank]]+Table710121314[[#This Row],[Score]])>0,1,0)","v":1},1,25,3,23,5,22,9,70]
[{"$f":"Pantomime!A5","v":"A-502"},{"$f":"Pantomime!U5","v":10},{"$f":"Pantomime!S5","v":63},{"$f":"IF((Table710121314[[#This Row],[Rank]]+Table710121314[[#This Row],[Score]])>0,1,0)","v":1},5,22,4,23,2,25,11,70]
[{"$f":"Pantomime!A14","v":"C-501"},{"$f":"Pantomime!U14","v":11},{"$f":"Pantomime!S14","v":61},{"$f":"IF((Table710121314[[#This Row],[Rank]]+Table710121314[[#This Row],[Score]])>0,1,0)","v":1},3,23,1,24,1,25,5,72]
[{"$f":"Pantomime!A29","v":"F-501"},{"$f":"Pantomime!U29","v":11},{"$f":"Pantomime!S29","v":58},{"$f":"IF((Table710121314[[#This Row],[Rank]]+Table710121314[[#This Row],[Score]])>0,1,0)","v":1},null,null,null,null,null,null,0,0]
[{"$f":"Pantomime!A9","v":"B-501"},{"$f":"Pantomime!U9","v":12},{"$f":"Pantomime!S9","v":60},{"$f":"IF((Table710121314[[#This Row],[Rank]]+Table710121314[[#This Row],[Score]])>0,1,0)","v":1},null,null,null,null,null,null,0,0]
[{"$f":"Pantomime!A44","v":"J-501"},{"$f":"Pantomime!U44","v":0},{"$f":"Pantomime!S44","v":0},{"$f":"IF((Table710121314[[#This Row],[Rank]]+Table710121314[[#This Row],[Score]])>0,1,0)","v":0},null,null,null,null,null,null,0,0]
[{"$f":"Pantomime!A19","v":"D-501"},{"$f":"Pantomime!U19","v":0},{"$f":"Pantomime!S19","v":0},{"$f":"IF((Table710121314[[#This Row],[Rank]]+Table710121314[[#This Row],[Score]])>0,1,0)","v":0},null,null,null,null,null,null,0,0]
[{"$f":"Pantomime!A124","v":"AA-501"},{"$f":"Pantomime!U124","v":0},{"$f":"Pantomime!S124","v":0},{"$f":"IF((Table710121314[[#This Row],[Rank]]+Table710121314[[#This Row],[Score]])>0,1,0)","v":0},null,null,null,null,null,null,0,0]
[{"$f":"Pantomime!A125","v":"AA-502"},{"$f":"Pantomime!U125","v":0},{"$f":"Pantomime!S125","v":0},{"$f":"IF((Table710121314[[#This Row],[Rank]]+Table710121314[[#This Row],[Score]])>0,1,0)","v":0},null,null,null,null,null,null,0,0]
[{"$f":"Pantomime!A126","v":"AA-503"},{"$f":"Pantomime!U126","v":0},{"$f":"Pantomime!S126","v":0},{"$f":"IF((Table710121314[[#This Row],[Rank]]+Table710121314[[#This Row],[Score]])>0,1,0)","v":0},null,null,null,null,null,null,0,0]
[{"$f":"Pantomime!A127","v":"AA-504"},{"$f":"Pantomime!U127","v":0},{"$f":"Pantomime!S127","v":0},{"$f":"IF((Table710121314[[#This Row],[Rank]]+Table710121314[[#This Row],[Score]])>0,1,0)","v":0},null,null,null,null,null,null,0,0]
[{"$f":"Pantomime!A10","v":"B-502"},{"$f":"Pantomime!U10","v":0},{"$f":"Pantomime!S10","v":0},{"$f":"IF((Table710121314[[#This Row],[Rank]]+Table710121314[[#This Row],[Score]])>0,1,0)","v":0},null,null,null,null,null,null,0,0]
[{"$f":"Pantomime!A11","v":"B-503"},{"$f":"Pantomime!U11","v":0},{"$f":"Pantomime!S11","v":0},{"$f":"IF((Table710121314[[#This Row],[Rank]]+Table710121314[[#This Row],[Score]])>0,1,0)","v":0},null,null,null,null,null,null,0,0]
[{"$f":"Pantomime!A12","v":"B-504"},{"$f":"Pantomime!U12","v":0},{"$f":"Pantomime!S12","v":0},{"$f":"IF((Table710121314[[#This Row],[Rank]]+Table710121314[[#This Row],[Score]])>0,1,0)","v":0},null,null,null,null,null,null,0,0]
[{"$f":"Pantomime!A129","v":"BB-501"},{"$f":"Pantomime!U129","v":0},{"$f":"Pantomime!S129","v":0},{"$f":"IF((Table710121314[[#This Row],[Rank]]+Table710121314[[#This Row],[Score]])>0,1,0)","v":0},null,null,null,null,null,null,0,0]
[{"$f":"Pantomime!A130","v":"BB-502"},{"$f":"Pantomime!U130","v":0},{"$f":"Pantomime!S130","v":0},{"$f":"IF((Table710121314[[#This Row],[Rank]]+Table710121314[[#This Row],[Score]])>0,1,0)","v":0},null,null,null,null,null,null,0,0]
[{"$f":"Pantomime!A131","v":"BB-503"},{"$f":"Pantomime!U131","v":0},{"$f":"Pantomime!S131","v":0},{"$f":"IF((Table710121314[[#This Row],[Rank]]+Table710121314[[#This Row],[Score]])>0,1,0)","v":0},null,null,null,null,null,null,0,0]
[{"$f":"Pantomime!A132","v":"BB-504"},{"$f":"Pantomime!U132","v":0},{"$f":"Pantomime!S132","v":0},{"$f":"IF((Table710121314[[#This Row],[Rank]]+Table710121314[[#This Row],[Score]])>0,1,0)","v":0},null,null,null,null,null,null,0,0]
[{"$f":"Pantomime!A15","v":"C-502"},{"$f":"Pantomime!U15","v":0},{"$f":"Pantomime!S15","v":0},{"$f":"IF((Table710121314[[#This Row],[Rank]]+Table710121314[[#This Row],[Score]])>0,1,0)","v":0},null,null,null,null,null,null,0,0]
[{"$f":"Pantomime!A16","v":"C-503"},{"$f":"Pantomime!U16","v":0},{"$f":"Pantomime!S16","v":0},{"$f":"IF((Table710121314[[#This Row],[Rank]]+Table710121314[[#This Row],[Score]])>0,1,0)","v":0},null,null,null,null,null,null,0,0]
[{"$f":"Pantomime!A17","v":"C-504"},{"$f":"Pantomime!U17","v":0},{"$f":"Pantomime!S17","v":0},{"$f":"IF((Table710121314[[#This Row],[Rank]]+Table710121314[[#This Row],[Score]])>0,1,0)","v":0},null,null,null,null,null,null,0,0]
[{"$f":"Pantomime!A134","v":"CC-501"},{"$f":"Pantomime!U134","v":0},{"$f":"Pantomime!S134","v":0},{"$f":"IF((Table710121314[[#This Row],[Rank]]+Table710121314[[#This Row],[Score]])>0,1,0)","v":0},null,null,null,null,null,null,0,0]
[{"$f":"Pantomime!A135","v":"CC-502"},{"$f":"Pantomime!U135","v":0},{"$f":"Pantomime!S135","v":0},{"$f":"IF((Table710121314[[#This Row],[Rank]]+Table710121314[[#This Row],[Score]])>0,1,0)","v":0},null,null,null,null,null,null,0,0]
[{"$f":"Pantomime!A136","v":"CC-503"},{"$f":"Pantomime!U136","v":0},{"$f":"Pantomime!S136","v":0},{"$f":"IF((Table710121314[[#This Row],[Rank]]+Table710121314[[#This Row],[Score]])>0,1,0)","v":0},null,null,null,null,null,null,0,0]
[{"$f":"Pantomime!A137","v":"CC-504"},{"$f":"Pantomime!U137","v":0},{"$f":"Pantomime!S137","v":0},{"$f":"IF((Table710121314[[#This Row],[Rank]]+Table710121314[[#This Row],[Score]])>0,1,0)","v":0},null,null,null,null,null,null,0,0]
[{"$f":"Pantomime!A20","v":"D-502"},{"$f":"Pantomime!U20","v":0},{"$f":"Pantomime!S20","v":0},{"$f":"IF((Table710121314[[#This Row],[Rank]]+Table710121314[[#This Row],[Score]])>0,1,0)","v":0},null,null,null,null,null,null,0,0]
[{"$f":"Pantomime!A21","v":"D-503"},{"$f":"Pantomime!U21","v":0},{"$f":"Pantomime!S21","v":0},{"$f":"IF((Table710121314[[#This Row],[Rank]]+Table710121314[[#This Row],[Score]])>0,1,0)","v":0},null,null,null,null,null,null,0,0]
[{"$f":"Pantomime!A22","v":"D-504"},{"$f":"Pantomime!U22","v":0},{"$f":"Pantomime!S22","v":0},{"$f":"IF((Table710121314[[#This Row],[Rank]]+Table710121314[[#This Row],[Score]])>0,1,0)","v":0},null,null,null,null,null,null,0,0]
[{"$f":"Pantomime!A139","v":"DD-501"},{"$f":"Pantomime!U139","v":0},{"$f":"Pantomime!S139","v":0},{"$f":"IF((Table710121314[[#This Row],[Rank]]+Table710121314[[#This Row],[Score]])>0,1,0)","v":0},null,null,null,null,null,null,0,0]
[{"$f":"Pantomime!A140","v":"DD-502"},{"$f":"Pantomime!U140","v":0},{"$f":"Pantomime!S140","v":0},{"$f":"IF((Table710121314[[#This Row],[Rank]]+Table710121314[[#This Row],[Score]])>0,1,0)","v":0},null,null,null,null,null,null,0,0]
[{"$f":"Pantomime!A141","v":"DD-503"},{"$f":"Pantomime!U141","v":0},{"$f":"Pantomime!S141","v":0},{"$f":"IF((Table710121314[[#This Row],[Rank]]+Table710121314[[#This Row],[Score]])>0,1,0)","v":0},null,null,null,null,null,null,{"$f":"SUM(E35,G35,I35)","v":0},{"$f":"SUM(F35,H35,J35)","v":0}]
[{"$f":"Pantomime!A142","v":"DD-504"},{"$f":"Pantomime!U142","v":0},{"$f":"Pantomime!S142","v":0},{"$f":"IF((Table710121314[[#This Row],[Rank]]+Table710121314[[#This Row],[Score]])>0,1,0)","v":0},null,null,null,null,null,null,0,0]
[{"$f":"Pantomime!A24","v":"E-501"},{"$f":"Pantomime!U24","v":0},{"$f":"Pantomime!S24","v":0},{"$f":"IF((Table710121314[[#This Row],[Rank]]+Table710121314[[#This Row],[Score]])>0,1,0)","v":0},null,null,null,null,null,null,0,0]
[{"$f":"Pantomime!A25","v":"E-502"},{"$f":"Pantomime!U25","v":0},{"$f":"Pantomime!S25","v":0},{"$f":"IF((Table710121314[[#This Row],[Rank]]+Table710121314[[#This Row],[Score]])>0,1,0)","v":0},null,null,null,null,null,null,0,0]
[{"$f":"Pantomime!A26","v":"E-503"},{"$f":"Pantomime!U26","v":0},{"$f":"Pantomime!S26","v":0},{"$f":"IF((Table710121314[[#This Row],[Rank]]+Table710121314[[#This Row],[Score]])>0,1,0)","v":0},null,null,null,null,null,null,0,0]
[{"$f":"Pantomime!A27","v":"E-504"},{"$f":"Pantomime!U27","v":0},{"$f":"Pantomime!S27","v":0},{"$f":"IF((Table710121314[[#This Row],[Rank]]+Table710121314[[#This Row],[Score]])>0,1,0)","v":0},null,null,null,null,null,null,0,0]
[{"$f":"Pantomime!A144","v":"EE-501"},{"$f":"Pantomime!U144","v":0},{"$f":"Pantomime!S144","v":0},{"$f":"IF((Table710121314[[#This Row],[Rank]]+Table710121314[[#This Row],[Score]])>0,1,0)","v":0},null,null,null,null,null,null,0,0]
[{"$f":"Pantomime!A145","v":"EE-502"},{"$f":"Pantomime!U145","v":0},{"$f":"Pantomime!S145","v":0},{"$f":"IF((Table710121314[[#This Row],[Rank]]+Table710121314[[#This Row],[Score]])>0,1,0)","v":0},null,null,null,null,null,null,0,0]
[{"$f":"Pantomime!A146","v":"EE-503"},{"$f":"Pantomime!U146","v":0},{"$f":"Pantomime!S146","v":0},{"$f":"IF((Table710121314[[#This Row],[Rank]]+Table710121314[[#This Row],[Score]])>0,1,0)","v":0},null,null,null,null,null,null,0,0]
[{"$f":"Pantomime!A147","v":"EE-504"},{"$f":"Pantomime!U147","v":0},{"$f":"Pantomime!S147","v":0},{"$f":"IF((Table710121314[[#This Row],[Rank]]+Table710121314[[#This Row],[Score]])>0,1,0)","v":0},null,null,null,null,null,null,0,0]
[{"$f":"Pantomime!A30","v":"F-502"},{"$f":"Pantomime!U30","v":0},{"$f":"Pantomime!S30","v":0},{"$f":"IF((Table710121314[[#This Row],[Rank]]+Table710121314[[#This Row],[Score]])>0,1,0)","v":0},null,null,null,null,null,null,0,0]
[{"$f":"Pantomime!A31","v":"F-503"},{"$f":"Pantomime!U31","v":0},{"$f":"Pantomime!S31","v":0},{"$f":"IF((Table710121314[[#This Row],[Rank]]+Table710121314[[#This Row],[Score]])>0,1,0)","v":0},null,null,null,null,null,null,0,0]
[{"$f":"Pantomime!A32","v":"F-504"},{"$f":"Pantomime!U32","v":0},{"$f":"Pantomime!S32","v":0},{"$f":"IF((Table710121314[[#This Row],[Rank]]+Table710121314[[#This Row],[Score]])>0,1,0)","v":0},null,null,null,null,null,null,0,0]
[{"$f":"Pantomime!A149","v":"FF-501"},{"$f":"Pantomime!U149","v":0},{"$f":"Pantomime!S149","v":0},{"$f":"IF((Table710121314[[#This Row],[Rank]]+Table710121314[[#This Row],[Score]])>0,1,0)","v":0},null,null,null,null,null,null,0,0]
[{"$f":"Pantomime!A150","v":"FF-502"},{"$f":"Pantomime!U150","v":0},{"$f":"Pantomime!S150","v":0},{"$f":"IF((Table710121314[[#This Row],[Rank]]+Table710121314[[#This Row],[Score]])>0,1,0)","v":0},null,null,null,null,null,null,0,0]
[{"$f":"Pantomime!A151","v":"FF-503"},{"$f":"Pantomime!U151","v":0},{"$f":"Pantomime!S151","v":0},{"$f":"IF((Table710121314[[#This Row],[Rank]]+Table710121314[[#This Row],[Score]])>0,1,0)","v":0},null,null,null,null,null,null,0,0]
[{"$f":"Pantomime!A152","v":"FF-504"},{"$f":"Pantomime!U152","v":0},{"$f":"Pantomime!S152","v":0},{"$f":"IF((Table710121314[[#This Row],[Rank]]+Table710121314[[#This Row],[Score]])>0,1,0)","v":0},null,null,null,null,null,null,0,0]
[{"$f":"Pantomime!A34","v":"G-501"},{"$f":"Pantomime!U34","v":0},{"$f":"Pantomime!S34","v":0},{"$f":"IF((Table710121314[[#This Row],[Rank]]+Table710121314[[#This Row],[Score]])>0,1,0)","v":0},null,null,null,null,null,null,0,0]
[{"$f":"Pantomime!A35","v":"G-502"},{"$f":"Pantomime!U35","v":0},{"$f":"Pantomime!S35","v":0},{"$f":"IF((Table710121314[[#This Row],[Rank]]+Table710121314[[#This Row],[Score]])>0,1,0)","v":0},null,null,null,null,null,null,0,0]
[{"$f":"Pantomime!A36","v":"G-503"},{"$f":"Pantomime!U36","v":0},{"$f":"Pantomime!S36","v":0},{"$f":"IF((Table710121314[[#This Row],[Rank]]+Table710121314[[#This Row],[Score]])>0,1,0)","v":0},null,null,null,null,null,null,0,0]
[{"$f":"Pantomime!A37","v":"G-504"},{"$f":"Pantomime!U37","v":0},{"$f":"Pantomime!S37","v":0},{"$f":"IF((Table710121314[[#This Row],[Rank]]+Table710121314[[#This Row],[Score]])>0,1,0)","v":0},null,null,null,null,null,null,0,0]
[{"$f":"Pantomime!A39","v":"H-501"},{"$f":"Pantomime!U39","v":0},{"$f":"Pantomime!S39","v":0},{"$f":"IF((Table710121314[[#This Row],[Rank]]+Table710121314[[#This Row],[Score]])>0,1,0)","v":0},null,null,null,null,null,null,0,0]
[{"$f":"Pantomime!A40","v":"H-502"},{"$f":"Pantomime!U40","v":0},{"$f":"Pantomime!S40","v":0},{"$f":"IF((Table710121314[[#This Row],[Rank]]+Table710121314[[#This Row],[Score]])>0,1,0)","v":0},null,null,null,null,null,null,0,0]
[{"$f":"Pantomime!A41","v":"H-503"},{"$f":"Pantomime!U41","v":0},{"$f":"Pantomime!S41","v":0},{"$f":"IF((Table710121314[[#This Row],[Rank]]+Table710121314[[#This Row],[Score]])>0,1,0)","v":0},null,null,null,null,null,null,0,0]
[{"$f":"Pantomime!A42","v":"H-504"},{"$f":"Pantomime!U42","v":0},{"$f":"Pantomime!S42","v":0},{"$f":"IF((Table710121314[[#This Row],[Rank]]+Table710121314[[#This Row],[Score]])>0,1,0)","v":0},null,null,null,null,null,null,0,0]
[{"$f":"Pantomime!A45","v":"J-502"},{"$f":"Pantomime!U45","v":0},{"$f":"Pantomime!S45","v":0},{"$f":"IF((Table710121314[[#This Row],[Rank]]+Table710121314[[#This Row],[Score]])>0,1,0)","v":0},null,null,null,null,null,null,0,0]
[{"$f":"Pantomime!A46","v":"J-503"},{"$f":"Pantomime!U46","v":0},{"$f":"Pantomime!S46","v":0},{"$f":"IF((Table710121314[[#This Row],[Rank]]+Table710121314[[#This Row],[Score]])>0,1,0)","v":0},null,null,null,null,null,null,0,0]
[{"$f":"Pantomime!A47","v":"J-504"},{"$f":"Pantomime!U47","v":0},{"$f":"Pantomime!S47","v":0},{"$f":"IF((Table710121314[[#This Row],[Rank]]+Table710121314[[#This Row],[Score]])>0,1,0)","v":0},null,null,null,null,null,null,0,0]
[{"$f":"Pantomime!A49","v":"K-501"},{"$f":"Pantomime!U49","v":0},{"$f":"Pantomime!S49","v":0},{"$f":"IF((Table710121314[[#This Row],[Rank]]+Table710121314[[#This Row],[Score]])>0,1,0)","v":0},null,null,null,null,null,null,0,0]
[{"$f":"Pantomime!A50","v":"K-502"},{"$f":"Pantomime!U50","v":0},{"$f":"Pantomime!S50","v":0},{"$f":"IF((Table710121314[[#This Row],[Rank]]+Table710121314[[#This Row],[Score]])>0,1,0)","v":0},null,null,null,null,null,null,0,0]
[{"$f":"Pantomime!A51","v":"K-503"},{"$f":"Pantomime!U51","v":0},{"$f":"Pantomime!S51","v":0},{"$f":"IF((Table710121314[[#This Row],[Rank]]+Table710121314[[#This Row],[Score]])>0,1,0)","v":0},null,null,null,null,null,null,0,0]
[{"$f":"Pantomime!A52","v":"K-504"},{"$f":"Pantomime!U52","v":0},{"$f":"Pantomime!S52","v":0},{"$f":"IF((Table710121314[[#This Row],[Rank]]+Table710121314[[#This Row],[Score]])>0,1,0)","v":0},null,null,null,null,null,null,0,0]
[{"$f":"Pantomime!A54","v":"L-501"},{"$f":"Pantomime!U54","v":0},{"$f":"Pantomime!S54","v":0},{"$f":"IF((Table710121314[[#This Row],[Rank]]+Table710121314[[#This Row],[Score]])>0,1,0)","v":0},null,null,null,null,null,null,{"$f":"SUM(E67,G67,I67)","v":0},{"$f":"SUM(F67,H67,J67)","v":0}]
[{"$f":"Pantomime!A55","v":"L-502"},{"$f":"Pantomime!U55","v":0},{"$f":"Pantomime!S55","v":0},{"$f":"IF((Table710121314[[#This Row],[Rank]]+Table710121314[[#This Row],[Score]])>0,1,0)","v":0},null,null,null,null,null,null,0,0]
[{"$f":"Pantomime!A56","v":"L-503"},{"$f":"Pantomime!U56","v":0},{"$f":"Pantomime!S56","v":0},{"$f":"IF((Table710121314[[#This Row],[Rank]]+Table710121314[[#This Row],[Score]])>0,1,0)","v":0},null,null,null,null,null,null,0,0]
[{"$f":"Pantomime!A57","v":"L-504"},{"$f":"Pantomime!U57","v":0},{"$f":"Pantomime!S57","v":0},{"$f":"IF((Table710121314[[#This Row],[Rank]]+Table710121314[[#This Row],[Score]])>0,1,0)","v":0},null,null,null,null,null,null,0,0]
[{"$f":"Pantomime!A59","v":"M-501"},{"$f":"Pantomime!U59","v":0},{"$f":"Pantomime!S59","v":0},{"$f":"IF((Table710121314[[#This Row],[Rank]]+Table710121314[[#This Row],[Score]])>0,1,0)","v":0},null,null,null,null,null,null,0,0]
[{"$f":"Pantomime!A60","v":"M-502"},{"$f":"Pantomime!U60","v":0},{"$f":"Pantomime!S60","v":0},{"$f":"IF((Table710121314[[#This Row],[Rank]]+Table710121314[[#This Row],[Score]])>0,1,0)","v":0},null,null,null,null,null,null,0,0]
[{"$f":"Pantomime!A61","v":"M-503"},{"$f":"Pantomime!U61","v":0},{"$f":"Pantomime!S61","v":0},{"$f":"IF((Table710121314[[#This Row],[Rank]]+Table710121314[[#This Row],[Score]])>0,1,0)","v":0},null,null,null,null,null,null,0,0]
[{"$f":"Pantomime!A62","v":"M-504"},{"$f":"Pantomime!U62","v":0},{"$f":"Pantomime!S62","v":0},{"$f":"IF((Table710121314[[#This Row],[Rank]]+Table710121314[[#This Row],[Score]])>0,1,0)","v":0},null,null,null,null,null,null,0,0]
[{"$f":"Pantomime!A64","v":"N-501"},{"$f":"Pantomime!U64","v":0},{"$f":"Pantomime!S64","v":0},{"$f":"IF((Table710121314[[#This Row],[Rank]]+Table710121314[[#This Row],[Score]])>0,1,0)","v":0},null,null,null,null,null,null,0,0]
[{"$f":"Pantomime!A65","v":"N-502"},{"$f":"Pantomime!U65","v":0},{"$f":"Pantomime!S65","v":0},{"$f":"IF((Table710121314[[#This Row],[Rank]]+Table710121314[[#This Row],[Score]])>0,1,0)","v":0},null,null,null,null,null,null,0,0]
[{"$f":"Pantomime!A66","v":"N-503"},{"$f":"Pantomime!U66","v":0},{"$f":"Pantomime!S66","v":0},{"$f":"IF((Table710121314[[#This Row],[Rank]]+Table710121314[[#This Row],[Score]])>0,1,0)","v":0},null,null,null,null,null,null,0,0]
[{"$f":"Pantomime!A67","v":"N-504"},{"$f":"Pantomime!U67","v":0},{"$f":"Pantomime!S67","v":0},{"$f":"IF((Table710121314[[#This Row],[Rank]]+Table710121314[[#This Row],[Score]])>0,1,0)","v":0},null,null,null,null,null,null,0,0]
[{"$f":"Pantomime!A69","v":"P-501"},{"$f":"Pantomime!U69","v":0},{"$f":"Pantomime!S69","v":0},{"$f":"IF((Table710121314[[#This Row],[Rank]]+Table710121314[[#This Row],[Score]])>0,1,0)","v":0},null,null,null,null,null,null,0,0]
[{"$f":"Pantomime!A70","v":"P-502"},{"$f":"Pantomime!U70","v":0},{"$f":"Pantomime!S70","v":0},{"$f":"IF((Table710121314[[#This Row],[Rank]]+Table710121314[[#This Row],[Score]])>0,1,0)","v":0},null,null,null,null,null,null,0,0]
[{"$f":"Pantomime!A71","v":"P-503"},{"$f":"Pantomime!U71","v":0},{"$f":"Pantomime!S71","v":0},{"$f":"IF((Table710121314[[#This Row],[Rank]]+Table710121314[[#This Row],[Score]])>0,1,0)","v":0},null,null,null,null,null,null,0,0]
[{"$f":"Pantomime!A72","v":"P-504"},{"$f":"Pantomime!U72","v":0},{"$f":"Pantomime!S72","v":0},{"$f":"IF((Table710121314[[#This Row],[Rank]]+Table710121314[[#This Row],[Score]])>0,1,0)","v":0},null,null,null,null,null,null,0,0]
[{"$f":"Pantomime!A74","v":"Q-501"},{"$f":"Pantomime!U74","v":0},{"$f":"Pantomime!S74","v":0},{"$f":"IF((Table710121314[[#This Row],[Rank]]+Table710121314[[#This Row],[Score]])>0,1,0)","v":0},null,null,null,null,null,null,0,0]
[{"$f":"Pantomime!A75","v":"Q-502"},{"$f":"Pantomime!U75","v":0},{"$f":"Pantomime!S75","v":0},{"$f":"IF((Table710121314[[#This Row],[Rank]]+Table710121314[[#This Row],[Score]])>0,1,0)","v":0},null,null,null,null,null,null,0,0]
[{"$f":"Pantomime!A76","v":"Q-502"},{"$f":"Pantomime!U76","v":0},{"$f":"Pantomime!S76","v":0},{"$f":"IF((Table710121314[[#This Row],[Rank]]+Table710121314[[#This Row],[Score]])>0,1,0)","v":0},null,null,null,null,null,null,0,0]
[{"$f":"Pantomime!A77","v":"Q-504"},{"$f":"Pantomime!U77","v":0},{"$f":"Pantomime!S77","v":0},{"$f":"IF((Table710121314[[#This Row],[Rank]]+Table710121314[[#This Row],[Score]])>0,1,0)","v":0},null,null,null,null,null,null,0,0]
[{"$f":"Pantomime!A79","v":"R-501"},{"$f":"Pantomime!U79","v":0},{"$f":"Pantomime!S79","v":0},{"$f":"IF((Table710121314[[#This Row],[Rank]]+Table710121314[[#This Row],[Score]])>0,1,0)","v":0},null,null,null,null,null,null,0,0]
[{"$f":"Pantomime!A80","v":"R-502"},{"$f":"Pantomime!U80","v":0},{"$f":"Pantomime!S80","v":0},{"$f":"IF((Table710121314[[#This Row],[Rank]]+Table710121314[[#This Row],[Score]])>0,1,0)","v":0},null,null,null,null,null,null,0,0]
[{"$f":"Pantomime!A81","v":"R-503"},{"$f":"Pantomime!U81","v":0},{"$f":"Pantomime!S81","v":0},{"$f":"IF((Table710121314[[#This Row],[Rank]]+Table710121314[[#This Row],[Score]])>0,1,0)","v":0},null,null,null,null,null,null,0,0]
[{"$f":"Pantomime!A82","v":"R-504"},{"$f":"Pantomime!U82","v":0},{"$f":"Pantomime!S82","v":0},{"$f":"IF((Table710121314[[#This Row],[Rank]]+Table710121314[[#This Row],[Score]])>0,1,0)","v":0},null,null,null,null,null,null,0,0]
[{"$f":"Pantomime!A84","v":"S-501"},{"$f":"Pantomime!U84","v":0},{"$f":"Pantomime!S84","v":0},{"$f":"IF((Table710121314[[#This Row],[Rank]]+Table710121314[[#This Row],[Score]])>0,1,0)","v":0},null,null,null,null,null,null,0,0]
[{"$f":"Pantomime!A85","v":"S-502"},{"$f":"Pantomime!U85","v":0},{"$f":"Pantomime!S85","v":0},{"$f":"IF((Table710121314[[#This Row],[Rank]]+Table710121314[[#This Row],[Score]])>0,1,0)","v":0},null,null,null,null,null,null,0,0]
[{"$f":"Pantomime!A86","v":"S-503"},{"$f":"Pantomime!U86","v":0},{"$f":"Pantomime!S86","v":0},{"$f":"IF((Table710121314[[#This Row],[Rank]]+Table710121314[[#This Row],[Score]])>0,1,0)","v":0},null,null,null,null,null,null,0,0]
[{"$f":"Pantomime!A87","v":"S-504"},{"$f":"Pantomime!U87","v":0},{"$f":"Pantomime!S87","v":0},{"$f":"IF((Table710121314[[#This Row],[Rank]]+Table710121314[[#This Row],[Score]])>0,1,0)","v":0},null,null,null,null,null,null,0,0]
[{"$f":"Pantomime!A89","v":"T-501"},{"$f":"Pantomime!U89","v":0},{"$f":"Pantomime!S89","v":0},{"$f":"IF((Table710121314[[#This Row],[Rank]]+Table710121314[[#This Row],[Score]])>0,1,0)","v":0},null,null,null,null,null,null,0,0]
[{"$f":"Pantomime!A90","v":"T-502"},{"$f":"Pantomime!U90","v":0},{"$f":"Pantomime!S90","v":0},{"$f":"IF((Table710121314[[#This Row],[Rank]]+Table710121314[[#This Row],[Score]])>0,1,0)","v":0},null,null,null,null,null,null,0,0]
[{"$f":"Pantomime!A91","v":"T-503"},{"$f":"Pantomime!U91","v":0},{"$f":"Pantomime!S91","v":0},{"$f":"IF((Table710121314[[#This Row],[Rank]]+Table710121314[[#This Row],[Score]])>0,1,0)","v":0},null,null,null,null,null,null,0,0]
[{"$f":"Pantomime!A92","v":"T-504"},{"$f":"Pantomime!U92","v":0},{"$f":"Pantomime!S92","v":0},{"$f":"IF((Table710121314[[#This Row],[Rank]]+Table710121314[[#This Row],[Score]])>0,1,0)","v":0},null,null,null,null,null,null,0,0]
[{"$f":"Pantomime!A94","v":"U-501"},{"$f":"Pantomime!U94","v":0},{"$f":"Pantomime!S94","v":0},{"$f":"IF((Table710121314[[#This Row],[Rank]]+Table710121314[[#This Row],[Score]])>0,1,0)","v":0},null,null,null,null,null,null,{"$f":"SUM(E99,G99,I99)","v":0},{"$f":"SUM(F99,H99,J99)","v":0}]
[{"$f":"Pantomime!A95","v":"U-502"},{"$f":"Pantomime!U95","v":0},{"$f":"Pantomime!S95","v":0},{"$f":"IF((Table710121314[[#This Row],[Rank]]+Table710121314[[#This Row],[Score]])>0,1,0)","v":0},null,null,null,null,null,null,0,0]
[{"$f":"Pantomime!A96","v":"U-503"},{"$f":"Pantomime!U96","v":0},{"$f":"Pantomime!S96","v":0},{"$f":"IF((Table710121314[[#This Row],[Rank]]+Table710121314[[#This Row],[Score]])>0,1,0)","v":0},null,null,null,null,null,null,0,0]
[{"$f":"Pantomime!A97","v":"U-504"},{"$f":"Pantomime!U97","v":0},{"$f":"Pantomime!S97","v":0},{"$f":"IF((Table710121314[[#This Row],[Rank]]+Table710121314[[#This Row],[Score]])>0,1,0)","v":0},null,null,null,null,null,null,0,0]
[{"$f":"Pantomime!A99","v":"V-501"},{"$f":"Pantomime!U99","v":0},{"$f":"Pantomime!S99","v":0},{"$f":"IF((Table710121314[[#This Row],[Rank]]+Table710121314[[#This Row],[Score]])>0,1,0)","v":0},null,null,null,null,null,null,0,0]
[{"$f":"Pantomime!A100","v":"V-502"},{"$f":"Pantomime!U100","v":0},{"$f":"Pantomime!S100","v":0},{"$f":"IF((Table710121314[[#This Row],[Rank]]+Table710121314[[#This Row],[Score]])>0,1,0)","v":0},null,null,null,null,null,null,0,0]
[{"$f":"Pantomime!A101","v":"V-503"},{"$f":"Pantomime!U101","v":0},{"$f":"Pantomime!S101","v":0},{"$f":"IF((Table710121314[[#This Row],[Rank]]+Table710121314[[#This Row],[Score]])>0,1,0)","v":0},null,null,null,null,null,null,0,0]
[{"$f":"Pantomime!A102","v":"V-504"},{"$f":"Pantomime!U102","v":0},{"$f":"Pantomime!S102","v":0},{"$f":"IF((Table710121314[[#This Row],[Rank]]+Table710121314[[#This Row],[Score]])>0,1,0)","v":0},null,null,null,null,null,null,0,0]
[{"$f":"Pantomime!A104","v":"W-501"},{"$f":"Pantomime!U104","v":0},{"$f":"Pantomime!S104","v":0},{"$f":"IF((Table710121314[[#This Row],[Rank]]+Table710121314[[#This Row],[Score]])>0,1,0)","v":0},null,null,null,null,null,null,0,0]
[{"$f":"Pantomime!A105","v":"W-502"},{"$f":"Pantomime!U105","v":0},{"$f":"Pantomime!S105","v":0},{"$f":"IF((Table710121314[[#This Row],[Rank]]+Table710121314[[#This Row],[Score]])>0,1,0)","v":0},null,null,null,null,null,null,0,0]
[{"$f":"Pantomime!A106","v":"W-503"},{"$f":"Pantomime!U106","v":0},{"$f":"Pantomime!S106","v":0},{"$f":"IF((Table710121314[[#This Row],[Rank]]+Table710121314[[#This Row],[Score]])>0,1,0)","v":0},null,null,null,null,null,null,0,0]
[{"$f":"Pantomime!A107","v":"W-504"},{"$f":"Pantomime!U107","v":0},{"$f":"Pantomime!S107","v":0},{"$f":"IF((Table710121314[[#This Row],[Rank]]+Table710121314[[#This Row],[Score]])>0,1,0)","v":0},null,null,null,null,null,null,0,0]
[{"$f":"Pantomime!A109","v":"X-501"},{"$f":"Pantomime!U109","v":0},{"$f":"Pantomime!S109","v":0},{"$f":"IF((Table710121314[[#This Row],[Rank]]+Table710121314[[#This Row],[Score]])>0,1,0)","v":0},null,null,null,null,null,null,0,0]
[{"$f":"Pantomime!A110","v":"X-502"},{"$f":"Pantomime!U110","v":0},{"$f":"Pantomime!S110","v":0},{"$f":"IF((Table710121314[[#This Row],[Rank]]+Table710121314[[#This Row],[Score]])>0,1,0)","v":0},null,null,null,null,null,null,0,0]
[{"$f":"Pantomime!A111","v":"X-503"},{"$f":"Pantomime!U111","v":0},{"$f":"Pantomime!S111","v":0},{"$f":"IF((Table710121314[[#This Row],[Rank]]+Table710121314[[#This Row],[Score]])>0,1,0)","v":0},null,null,null,null,null,null,0,0]
[{"$f":"Pantomime!A112","v":"X-504"},{"$f":"Pantomime!U112","v":0},{"$f":"Pantomime!S112","v":0},{"$f":"IF((Table710121314[[#This Row],[Rank]]+Table710121314[[#This Row],[Score]])>0,1,0)","v":0},null,null,null,null,null,null,0,0]
[{"$f":"Pantomime!A114","v":"Y-501"},{"$f":"Pantomime!U114","v":0},{"$f":"Pantomime!S114","v":0},{"$f":"IF((Table710121314[[#This Row],[Rank]]+Table710121314[[#This Row],[Score]])>0,1,0)","v":0},null,null,null,null,null,null,0,0]
[{"$f":"Pantomime!A115","v":"Y-502"},{"$f":"Pantomime!U115","v":0},{"$f":"Pantomime!S115","v":0},{"$f":"IF((Table710121314[[#This Row],[Rank]]+Table710121314[[#This Row],[Score]])>0,1,0)","v":0},null,null,null,null,null,null,0,0]
[{"$f":"Pantomime!A116","v":"Y-503"},{"$f":"Pantomime!U116","v":0},{"$f":"Pantomime!S116","v":0},{"$f":"IF((Table710121314[[#This Row],[Rank]]+Table710121314[[#This Row],[Score]])>0,1,0)","v":0},null,null,null,null,null,null,0,0]
[{"$f":"Pantomime!A117","v":"Y-504"},{"$f":"Pantomime!U117","v":0},{"$f":"Pantomime!S117","v":0},{"$f":"IF((Table710121314[[#This Row],[Rank]]+Table710121314[[#This Row],[Score]])>0,1,0)","v":0},null,null,null,null,null,null,0,0]
[{"$f":"Pantomime!A119","v":"Z-501"},{"$f":"Pantomime!U119","v":0},{"$f":"Pantomime!S119","v":0},{"$f":"IF((Table710121314[[#This Row],[Rank]]+Table710121314[[#This Row],[Score]])>0,1,0)","v":0},null,null,null,null,null,null,0,0]
[{"$f":"Pantomime!A120","v":"Z-502"},{"$f":"Pantomime!U120","v":0},{"$f":"Pantomime!S120","v":0},{"$f":"IF((Table710121314[[#This Row],[Rank]]+Table710121314[[#This Row],[Score]])>0,1,0)","v":0},null,null,null,null,null,null,0,0]
[{"$f":"Pantomime!A121","v":"Z-503"},{"$f":"Pantomime!U121","v":0},{"$f":"Pantomime!S121","v":0},{"$f":"IF((Table710121314[[#This Row],[Rank]]+Table710121314[[#This Row],[Score]])>0,1,0)","v":0},null,null,null,null,null,null,0,0]
[{"$f":"Pantomime!A122","v":"Z-504"},{"$f":"Pantomime!U122","v":0},{"$f":"Pantomime!S122","v":0},{"$f":"IF((Table710121314[[#This Row],[Rank]]+Table710121314[[#This Row],[Score]])>0,1,0)","v":0},null,null,null,null,null,null,0,0]

{"sheet":"MusicalTheatre","index":11,"n_rows":152,"n_cols":31,"rows_kept":152,"cut":false,"hidden":false,"merged":[]}
["Musical Theatre",null,null,null,null,null,null,null,null,null,"Rank 1-4",null,null,null,null,null,null,null,null,null,null,null,null,"S","E","G","F",null,"1violation","2violations","3violations"]
[null,null,null,null,null,null,null,null,null,null,"Round 1:",null,"Round 2:",null,"Round 3:",null,"-2 for each",null,null,null,null,null,null,null,null,null,null,"Drops lowest from column q"]
[null,"Student Name",null,"Student Name",null,"Student Name",null,"Student Name",null,"Title of Piece","R1 rank","R1 score","R2 rank","R2 score","R3 rank","R3 score","Time Violations",null,"TOTAL SCORE",null,"TOTAL RANK",null,null,"TOTAL SCHOOL SWEEPS POINTS",null,null,null,"Drop Lowest"]
["A-601","617 - Sephe",null,null,null,null,null,null,null,"Hopelessy Devoted",4,20,4,14,4,22,null,{"$f":"IF(Q4=\"1violation\",-7*1,IF(Q4=\"2violations\",-7*2,IF(Q4=\"3violations\",-7*3,IF(Q4=\"\",\"\"))))","v":""},{"$f":"SUM(L4,N4,P4,R4)","v":56},null,{"$f":"SUM(K4,M4,O4)","v":12},null,null,null,{"$f":"SUM(S4,S6,S5,S7,-AB4)","v":190},null,null,{"$f":"MIN(S4:S7)","v":56}]
["A-602","618 - Triniti",null,null,null,null,null,null,null,"Rainbow",4,18,2,24,4,22,null,{"$f":"IF(Q5=\"1violation\",-7*1,IF(Q5=\"2violations\",-7*2,IF(Q5=\"3violations\",-7*3,IF(Q5=\"\",\"\"))))","v":""},{"$f":"SUM(L5,N5,P5,R5)","v":64},null,{"$f":"SUM(K5,M5,O5)","v":10}]
["A-603","619 - Leah",null,null,null,null,null,null,null,"Not That Girl",2,25,3,20,3,22,null,"",{"$f":"SUM(L6,N6,P6,R6)","v":67},null,{"$f":"SUM(K6,M6,O6)","v":8}]
["A-604","620 - Bells",null,null,null,null,null,null,null,"Worst Things",3,16,3,21,4,22,null,"",{"$f":"SUM(L7,N7,P7,R7)","v":59},null,{"$f":"SUM(K7,M7,O7)","v":10}]
[]
["B-601","621 - Jaren Henrie",null,null,null,null,null,null,null,"Waving Window",4,24,1,23,1,25,null,"",{"$f":"SUM(L9,N9,P9,R9)","v":72},null,{"$f":"SUM(K9,M9,O9)","v":6},null,null,null,{"$f":"SUM(S9,S11,S10,S12,-AB9)","v":72},null,null,{"$f":"MIN(S9:S12)","v":0}]
["B-602","622 - Mark Tebbs",null,null,null,null,null,null,null,"Taylor Latte Boy",4,24,3,18,3,22,null,"",0,null,{"$f":"SUM(K10,M10,O10)","v":10}]
["B-603",null,null,null,null,null,null,null,null,null,null,null,null,null,null,null,null,"",{"$f":"SUM(L11,N11,P11,R11)","v":0},null,{"$f":"SUM(K11,M11,O11)","v":0}]
["B-604",null,null,null,null,null,null,null,null,null,null,null,null,null,null,null,null,"",{"$f":"SUM(L12,N12,P12,R12)","v":0},null,{"$f":"SUM(K12,M12,O12)","v":0}]
[]
["C-601","601 - Saige Bradshaw",null,null,null,null,null,null,null,"Deadmom",2,24,1,23,3,25,null,"",{"$f":"SUM(L14,N14,P14,R14)","v":72},null,{"$f":"SUM(K14,M14,O14)","v":6},null,null,null,{"$f":"SUM(S14,S16,S15,S17,-AB14)","v":200},null,null,{"$f":"MIN(S14:S17)","v":51}]
["C-602","602 - Mikenna Holm",null,null,null,null,null,null,null,"Walking After",3,23,3,19,4,23,null,"",{"$f":"SUM(L15,N15,P15,R15)","v":65},null,{"$f":"SUM(K15,M15,O15)","v":10}]
["C-603","603 - Destiny Fernandez",null,null,null,null,null,null,null,"Hopely Devoted",4,14,4,12,3,25,null,"",{"$f":"SUM(L16,N16,P16,R16)","v":51},null,{"$f":"SUM(K16,M16,O16)","v":11}]
["C-604","604 - Desteny Gross",null,"Ryna Nicholas",null,"Jewley-ette Roxburgh",null,null,null,"Candystone",4,23,4,17,4,23,null,"",{"$f":"SUM(L17,N17,P17,R17)","v":63},null,{"$f":"SUM(K17,M17,O17)","v":12}]
[]
["D-601","605 - Stetsyn Lamb",null,null,null,null,null,null,null,"World Needs",3,25,4,23,2,25,null,"",{"$f":"SUM(L19,N19,P19,R19)","v":73},null,{"$f":"SUM(K19,M19,O19)","v":9},null,null,null,{"$f":"SUM(S19,S21,S20,S22,-AB19)","v":208},null,null,{"$f":"MIN(S19:S22)","v":0}]
["D-602","606 - Kylee Pace",null,null,null,null,null,null,null,"Around the Coroner",4,22,2,24,4,18,null,"",{"$f":"SUM(L20,N20,P20,R20)","v":64},null,{"$f":"SUM(K20,M20,O20)","v":10}]
["D-603","607 - Shaylee Brown",null,"Ethan White",null,null,null,null,null,"One That I Want",3,23,2,23,1,25,null,"",{"$f":"SUM(L21,N21,P21,R21)","v":71},null,{"$f":"SUM(K21,M21,O21)","v":6}]
["D-604",null,null,null,null,null,null,null,null,null,null,null,null,null,null,null,null,"",{"$f":"SUM(L22,N22,P22,R22)","v":0},null,{"$f":"SUM(K22,M22,O22)","v":0}]
[]
["E-601","609 - Hazel Harris",null,null,null,null,null,null,null,"My Grand Plan",1,25,2,18,3,23,null,"",{"$f":"SUM(L24,N24,P24,R24)","v":66},null,{"$f":"SUM(K24,M24,O24)","v":6},null,null,null,{"$f":"SUM(S24,S26,S25,S27,-AB24)","v":209},null,null,{"$f":"MIN(S24:S27)","v":0}]
["E-602","611 - Colt Reeve",null,null,null,null,null,null,null,"Bless Your Hide",2,20,1,23,1,25,null,"",{"$f":"SUM(L25,N25,P25,R25)","v":68},null,{"$f":"SUM(K25,M25,O25)","v":4}]
["E-603","612 - Hunter Barrick",null,null,null,null,null,null,null,"Waving Through a Window",1,25,1,25,1,25,null,"",{"$f":"SUM(L26,N26,P26,R26)","v":75},null,{"$f":"SUM(K26,M26,O26)","v":3}]
["E-604",null,null,null,null,null,null,null,null,null,null,null,null,null,null,null,null,"",{"$f":"SUM(L27,N27,P27,R27)","v":0},null,{"$f":"SUM(K27,M27,O27)","v":0}]
[]
["F-601","613 - Anne Overson",null,null,null,null,null,null,null,"Simple Joys",1,25,1,25,1,25,null,"",{"$f":"SUM(L29,N29,P29,R29)","v":75},null,{"$f":"SUM(K29,M29,O29)","v":3},null,null,null,{"$f":"SUM(S29,S31,S30,S32,-AB29)","v":216},null,null,{"$f":"MIN(S29:S32)","v":64}]
["F-602","614 - Dallen Platt",null,null,null,null,null,null,null,"Snap",2,25,4,21,4,25,null,"",{"$f":"SUM(L30,N30,P30,R30)","v":71},null,{"$f":"SUM(K30,M30,O30)","v":10}]
["F-603","615 - Mason Beesley",null,"Oscar Word",null,"Maso Ahlstrom",null,"Eli Beesley",null,"Run",4,23,3,17,3,24,null,"",{"$f":"SUM(L31,N31,P31,R31)","v":64},null,{"$f":"SUM(K31,M31,O31)","v":10}]
["F-604","616 - Lloyd Roberts",null,null,null,null,null,null,null,"Never Fully Dressed",4,23,4,23,4,24,null,"",{"$f":"SUM(L32,N32,P32,R32)","v":70},null,{"$f":"SUM(K32,M32,O32)","v":12}]
[]
["G-601","624 - Molly Theodore Byrnes",null,null,null,null,null,null,null,"Waving Through",1,22,4,14,2,25,null,"",{"$f":"SUM(L34,N34,P34,R34)","v":61},null,{"$f":"SUM(K34,M34,O34)","v":7},null,null,null,{"$f":"SUM(S34,S36,S35,S37,-AB34)","v":192},null,null,{"$f":"MIN(S34:S37)","v":0}]
["G-602","625 - Jane Jenkins",null,"Josie Jenkins",null,null,null,null,null,"Sisters",3,25,2,22,4,22,null,"",{"$f":"SUM(L35,N35,P35,R35)","v":69},null,{"$f":"SUM(K35,M35,O35)","v":9}]
["G-603","626 - Treycin Meacham",null,null,null,null,null,null,null,"Didn't Plan It",2,25,4,16,4,21,null,"",{"$f":"SUM(L36,N36,P36,R36)","v":62},null,{"$f":"SUM(K36,M36,O36)","v":10}]
["G-604",null,null,null,null,null,null,null,null,null,null,null,null,null,null,null,null,"",{"$f":"SUM(L37,N37,P37,R37)","v":0},null,{"$f":"SUM(K37,M37,O37)","v":0}]
[]
["H-601","627 - Coral Delorenzis",null,null,null,null,null,null,null,"Give My Life…",1,25,1,21,2,25,null,"",{"$f":"SUM(L39,N39,P39,R39)","v":71},null,{"$f":"SUM(K39,M39,O39)","v":4},null,null,null,{"$f":"SUM(S39,S41,S40,S42,-AB39)","v":144},null,null,{"$f":"MIN(S39:S42)","v":0}]
["H-602","628 - Ryan Lewis",null,null,null,null,null,null,null,"Sante Fe",1,25,3,23,2,25,null,"",{"$f":"SUM(L40,N40,P40,R40)","v":73},null,{"$f":"SUM(K40,M40,O40)","v":6}]
["H-603",null,null,null,null,null,null,null,null,null,null,null,null,null,null,null,null,"",{"$f":"SUM(L41,N41,P41,R41)","v":0},null,{"$f":"SUM(K41,M41,O41)","v":0}]
["H-604",null,null,null,null,null,null,null,null,null,null,null,null,null,null,null,null,"",{"$f":"SUM(L42,N42,P42,R42)","v":0},null,{"$f":"SUM(K42,M42,O42)","v":0}]
[]
["J-601","629 - Brylee Eastwood",null,"Brooke Lyman",null,null,null,null,null,"Caitlyn & Haley",4,21,4,15,4,25,null,"",{"$f":"SUM(L44,N44,P44,R44)","v":61},null,{"$f":"SUM(K44,M44,O44)","v":12},null,null,null,{"$f":"SUM(S44,S46,S45,S47,-AB44)","v":186},null,null,{"$f":"MIN(S44:S47)","v":0}]
["J-602","630 - Wilseydee Richardson",null,null,null,null,null,null,null,"Love Will Come",4,15,4,19,2,24,null,"",{"$f":"SUM(L45,N45,P45,R45)","v":58},null,{"$f":"SUM(K45,M45,O45)","v":10}]
["J-603","631 - Madison Mannino",null,"Ella Young",null,null,null,null,null,"Pulled",2,25,4,17,2,25,null,"",{"$f":"SUM(L46,N46,P46,R46)","v":67},null,{"$f":"SUM(K46,M46,O46)","v":8}]
["J-604","632 - Eloisa Thornock",null,null,null,null,null,null,null,"Colors of Wind",4,24,4,16,4,22,null,"",0,null,{"$f":"SUM(K47,M47,O47)","v":12}]
[]
["K-601",null,null,null,null,null,null,null,null,null,null,null,null,null,null,null,null,"",{"$f":"SUM(L49,N49,P49,R49)","v":0},null,{"$f":"SUM(K49,M49,O49)","v":0},null,null,null,{"$f":"SUM(S49,S51,S50,S52,-AB49)","v":0},null,null,{"$f":"MIN(S49:S52)","v":0}]
["K-602",null,null,null,null,null,null,null,null,null,null,null,null,null,null,null,null,"",{"$f":"SUM(L50,N50,P50,R50)","v":0},null,{"$f":"SUM(K50,M50,O50)","v":0}]
["K-603",null,null,null,null,null,null,null,null,null,null,null,null,null,null,null,null,"",{"$f":"SUM(L51,N51,P51,R51)","v":0},null,{"$f":"SUM(K51,M51,O51)","v":0}]
["K-604",null,null,null,null,null,null,null,null,null,null,null,null,null,null,null,null,"",{"$f":"SUM(L52,N52,P52,R52)","v":0},null,{"$f":"SUM(K52,M52,O52)","v":0}]
[]
["L-601","633 - Yudnely Avelar",null,null,null,null,null,null,null,"Breathe",3,23,2,23,1,25,null,"",{"$f":"SUM(L54,N54,P54,R54)","v":71},null,{"$f":"SUM(K54,M54,O54)","v":6},null,null,null,{"$f":"SUM(S54,S56,S55,S57,-AB54)","v":71},null,null,{"$f":"MIN(S54:S57)","v":0}]
["L-602",null,null,null,null,null,null,null,null,null,null,null,null,null,null,null,null,"",{"$f":"SUM(L55,N55,P55,R55)","v":0},null,{"$f":"SUM(K55,M55,O55)","v":0}]
["L-603",null,null,null,null,null,null,null,null,null,null,null,null,null,null,null,null,"",{"$f":"SUM(L56,N56,P56,R56)","v":0},null,{"$f":"SUM(K56,M56,O56)","v":0}]
["L-604",null,null,null,null,null,null,null,null,null,null,null,null,null,null,null,null,"",{"$f":"SUM(L57,N57,P57,R57)","v":0},null,{"$f":"SUM(K57,M57,O57)","v":0}]
[]
["M-601",null,null,null,null,null,null,null,null,null,null,null,null,null,null,null,null,"",{"$f":"SUM(L59,N59,P59,R59)","v":0},null,{"$f":"SUM(K59,M59,O59)","v":0},null,null,null,{"$f":"SUM(S59,S61,S60,S62,-AB59)","v":0},null,null,{"$f":"MIN(S59:S62)","v":0}]
["M-602",null,null,null,null,null,null,null,null,null,null,null,null,null,null,null,null,"",{"$f":"SUM(L60,N60,P60,R60)","v":0},null,{"$f":"SUM(K60,M60,O60)","v":0}]
["M-603",null,null,null,null,null,null,null,null,null,null,null,null,null,null,null,null,"",{"$f":"SUM(L61,N61,P61,R61)","v":0},null,{"$f":"SUM(K61,M61,O61)","v":0}]
["M-604",null,null,null,null,null,null,null,null,null,null,null,null,null,null,null,null,"",{"$f":"SUM(L62,N62,P62,R62)","v":0},null,{"$f":"SUM(K62,M62,O62)","v":0}]
[]
["N-601",null,null,null,null,null,null,null,null,null,null,null,null,null,null,null,null,"",{"$f":"SUM(L64,N64,P64,R64)","v":0},null,{"$f":"SUM(K64,M64,O64)","v":0},null,null,null,{"$f":"SUM(S64,S66,S65,S67,-AB64)","v":0},null,null,{"$f":"MIN(S64:S67)","v":0}]
["N-602",null,null,null,null,null,null,null,null,null,null,null,null,null,null,null,null,"",{"$f":"SUM(L65,N65,P65,R65)","v":0},null,{"$f":"SUM(K65,M65,O65)","v":0}]
["N-603",null,null,null,null,null,null,null,null,null,null,null,null,null,null,null,null,"",{"$f":"SUM(L66,N66,P66,R66)","v":0},null,{"$f":"SUM(K66,M66,O66)","v":0}]
["N-604",null,null,null,null,null,null,null,null,null,null,null,null,null,null,null,null,"",{"$f":"SUM(L67,N67,P67,R67)","v":0},null,{"$f":"SUM(K67,M67,O67)","v":0}]
[]
["P-601",null,null,null,null,null,null,null,null,null,null,null,null,null,null,null,null,{"$f":"IF(Q69=\"1violation\",-7*1,IF(Q69=\"2violations\",-7*2,IF(Q69=\"3violations\",-7*3,IF(Q69=\"\",\"\"))))","v":""},{"$f":"SUM(L69,N69,P69,R69)","v":0},null,{"$f":"SUM(K69,M69,O69)","v":0},null,null,null,{"$f":"SUM(S69,S71,S70,S72,-AB69)","v":0},null,null,{"$f":"MIN(S69:S72)","v":0}]
["P-602",null,null,null,null,null,null,null,null,null,null,null,null,null,null,null,null,"",{"$f":"SUM(L70,N70,P70,R70)","v":0},null,{"$f":"SUM(K70,M70,O70)","v":0}]
["P-603",null,null,null,null,null,null,null,null,null,null,null,null,null,null,null,null,"",{"$f":"SUM(L71,N71,P71,R71)","v":0},null,{"$f":"SUM(K71,M71,O71)","v":0}]
["P-604",null,null,null,null,null,null,null,null,null,null,null,null,null,null,null,null,"",{"$f":"SUM(L72,N72,P72,R72)","v":0},null,{"$f":"SUM(K72,M72,O72)","v":0}]
[]
["Q-601",null,null,null,null,null,null,null,null,null,null,null,null,null,null,null,null,"",{"$f":"SUM(L74,N74,P74,R74)","v":0},null,{"$f":"SUM(K74,M74,O74)","v":0},null,null,null,{"$f":"SUM(S74,S76,S75,S77,-AB74)","v":0},null,null,{"$f":"MIN(S74:S77)","v":0}]
["Q-602",null,null,null,null,null,null,null,null,null,null,null,null,null,null,null,null,"",{"$f":"SUM(L75,N75,P75,R75)","v":0},null,{"$f":"SUM(K75,M75,O75)","v":0}]
["Q-603",null,null,null,null,null,null,null,null,null,null,null,null,null,null,null,null,"",{"$f":"SUM(L76,N76,P76,R76)","v":0},null,{"$f":"SUM(K76,M76,O76)","v":0}]
["Q-604",null,null,null,null,null,null,null,null,null,null,null,null,null,null,null,null,"",{"$f":"SUM(L77,N77,P77,R77)","v":0},null,{"$f":"SUM(K77,M77,O77)","v":0}]
[]
["R-601",null,null,null,null,null,null,null,null,null,null,null,null,null,null,null,null,"",{"$f":"SUM(L79,N79,P79,R79)","v":0},null,{"$f":"SUM(K79,M79,O79)","v":0},null,null,null,{"$f":"SUM(S79,S81,S80,S82,-AB79)","v":0},null,null,{"$f":"MIN(S79:S82)","v":0}]
["R-602",null,null,null,null,null,null,null,null,null,null,null,null,null,null,null,null,"",{"$f":"SUM(L80,N80,P80,R80)","v":0},null,{"$f":"SUM(K80,M80,O80)","v":0}]
["R-603",null,null,null,null,null,null,null,null,null,null,null,null,null,null,null,null,"",{"$f":"SUM(L81,N81,P81,R81)","v":0},null,{"$f":"SUM(K81,M81,O81)","v":0}]
["R-604",null,null,null,null,null,null,null,null,null,null,null,null,null,null,null,null,"",{"$f":"SUM(L82,N82,P82,R82)","v":0},null,{"$f":"SUM(K82,M82,O82)","v":0}]
[]
["S-601",null,null,null,null,null,null,null,null,null,null,null,null,null,null,null,null,"",{"$f":"SUM(L84,N84,P84,R84)","v":0},null,{"$f":"SUM(K84,M84,O84)","v":0},null,null,null,{"$f":"SUM(S84,S86,S85,S87,-AB84)","v":0},null,null,{"$f":"MIN(S84:S87)","v":0}]
["S-602",null,null,null,null,null,null,null,null,null,null,null,null,null,null,null,null,"",{"$f":"SUM(L85,N85,P85,R85)","v":0},null,{"$f":"SUM(K85,M85,O85)","v":0}]
["S-603",null,null,null,null,null,null,null,null,null,null,null,null,null,null,null,null,"",{"$f":"SUM(L86,N86,P86,R86)","v":0},null,{"$f":"SUM(K86,M86,O86)","v":0}]
["S-604",null,null,null,null,null,null,null,null,null,null,null,null,null,null,null,null,"",{"$f":"SUM(L87,N87,P87,R87)","v":0},null,{"$f":"SUM(K87,M87,O87)","v":0}]
[]
["T-601",null,null,null,null,null,null,null,null,null,null,null,null,null,null,null,null,"",{"$f":"SUM(L89,N89,P89,R89)","v":0},null,{"$f":"SUM(K89,M89,O89)","v":0},null,null,null,{"$f":"SUM(S89,S91,S90,S92,-AB89)","v":0},null,null,{"$f":"MIN(S89:S92)","v":0}]
["T-602",null,null,null,null,null,null,null,null,null,null,null,null,null,null,null,null,"",{"$f":"SUM(L90,N90,P90,R90)","v":0},null,{"$f":"SUM(K90,M90,O90)","v":0}]
["T-603",null,null,null,null,null,null,null,null,null,null,null,null,null,null,null,null,"",{"$f":"SUM(L91,N91,P91,R91)","v":0},null,{"$f":"SUM(K91,M91,O91)","v":0}]
["T-604",null,null,null,null,null,null,null,null,null,null,null,null,null,null,null,null,"",{"$f":"SUM(L92,N92,P92,R92)","v":0},null,{"$f":"SUM(K92,M92,O92)","v":0}]
[]
["U-601",null,null,null,null,null,null,null,null,null,null,null,null,null,null,null,null,"",{"$f":"SUM(L94,N94,P94,R94)","v":0},null,{"$f":"SUM(K94,M94,O94)","v":0},null,null,null,{"$f":"SUM(S94,S96,S95,S97,-AB94)","v":0},null,null,{"$f":"MIN(S94:S97)","v":0}]
["U-602",null,null,null,null,null,null,null,null,null,null,null,null,null,null,null,null,"",{"$f":"SUM(L95,N95,P95,R95)","v":0},null,{"$f":"SUM(K95,M95,O95)","v":0}]
["U-603",null,null,null,null,null,null,null,null,null,null,null,null,null,null,null,null,"",{"$f":"SUM(L96,N96,P96,R96)","v":0},null,{"$f":"SUM(K96,M96,O96)","v":0}]
["U-604",null,null,null,null,null,null,null,null,null,null,null,null,null,null,null,null,"",{"$f":"SUM(L97,N97,P97,R97)","v":0},null,{"$f":"SUM(K97,M97,O97)","v":0}]
[]
["V-601",null,null,null,null,null,null,null,null,null,null,null,null,null,null,null,null,"",{"$f":"SUM(L99,N99,P99,R99)","v":0},null,{"$f":"SUM(K99,M99,O99)","v":0},null,null,null,{"$f":"SUM(S99,S101,S100,S102,-AB99)","v":0},null,null,{"$f":"MIN(S99:S102)","v":0}]
["V-602",null,null,null,null,null,null,null,null,null,null,null,null,null,null,null,null,"",{"$f":"SUM(L100,N100,P100,R100)","v":0},null,{"$f":"SUM(K100,M100,O100)","v":0}]
["V-603",null,null,null,null,null,null,null,null,null,null,null,null,null,null,null,null,"",{"$f":"SUM(L101,N101,P101,R101)","v":0},null,{"$f":"SUM(K101,M101,O101)","v":0}]
["V-604",null,null,null,null,null,null,null,null,null,null,null,null,null,null,null,null,"",{"$f":"SUM(L102,N102,P102,R102)","v":0},null,{"$f":"SUM(K102,M102,O102)","v":0}]
[]
["W-601",null,null,null,null,null,null,null,null,null,null,null,null,null,null,null,null,"",{"$f":"SUM(L104,N104,P104,R104)","v":0},null,{"$f":"SUM(K104,M104,O104)","v":0},null,null,null,{"$f":"SUM(S104,S106,S105,S107,-AB104)","v":0},null,null,{"$f":"MIN(S104:S107)","v":0}]
["W-602",null,null,null,null,null,null,null,null,null,null,null,null,null,null,null,null,"",{"$f":"SUM(L105,N105,P105,R105)","v":0},null,{"$f":"SUM(K105,M105,O105)","v":0}]
["W-603",null,null,null,null,null,null,null,null,null,null,null,null,null,null,null,null,"",{"$f":"SUM(L106,N106,P106,R106)","v":0},null,{"$f":"SUM(K106,M106,O106)","v":0}]
["W-604",null,null,null,null,null,null,null,null,null,null,null,null,null,null,null,null,"",{"$f":"SUM(L107,N107,P107,R107)","v":0},null,{"$f":"SUM(K107,M107,O107)","v":0}]
[]
["X-601",null,null,null,null,null,null,null,null,null,null,null,null,null,null,null,null,"",{"$f":"SUM(L109,N109,P109,R109)","v":0},null,{"$f":"SUM(K109,M109,O109)","v":0},null,null,null,{"$f":"SUM(S109,S111,S110,S112,-AB109)","v":0},null,null,{"$f":"MIN(S109:S112)","v":0}]
["X-602",null,null,null,null,null,null,null,null,null,null,null,null,null,null,null,null,"",{"$f":"SUM(L110,N110,P110,R110)","v":0},null,{"$f":"SUM(K110,M110,O110)","v":0}]
["X-603",null,null,null,null,null,null,null,null,null,null,null,null,null,null,null,null,"",{"$f":"SUM(L111,N111,P111,R111)","v":0},null,{"$f":"SUM(K111,M111,O111)","v":0}]
["X-604",null,null,null,null,null,null,null,null,null,null,null,null,null,null,null,null,"",{"$f":"SUM(L112,N112,P112,R112)","v":0},null,{"$f":"SUM(K112,M112,O112)","v":0}]
[]
["Y-601",null,null,null,null,null,null,null,null,null,null,null,null,null,null,null,null,"",{"$f":"SUM(L114,N114,P114,R114)","v":0},null,{"$f":"SUM(K114,M114,O114)","v":0},null,null,null,{"$f":"SUM(S114,S116,S115,S117,-AB114)","v":0},null,null,{"$f":"MIN(S114:S117)","v":0}]
["Y-602",null,null,null,null,null,null,null,null,null,null,null,null,null,null,null,null,"",{"$f":"SUM(L115,N115,P115,R115)","v":0},null,{"$f":"SUM(K115,M115,O115)","v":0}]
["Y-603",null,null,null,null,null,null,null,null,null,null,null,null,null,null,null,null,"",{"$f":"SUM(L116,N116,P116,R116)","v":0},null,{"$f":"SUM(K116,M116,O116)","v":0}]
["Y-604",null,null,null,null,null,null,null,null,null,null,null,null,null,null,null,null,"",{"$f":"SUM(L117,N117,P117,R117)","v":0},null,{"$f":"SUM(K117,M117,O117)","v":0}]
[]
["Z-601",null,null,null,null,null,null,null,null,null,null,null,null,null,null,null,null,"",{"$f":"SUM(L119,N119,P119,R119)","v":0},null,{"$f":"SUM(K119,M119,O119)","v":0},null,null,null,{"$f":"SUM(S119,S121,S120,S122,-AB119)","v":0},null,null,{"$f":"MIN(S119:S122)","v":0}]
["Z-602",null,null,null,null,null,null,null,null,null,null,null,null,null,null,null,null,"",{"$f":"SUM(L120,N120,P120,R120)","v":0},null,{"$f":"SUM(K120,M120,O120)","v":0}]
["Z-603",null,null,null,null,null,null,null,null,null,null,null,null,null,null,null,null,"",{"$f":"SUM(L121,N121,P121,R121)","v":0},null,{"$f":"SUM(K121,M121,O121)","v":0}]
["Z-604",null,null,null,null,null,null,null,null,null,null,null,null,null,null,null,null,"",{"$f":"SUM(L122,N122,P122,R122)","v":0},null,{"$f":"SUM(K122,M122,O122)","v":0}]
[]
["AA-601",null,null,null,null,null,null,null,null,null,null,null,null,null,null,null,null,"",{"$f":"SUM(L124,N124,P124,R124)","v":0},null,{"$f":"SUM(K124,M124,O124)","v":0},null,null,null,{"$f":"SUM(S124,S126,S125,S127,-AB124)","v":0},null,null,{"$f":"MIN(S124:S127)","v":0}]
["AA-602",null,null,null,null,null,null,null,null,null,null,null,null,null,null,null,null,"",{"$f":"SUM(L125,N125,P125,R125)","v":0},null,{"$f":"SUM(K125,M125,O125)","v":0}]
["AA-603",null,null,null,null,null,null,null,null,null,null,null,null,null,null,null,null,"",{"$f":"SUM(L126,N126,P126,R126)","v":0},null,{"$f":"SUM(K126,M126,O126)","v":0}]
["AA-604",null,null,null,null,null,null,null,null,null,null,null,null,null,null,null,null,"",{"$f":"SUM(L127,N127,P127,R127)","v":0},null,{"$f":"SUM(K127,M127,O127)","v":0}]
[]
["BB-601",null,null,null,null,null,null,null,null,null,null,null,null,null,null,null,null,"",{"$f":"SUM(L129,N129,P129,R129)","v":0},null,{"$f":"SUM(K129,M129,O129)","v":0},null,null,null,{"$f":"SUM(S129,S131,S130,S132,-AB129)","v":0},null,null,{"$f":"MIN(S129:S132)","v":0}]
["BB-602",null,null,null,null,null,null,null,null,null,null,null,null,null,null,null,null,"",{"$f":"SUM(L130,N130,P130,R130)","v":0},null,{"$f":"SUM(K130,M130,O130)","v":0}]
["BB-603",null,null,null,null,null,null,null,null,null,null,null,null,null,null,null,null,"",{"$f":"SUM(L131,N131,P131,R131)","v":0},null,{"$f":"SUM(K131,M131,O131)","v":0}]
["BB-604",null,null,null,null,null,null,null,null,null,null,null,null,null,null,null,null,"",{"$f":"SUM(L132,N132,P132,R132)","v":0},null,{"$f":"SUM(K132,M132,O132)","v":0}]
[]
["CC-601",null,null,null,null,null,null,null,null,null,null,null,null,null,null,null,null,{"$f":"IF(Q134=\"1violation\",-7*1,IF(Q134=\"2violations\",-7*2,IF(Q134=\"3violations\",-7*3,IF(Q134=\"\",\"\"))))","v":""},{"$f":"SUM(L134,N134,P134,R134)","v":0},null,{"$f":"SUM(K134,M134,O134)","v":0},null,null,null,{"$f":"SUM(S134,S136,S135,S137,-AB134)","v":0},null,null,{"$f":"MIN(S134:S137)","v":0}]
["CC-602",null,null,null,null,null,null,null,null,null,null,null,null,null,null,null,null,"",{"$f":"SUM(L135,N135,P135,R135)","v":0},null,{"$f":"SUM(K135,M135,O135)","v":0}]
["CC-603",null,null,null,null,null,null,null,null,null,null,null,null,null,null,null,null,"",{"$f":"SUM(L136,N136,P136,R136)","v":0},null,{"$f":"SUM(K136,M136,O136)","v":0}]
["CC-604",null,null,null,null,null,null,null,null,null,null,null,null,null,null,null,null,"",{"$f":"SUM(L137,N137,P137,R137)","v":0},null,{"$f":"SUM(K137,M137,O137)","v":0}]
[]
["DD-601",null,null,null,null,null,null,null,null,null,null,null,null,null,null,null,null,"",{"$f":"SUM(L139,N139,P139,R139)","v":0},null,{"$f":"SUM(K139,M139,O139)","v":0},null,null,null,{"$f":"SUM(S139,S141,S140,S142,-AB139)","v":0},null,null,{"$f":"MIN(S139:S142)","v":0}]
["DD-602",null,null,null,null,null,null,null,null,null,null,null,null,null,null,null,null,"",{"$f":"SUM(L140,N140,P140,R140)","v":0},null,{"$f":"SUM(K140,M140,O140)","v":0}]
["DD-603",null,null,null,null,null,null,null,null,null,null,null,null,null,null,null,null,"",{"$f":"SUM(L141,N141,P141,R141)","v":0},null,{"$f":"SUM(K141,M141,O141)","v":0}]
["DD-604",null,null,null,null,null,null,null,null,null,null,null,null,null,null,null,null,"",{"$f":"SUM(L142,N142,P142,R142)","v":0},null,{"$f":"SUM(K142,M142,O142)","v":0}]
[]
["EE-601",null,null,null,null,null,null,null,null,null,null,null,null,null,null,null,null,"",{"$f":"SUM(L144,N144,P144,R144)","v":0},null,{"$f":"SUM(K144,M144,O144)","v":0},null,null,null,{"$f":"SUM(S144,S146,S145,S147,-AB144)","v":0},null,null,{"$f":"MIN(S144:S147)","v":0}]
["EE-602",null,null,null,null,null,null,null,null,null,null,null,null,null,null,null,null,"",{"$f":"SUM(L145,N145,P145,R145)","v":0},null,{"$f":"SUM(K145,M145,O145)","v":0}]
["EE-603",null,null,null,null,null,null,null,null,null,null,null,null,null,null,null,null,"",{"$f":"SUM(L146,N146,P146,R146)","v":0},null,{"$f":"SUM(K146,M146,O146)","v":0}]
["EE-604",null,null,null,null,null,null,null,null,null,null,null,null,null,null,null,null,"",{"$f":"SUM(L147,N147,P147,R147)","v":0},null,{"$f":"SUM(K147,M147,O147)","v":0}]
[]
["FF-601",null,null,null,null,null,null,null,null,null,null,null,null,null,null,null,null,"",{"$f":"SUM(L149,N149,P149,R149)","v":0},null,{"$f":"SUM(K149,M149,O149)","v":0},null,null,null,{"$f":"SUM(S149,S151,S150,S152,-AB149)","v":0},null,null,{"$f":"MIN(S149:S152)","v":0}]
["FF-602",null,null,null,null,null,null,null,null,null,null,null,null,null,null,null,null,"",{"$f":"SUM(L150,N150,P150,R150)","v":0},null,{"$f":"SUM(K150,M150,O150)","v":0}]
["FF-603",null,null,null,null,null,null,null,null,null,null,null,null,null,null,null,null,"",{"$f":"SUM(L151,N151,P151,R151)","v":0},null,{"$f":"SUM(K151,M151,O151)","v":0}]
["FF-604",null,null,null,null,null,null,null,null,null,null,null,null,null,null,null,null,"",{"$f":"SUM(L152,N152,P152,R152)","v":0},null,{"$f":"SUM(K152,M152,O152)","v":0}]

{"sheet":"MusicalTheatreMR","index":12,"n_rows":122,"n_cols":12,"rows_kept":122,"cut":false,"hidden":false,"merged":[]}
["Musical Theatre",null,null,null,"Finals Medals Round Scores"]
["ID","Rank","Score","LeaveBlank","MR 1 Rank","MR 1 Score","MR2 Rank","MR 2 Score","MR3 Rank","MR 3 Score","Total MR Rank","Total MR Score"]
[{"$f":"MusicalTheatre!A26","v":"E-603"},{"$f":"MusicalTheatre!U26","v":3},{"$f":"MusicalTheatre!S26","v":75},{"$f":"IF((Table71012131415[[#This Row],[Rank]]+Table71012131415[[#This Row],[Score]])>0,1,0)","v":1},1,23,2,23,2,22,{"$f":"SUM(E3,G3,I3)","v":5},{"$f":"SUM(F3,H3,J3)","v":68}]
[{"$f":"MusicalTheatre!A29","v":"F-601"},{"$f":"MusicalTheatre!U29","v":3},{"$f":"MusicalTheatre!S29","v":75},{"$f":"IF((Table71012131415[[#This Row],[Rank]]+Table71012131415[[#This Row],[Score]])>0,1,0)","v":1},2,22,1,24,1,24,4,70]
[{"$f":"MusicalTheatre!A39","v":"H-601"},{"$f":"MusicalTheatre!U39","v":4},{"$f":"MusicalTheatre!S39","v":71},{"$f":"IF((Table71012131415[[#This Row],[Rank]]+Table71012131415[[#This Row],[Score]])>0,1,0)","v":1},5,21,4,22,3,22,12,65]
[{"$f":"MusicalTheatre!A25","v":"E-602"},{"$f":"MusicalTheatre!U25","v":4},{"$f":"MusicalTheatre!S25","v":68},{"$f":"IF((Table71012131415[[#This Row],[Rank]]+Table71012131415[[#This Row],[Score]])>0,1,0)","v":1},3,23,5,20,5,21,13,64]
[{"$f":"MusicalTheatre!A40","v":"H-602"},{"$f":"MusicalTheatre!U40","v":6},{"$f":"MusicalTheatre!S40","v":73},{"$f":"IF((Table71012131415[[#This Row],[Rank]]+Table71012131415[[#This Row],[Score]])>0,1,0)","v":1},4,23,3,22,4,22,11,67]
[{"$f":"MusicalTheatre!A9","v":"B-601"},{"$f":"MusicalTheatre!U9","v":6},{"$f":"MusicalTheatre!S9","v":72},{"$f":"IF((Table71012131415[[#This Row],[Rank]]+Table71012131415[[#This Row],[Score]])>0,1,0)","v":1},null,null,null,null,null,null,0,0]
[{"$f":"MusicalTheatre!A14","v":"C-601"},{"$f":"MusicalTheatre!U14","v":6},{"$f":"MusicalTheatre!S14","v":72},{"$f":"IF((Table71012131415[[#This Row],[Rank]]+Table71012131415[[#This Row],[Score]])>0,1,0)","v":1},null,null,null,null,null,null,0,0]
[{"$f":"MusicalTheatre!A21","v":"D-603"},{"$f":"MusicalTheatre!U21","v":6},{"$f":"MusicalTheatre!S21","v":71},{"$f":"IF((Table71012131415[[#This Row],[Rank]]+Table71012131415[[#This Row],[Score]])>0,1,0)","v":1},null,null,null,null,null,null,0,0]
[{"$f":"MusicalTheatre!A54","v":"L-601"},{"$f":"MusicalTheatre!U54","v":6},{"$f":"MusicalTheatre!S54","v":71},{"$f":"IF((Table71012131415[[#This Row],[Rank]]+Table71012131415[[#This Row],[Score]])>0,1,0)","v":1},null,null,null,null,null,null,0,0]
[{"$f":"MusicalTheatre!A24","v":"E-601"},{"$f":"MusicalTheatre!U24","v":6},{"$f":"MusicalTheatre!S24","v":66},{"$f":"IF((Table71012131415[[#This Row],[Rank]]+Table71012131415[[#This Row],[Score]])>0,1,0)","v":1},null,null,null,null,null,null,0,0]
[{"$f":"MusicalTheatre!A34","v":"G-601"},{"$f":"MusicalTheatre!U34","v":7},{"$f":"MusicalTheatre!S34","v":61},{"$f":"IF((Table71012131415[[#This Row],[Rank]]+Table71012131415[[#This Row],[Score]])>0,1,0)","v":1},null,null,null,null,null,null,0,0]
[{"$f":"MusicalTheatre!A6","v":"A-603"},{"$f":"MusicalTheatre!U6","v":8},{"$f":"MusicalTheatre!S6","v":67},{"$f":"IF((Table71012131415[[#This Row],[Rank]]+Table71012131415[[#This Row],[Score]])>0,1,0)","v":1},null,null,null,null,null,null,0,0]
[{"$f":"MusicalTheatre!A46","v":"J-603"},{"$f":"MusicalTheatre!U46","v":8},{"$f":"MusicalTheatre!S46","v":67},{"$f":"IF((Table71012131415[[#This Row],[Rank]]+Table71012131415[[#This Row],[Score]])>0,1,0)","v":1},null,null,null,null,null,null,0,0]
[{"$f":"MusicalTheatre!A19","v":"D-601"},{"$f":"MusicalTheatre!U19","v":9},{"$f":"MusicalTheatre!S19","v":73},{"$f":"IF((Table71012131415[[#This Row],[Rank]]+Table71012131415[[#This Row],[Score]])>0,1,0)","v":1},null,null,null,null,null,null,0,0]
[{"$f":"MusicalTheatre!A35","v":"G-602"},{"$f":"MusicalTheatre!U35","v":9},{"$f":"MusicalTheatre!S35","v":69},{"$f":"IF((Table71012131415[[#This Row],[Rank]]+Table71012131415[[#This Row],[Score]])>0,1,0)","v":1},null,null,null,null,null,null,0,0]
[{"$f":"MusicalTheatre!A30","v":"F-602"},{"$f":"MusicalTheatre!U30","v":10},{"$f":"MusicalTheatre!S30","v":71},{"$f":"IF((Table71012131415[[#This Row],[Rank]]+Table71012131415[[#This Row],[Score]])>0,1,0)","v":1},null,null,null,null,null,null,0,0]
[{"$f":"MusicalTheatre!A15","v":"C-602"},{"$f":"MusicalTheatre!U15","v":10},{"$f":"MusicalTheatre!S15","v":65},{"$f":"IF((Table71012131415[[#This Row],[Rank]]+Table71012131415[[#This Row],[Score]])>0,1,0)","v":1},null,null,null,null,null,null,0,0]
[{"$f":"MusicalTheatre!A10","v":"B-602"},{"$f":"MusicalTheatre!U10","v":10},{"$f":"MusicalTheatre!S10","v":0},{"$f":"IF((Table71012131415[[#This Row],[Rank]]+Table71012131415[[#This Row],[Score]])>0,1,0)","v":1},null,null,null,null,null,null,0,0]
[{"$f":"MusicalTheatre!A5","v":"A-602"},{"$f":"MusicalTheatre!U5","v":10},{"$f":"MusicalTheatre!S5","v":64},{"$f":"IF((Table71012131415[[#This Row],[Rank]]+Table71012131415[[#This Row],[Score]])>0,1,0)","v":1},null,null,null,null,null,null,0,0]
[{"$f":"MusicalTheatre!A20","v":"D-602"},{"$f":"MusicalTheatre!U20","v":10},{"$f":"MusicalTheatre!S20","v":64},{"$f":"IF((Table71012131415[[#This Row],[Rank]]+Table71012131415[[#This Row],[Score]])>0,1,0)","v":1},null,null,null,null,null,null,0,0]
[{"$f":"MusicalTheatre!A31","v":"F-603"},{"$f":"MusicalTheatre!U31","v":10},{"$f":"MusicalTheatre!S31","v":64},{"$f":"IF((Table71012131415[[#This Row],[Rank]]+Table71012131415[[#This Row],[Score]])>0,1,0)","v":1},null,null,null,null,null,null,0,0]
[{"$f":"MusicalTheatre!A36","v":"G-603"},{"$f":"MusicalTheatre!U36","v":10},{"$f":"MusicalTheatre!S36","v":62},{"$f":"IF((Table71012131415[[#This Row],[Rank]]+Table71012131415[[#This Row],[Score]])>0,1,0)","v":1},null,null,null,null,null,null,0,0]
[{"$f":"MusicalTheatre!A7","v":"A-604"},{"$f":"MusicalTheatre!U7","v":10},{"$f":"MusicalTheatre!S7","v":59},{"$f":"IF((Table71012131415[[#This Row],[Rank]]+Table71012131415[[#This Row],[Score]])>0,1,0)","v":1},null,null,null,null,null,null,0,0]
[{"$f":"MusicalTheatre!A45","v":"J-602"},{"$f":"MusicalTheatre!U45","v":10},{"$f":"MusicalTheatre!S45","v":58},{"$f":"IF((Table71012131415[[#This Row],[Rank]]+Table71012131415[[#This Row],[Score]])>0,1,0)","v":1},null,null,null,null,null,null,0,0]
[{"$f":"MusicalTheatre!A16","v":"C-603"},{"$f":"MusicalTheatre!U16","v":11},{"$f":"MusicalTheatre!S16","v":51},{"$f":"IF((Table71012131415[[#This Row],[Rank]]+Table71012131415[[#This Row],[Score]])>0,1,0)","v":1},null,null,null,null,null,null,0,0]
[{"$f":"MusicalTheatre!A32","v":"F-604"},{"$f":"MusicalTheatre!U32","v":12},{"$f":"MusicalTheatre!S32","v":70},{"$f":"IF((Table71012131415[[#This Row],[Rank]]+Table71012131415[[#This Row],[Score]])>0,1,0)","v":1},null,null,null,null,null,null,0,0]
[{"$f":"MusicalTheatre!A17","v":"C-604"},{"$f":"MusicalTheatre!U17","v":12},{"$f":"MusicalTheatre!S17","v":63},{"$f":"IF((Table71012131415[[#This Row],[Rank]]+Table71012131415[[#This Row],[Score]])>0,1,0)","v":1},null,null,null,null,null,null,0,0]
[{"$f":"MusicalTheatre!A47","v":"J-604"},{"$f":"MusicalTheatre!U47","v":12},{"$f":"MusicalTheatre!S47","v":0},{"$f":"IF((Table71012131415[[#This Row],[Rank]]+Table71012131415[[#This Row],[Score]])>0,1,0)","v":1},null,null,null,null,null,null,0,0]
[{"$f":"MusicalTheatre!A44","v":"J-601"},{"$f":"MusicalTheatre!U44","v":12},{"$f":"MusicalTheatre!S44","v":61},{"$f":"IF((Table71012131415[[#This Row],[Rank]]+Table71012131415[[#This Row],[Score]])>0,1,0)","v":1},null,null,null,null,null,null,0,0]
[{"$f":"MusicalTheatre!A4","v":"A-601"},{"$f":"MusicalTheatre!U4","v":12},{"$f":"MusicalTheatre!S4","v":56},{"$f":"IF((Table71012131415[[#This Row],[Rank]]+Table71012131415[[#This Row],[Score]])>0,1,0)","v":1},null,null,null,null,null,null,0,0]
[{"$f":"MusicalTheatre!A124","v":"AA-601"},{"$f":"MusicalTheatre!U124","v":0},{"$f":"MusicalTheatre!S124","v":0},{"$f":"IF((Table71012131415[[#This Row],[Rank]]+Table71012131415[[#This Row],[Score]])>0,1,0)","v":0},null,null,null,null,null,null,0,0]
[{"$f":"MusicalTheatre!A125","v":"AA-602"},{"$f":"MusicalTheatre!U125","v":0},{"$f":"MusicalTheatre!S125","v":0},{"$f":"IF((Table71012131415[[#This Row],[Rank]]+Table71012131415[[#This Row],[Score]])>0,1,0)","v":0},null,null,null,null,null,null,0,0]
[{"$f":"MusicalTheatre!A126","v":"AA-603"},{"$f":"MusicalTheatre!U126","v":0},{"$f":"MusicalTheatre!S126","v":0},{"$f":"IF((Table71012131415[[#This Row],[Rank]]+Table71012131415[[#This Row],[Score]])>0,1,0)","v":0},null,null,null,null,null,null,{"$f":"SUM(E35,G35,I35)","v":0},{"$f":"SUM(F35,H35,J35)","v":0}]
[{"$f":"MusicalTheatre!A127","v":"AA-604"},{"$f":"MusicalTheatre!U127","v":0},{"$f":"MusicalTheatre!S127","v":0},{"$f":"IF((Table71012131415[[#This Row],[Rank]]+Table71012131415[[#This Row],[Score]])>0,1,0)","v":0},null,null,null,null,null,null,0,0]
[{"$f":"MusicalTheatre!A11","v":"B-603"},{"$f":"MusicalTheatre!U11","v":0},{"$f":"MusicalTheatre!S11","v":0},{"$f":"IF((Table71012131415[[#This Row],[Rank]]+Table71012131415[[#This Row],[Score]])>0,1,0)","v":0},null,null,null,null,null,null,0,0]
[{"$f":"MusicalTheatre!A12","v":"B-604"},{"$f":"MusicalTheatre!U12","v":0},{"$f":"MusicalTheatre!S12","v":0},{"$f":"IF((Table71012131415[[#This Row],[Rank]]+Table71012131415[[#This Row],[Score]])>0,1,0)","v":0},null,null,null,null,null,null,0,0]
[{"$f":"MusicalTheatre!A129","v":"BB-601"},{"$f":"MusicalTheatre!U129","v":0},{"$f":"MusicalTheatre!S129","v":0},{"$f":"IF((Table71012131415[[#This Row],[Rank]]+Table71012131415[[#This Row],[Score]])>0,1,0)","v":0},null,null,null,null,null,null,0,0]
[{"$f":"MusicalTheatre!A130","v":"BB-602"},{"$f":"MusicalTheatre!U130","v":0},{"$f":"MusicalTheatre!S130","v":0},{"$f":"IF((Table71012131415[[#This Row],[Rank]]+Table71012131415[[#This Row],[Score]])>0,1,0)","v":0},null,null,null,null,null,null,0,0]
[{"$f":"MusicalTheatre!A131","v":"BB-603"},{"$f":"MusicalTheatre!U131","v":0},{"$f":"MusicalTheatre!S131","v":0},{"$f":"IF((Table71012131415[[#This Row],[Rank]]+Table71012131415[[#This Row],[Score]])>0,1,0)","v":0},null,null,null,null,null,null,0,0]
[{"$f":"MusicalTheatre!A132","v":"BB-604"},{"$f":"MusicalTheatre!U132","v":0},{"$f":"MusicalTheatre!S132","v":0},{"$f":"IF((Table71012131415[[#This Row],[Rank]]+Table71012131415[[#This Row],[Score]])>0,1,0)","v":0},null,null,null,null,null,null,0,0]
[{"$f":"MusicalTheatre!A134","v":"CC-601"},{"$f":"MusicalTheatre!U134","v":0},{"$f":"MusicalTheatre!S134","v":0},{"$f":"IF((Table71012131415[[#This Row],[Rank]]+Table71012131415[[#This Row],[Score]])>0,1,0)","v":0},null,null,null,null,null,null,0,0]
[{"$f":"MusicalTheatre!A135","v":"CC-602"},{"$f":"MusicalTheatre!U135","v":0},{"$f":"MusicalTheatre!S135","v":0},{"$f":"IF((Table71012131415[[#This Row],[Rank]]+Table71012131415[[#This Row],[Score]])>0,1,0)","v":0},null,null,null,null,null,null,0,0]
[{"$f":"MusicalTheatre!A136","v":"CC-603"},{"$f":"MusicalTheatre!U136","v":0},{"$f":"MusicalTheatre!S136","v":0},{"$f":"IF((Table71012131415[[#This Row],[Rank]]+Table71012131415[[#This Row],[Score]])>0,1,0)","v":0},null,null,null,null,null,null,0,0]
[{"$f":"MusicalTheatre!A137","v":"CC-604"},{"$f":"MusicalTheatre!U137","v":0},{"$f":"MusicalTheatre!S137","v":0},{"$f":"IF((Table71012131415[[#This Row],[Rank]]+Table71012131415[[#This Row],[Score]])>0,1,0)","v":0},null,null,null,null,null,null,0,0]
[{"$f":"MusicalTheatre!A22","v":"D-604"},{"$f":"MusicalTheatre!U22","v":0},{"$f":"MusicalTheatre!S22","v":0},{"$f":"IF((Table71012131415[[#This Row],[Rank]]+Table71012131415[[#This Row],[Score]])>0,1,0)","v":0},null,null,null,null,null,null,0,0]
[{"$f":"MusicalTheatre!A139","v":"DD-601"},{"$f":"MusicalTheatre!U139","v":0},{"$f":"MusicalTheatre!S139","v":0},{"$f":"IF((Table71012131415[[#This Row],[Rank]]+Table71012131415[[#This Row],[Score]])>0,1,0)","v":0},null,null,null,null,null,null,0,0]
[{"$f":"MusicalTheatre!A140","v":"DD-602"},{"$f":"MusicalTheatre!U140","v":0},{"$f":"MusicalTheatre!S140","v":0},{"$f":"IF((Table71012131415[[#This Row],[Rank]]+Table71012131415[[#This Row],[Score]])>0,1,0)","v":0},null,null,null,null,null,null,0,0]
[{"$f":"MusicalTheatre!A141","v":"DD-603"},{"$f":"MusicalTheatre!U141","v":0},{"$f":"MusicalTheatre!S141","v":0},{"$f":"IF((Table71012131415[[#This Row],[Rank]]+Table71012131415[[#This Row],[Score]])>0,1,0)","v":0},null,null,null,null,null,null,0,0]
[{"$f":"MusicalTheatre!A142","v":"DD-604"},{"$f":"MusicalTheatre!U142","v":0},{"$f":"MusicalTheatre!S142","v":0},{"$f":"IF((Table71012131415[[#This Row],[Rank]]+Table71012131415[[#This Row],[Score]])>0,1,0)","v":0},null,null,null,null,null,null,0,0]
[{"$f":"MusicalTheatre!A27","v":"E-604"},{"$f":"MusicalTheatre!U27","v":0},{"$f":"MusicalTheatre!S27","v":0},{"$f":"IF((Table71012131415[[#This Row],[Rank]]+Table71012131415[[#This Row],[Score]])>0,1,0)","v":0},null,null,null,null,null,null,0,0]
[{"$f":"MusicalTheatre!A144","v":"EE-601"},{"$f":"MusicalTheatre!U144","v":0},{"$f":"MusicalTheatre!S144","v":0},{"$f":"IF((Table71012131415[[#This Row],[Rank]]+Table71012131415[[#This Row],[Score]])>0,1,0)","v":0},null,null,null,null,null,null,0,0]
[{"$f":"MusicalTheatre!A145","v":"EE-602"},{"$f":"MusicalTheatre!U145","v":0},{"$f":"MusicalTheatre!S145","v":0},{"$f":"IF((Table71012131415[[#This Row],[Rank]]+Table71012131415[[#This Row],[Score]])>0,1,0)","v":0},null,null,null,null,null,null,0,0]
[{"$f":"MusicalTheatre!A146","v":"EE-603"},{"$f":"MusicalTheatre!U146","v":0},{"$f":"MusicalTheatre!S146","v":0},{"$f":"IF((Table71012131415[[#This Row],[Rank]]+Table71012131415[[#This Row],[Score]])>0,1,0)","v":0},null,null,null,null,null,null,0,0]
[{"$f":"MusicalTheatre!A147","v":"EE-604"},{"$f":"MusicalTheatre!U147","v":0},{"$f":"MusicalTheatre!S147","v":0},{"$f":"IF((Table71012131415[[#This Row],[Rank]]+Table71012131415[[#This Row],[Score]])>0,1,0)","v":0},null,null,null,null,null,null,0,0]
[{"$f":"MusicalTheatre!A149","v":"FF-601"},{"$f":"MusicalTheatre!U149","v":0},{"$f":"MusicalTheatre!S149","v":0},{"$f":"IF((Table71012131415[[#This Row],[Rank]]+Table71012131415[[#This Row],[Score]])>0,1,0)","v":0},null,null,null,null,null,null,0,0]
[{"$f":"MusicalTheatre!A150","v":"FF-602"},{"$f":"MusicalTheatre!U150","v":0},{"$f":"MusicalTheatre!S150","v":0},{"$f":"IF((Table71012131415[[#This Row],[Rank]]+Table71012131415[[#This Row],[Score]])>0,1,0)","v":0},null,null,null,null,null,null,0,0]
[{"$f":"MusicalTheatre!A151","v":"FF-603"},{"$f":"MusicalTheatre!U151","v":0},{"$f":"MusicalTheatre!S151","v":0},{"$f":"IF((Table71012131415[[#This Row],[Rank]]+Table71012131415[[#This Row],[Score]])>0,1,0)","v":0},null,null,null,null,null,null,0,0]
[{"$f":"MusicalTheatre!A152","v":"FF-604"},{"$f":"MusicalTheatre!U152","v":0},{"$f":"MusicalTheatre!S152","v":0},{"$f":"IF((Table71012131415[[#This Row],[Rank]]+Table71012131415[[#This Row],[Score]])>0,1,0)","v":0},null,null,null,null,null,null,0,0]
[{"$f":"MusicalTheatre!A37","v":"G-604"},{"$f":"MusicalTheatre!U37","v":0},{"$f":"MusicalTheatre!S37","v":0},{"$f":"IF((Table71012131415[[#This Row],[Rank]]+Table71012131415[[#This Row],[Score]])>0,1,0)","v":0},null,null,null,null,null,null,0,0]
[{"$f":"MusicalTheatre!A41","v":"H-603"},{"$f":"MusicalTheatre!U41","v":0},{"$f":"MusicalTheatre!S41","v":0},{"$f":"IF((Table71012131415[[#This Row],[Rank]]+Table71012131415[[#This Row],[Score]])>0,1,0)","v":0},null,null,null,null,null,null,0,0]
[{"$f":"MusicalTheatre!A42","v":"H-604"},{"$f":"MusicalTheatre!U42","v":0},{"$f":"MusicalTheatre!S42","v":0},{"$f":"IF((Table71012131415[[#This Row],[Rank]]+Table71012131415[[#This Row],[Score]])>0,1,0)","v":0},null,null,null,null,null,null,0,0]
[{"$f":"MusicalTheatre!A49","v":"K-601"},{"$f":"MusicalTheatre!U49","v":0},{"$f":"MusicalTheatre!S49","v":0},{"$f":"IF((Table71012131415[[#This Row],[Rank]]+Table71012131415[[#This Row],[Score]])>0,1,0)","v":0},null,null,null,null,null,null,0,0]
[{"$f":"MusicalTheatre!A50","v":"K-602"},{"$f":"MusicalTheatre!U50","v":0},{"$f":"MusicalTheatre!S50","v":0},{"$f":"IF((Table71012131415[[#This Row],[Rank]]+Table71012131415[[#This Row],[Score]])>0,1,0)","v":0},null,null,null,null,null,null,0,0]
[{"$f":"MusicalTheatre!A51","v":"K-603"},{"$f":"MusicalTheatre!U51","v":0},{"$f":"MusicalTheatre!S51","v":0},{"$f":"IF((Table71012131415[[#This Row],[Rank]]+Table71012131415[[#This Row],[Score]])>0,1,0)","v":0},null,null,null,null,null,null,0,0]
[{"$f":"MusicalTheatre!A52","v":"K-604"},{"$f":"MusicalTheatre!U52","v":0},{"$f":"MusicalTheatre!S52","v":0},{"$f":"IF((Table71012131415[[#This Row],[Rank]]+Table71012131415[[#This Row],[Score]])>0,1,0)","v":0},null,null,null,null,null,null,{"$f":"SUM(E67,G67,I67)","v":0},{"$f":"SUM(F67,H67,J67)","v":0}]
[{"$f":"MusicalTheatre!A55","v":"L-602"},{"$f":"MusicalTheatre!U55","v":0},{"$f":"MusicalTheatre!S55","v":0},{"$f":"IF((Table71012131415[[#This Row],[Rank]]+Table71012131415[[#This Row],[Score]])>0,1,0)","v":0},null,null,null,null,null,null,0,0]
[{"$f":"MusicalTheatre!A56","v":"L-603"},{"$f":"MusicalTheatre!U56","v":0},{"$f":"MusicalTheatre!S56","v":0},{"$f":"IF((Table71012131415[[#This Row],[Rank]]+Table71012131415[[#This Row],[Score]])>0,1,0)","v":0},null,null,null,null,null,null,0,0]
[{"$f":"MusicalTheatre!A57","v":"L-604"},{"$f":"MusicalTheatre!U57","v":0},{"$f":"MusicalTheatre!S57","v":0},{"$f":"IF((Table71012131415[[#This Row],[Rank]]+Table71012131415[[#This Row],[Score]])>0,1,0)","v":0},null,null,null,null,null,null,0,0]
[{"$f":"MusicalTheatre!A59","v":"M-601"},{"$f":"MusicalTheatre!U59","v":0},{"$f":"MusicalTheatre!S59","v":0},{"$f":"IF((Table71012131415[[#This Row],[Rank]]+Table71012131415[[#This Row],[Score]])>0,1,0)","v":0},null,null,null,null,null,null,0,0]
[{"$f":"MusicalTheatre!A60","v":"M-602"},{"$f":"MusicalTheatre!U60","v":0},{"$f":"MusicalTheatre!S60","v":0},{"$f":"IF((Table71012131415[[#This Row],[Rank]]+Table71012131415[[#This Row],[Score]])>0,1,0)","v":0},null,null,null,null,null,null,0,0]
[{"$f":"MusicalTheatre!A61","v":"M-603"},{"$f":"MusicalTheatre!U61","v":0},{"$f":"MusicalTheatre!S61","v":0},{"$f":"IF((Table71012131415[[#This Row],[Rank]]+Table71012131415[[#This Row],[Score]])>0,1,0)","v":0},null,null,null,null,null,null,0,0]
[{"$f":"MusicalTheatre!A62","v":"M-604"},{"$f":"MusicalTheatre!U62","v":0},{"$f":"MusicalTheatre!S62","v":0},{"$f":"IF((Table71012131415[[#This Row],[Rank]]+Table71012131415[[#This Row],[Score]])>0,1,0)","v":0},null,null,null,null,null,null,0,0]
[{"$f":"MusicalTheatre!A64","v":"N-601"},{"$f":"MusicalTheatre!U64","v":0},{"$f":"MusicalTheatre!S64","v":0},{"$f":"IF((Table71012131415[[#This Row],[Rank]]+Table71012131415[[#This Row],[Score]])>0,1,0)","v":0},null,null,null,null,null,null,0,0]
[{"$f":"MusicalTheatre!A65","v":"N-602"},{"$f":"MusicalTheatre!U65","v":0},{"$f":"MusicalTheatre!S65","v":0},{"$f":"IF((Table71012131415[[#This Row],[Rank]]+Table71012131415[[#This Row],[Score]])>0,1,0)","v":0},null,null,null,null,null,null,0,0]
[{"$f":"MusicalTheatre!A66","v":"N-603"},{"$f":"MusicalTheatre!U66","v":0},{"$f":"MusicalTheatre!S66","v":0},{"$f":"IF((Table71012131415[[#This Row],[Rank]]+Table71012131415[[#This Row],[Score]])>0,1,0)","v":0},null,null,null,null,null,null,0,0]
[{"$f":"MusicalTheatre!A67","v":"N-604"},{"$f":"MusicalTheatre!U67","v":0},{"$f":"MusicalTheatre!S67","v":0},{"$f":"IF((Table71012131415[[#This Row],[Rank]]+Table71012131415[[#This Row],[Score]])>0,1,0)","v":0},null,null,null,null,null,null,0,0]
[{"$f":"MusicalTheatre!A69","v":"P-601"},{"$f":"MusicalTheatre!U69","v":0},{"$f":"MusicalTheatre!S69","v":0},{"$f":"IF((Table71012131415[[#This Row],[Rank]]+Table71012131415[[#This Row],[Score]])>0,1,0)","v":0},null,null,null,null,null,null,0,0]
[{"$f":"MusicalTheatre!A70","v":"P-602"},{"$f":"MusicalTheatre!U70","v":0},{"$f":"MusicalTheatre!S70","v":0},{"$f":"IF((Table71012131415[[#This Row],[Rank]]+Table71012131415[[#This Row],[Score]])>0,1,0)","v":0},null,null,null,null,null,null,0,0]
[{"$f":"MusicalTheatre!A71","v":"P-603"},{"$f":"MusicalTheatre!U71","v":0},{"$f":"MusicalTheatre!S71","v":0},{"$f":"IF((Table71012131415[[#This Row],[Rank]]+Table71012131415[[#This Row],[Score]])>0,1,0)","v":0},null,null,null,null,null,null,0,0]
[{"$f":"MusicalTheatre!A72","v":"P-604"},{"$f":"MusicalTheatre!U72","v":0},{"$f":"MusicalTheatre!S72","v":0},{"$f":"IF((Table71012131415[[#This Row],[Rank]]+Table71012131415[[#This Row],[Score]])>0,1,0)","v":0},null,null,null,null,null,null,0,0]
[{"$f":"MusicalTheatre!A74","v":"Q-601"},{"$f":"MusicalTheatre!U74","v":0},{"$f":"MusicalTheatre!S74","v":0},{"$f":"IF((Table71012131415[[#This Row],[Rank]]+Table71012131415[[#This Row],[Score]])>0,1,0)","v":0},null,null,null,null,null,null,0,0]
[{"$f":"MusicalTheatre!A75","v":"Q-602"},{"$f":"MusicalTheatre!U75","v":0},{"$f":"MusicalTheatre!S75","v":0},{"$f":"IF((Table71012131415[[#This Row],[Rank]]+Table71012131415[[#This Row],[Score]])>0,1,0)","v":0},null,null,null,null,null,null,0,0]
[{"$f":"MusicalTheatre!A76","v":"Q-603"},{"$f":"MusicalTheatre!U76","v":0},{"$f":"MusicalTheatre!S76","v":0},{"$f":"IF((Table71012131415[[#This Row],[Rank]]+Table71012131415[[#This Row],[Score]])>0,1,0)","v":0},null,null,null,null,null,null,0,0]
[{"$f":"MusicalTheatre!A77","v":"Q-604"},{"$f":"MusicalTheatre!U77","v":0},{"$f":"MusicalTheatre!S77","v":0},{"$f":"IF((Table71012131415[[#This Row],[Rank]]+Table71012131415[[#This Row],[Score]])>0,1,0)","v":0},null,null,null,null,null,null,0,0]
[{"$f":"MusicalTheatre!A79","v":"R-601"},{"$f":"MusicalTheatre!U79","v":0},{"$f":"MusicalTheatre!S79","v":0},{"$f":"IF((Table71012131415[[#This Row],[Rank]]+Table71012131415[[#This Row],[Score]])>0,1,0)","v":0},null,null,null,null,null,null,0,0]
[{"$f":"MusicalTheatre!A80","v":"R-602"},{"$f":"MusicalTheatre!U80","v":0},{"$f":"MusicalTheatre!S80","v":0},{"$f":"IF((Table71012131415[[#This Row],[Rank]]+Table71012131415[[#This Row],[Score]])>0,1,0)","v":0},null,null,null,null,null,null,0,0]
[{"$f":"MusicalTheatre!A81","v":"R-603"},{"$f":"MusicalTheatre!U81","v":0},{"$f":"MusicalTheatre!S81","v":0},{"$f":"IF((Table71012131415[[#This Row],[Rank]]+Table71012131415[[#This Row],[Score]])>0,1,0)","v":0},null,null,null,null,null,null,0,0]
[{"$f":"MusicalTheatre!A82","v":"R-604"},{"$f":"MusicalTheatre!U82","v":0},{"$f":"MusicalTheatre!S82","v":0},{"$f":"IF((Table71012131415[[#This Row],[Rank]]+Table71012131415[[#This Row],[Score]])>0,1,0)","v":0},null,null,null,null,null,null,0,0]
[{"$f":"MusicalTheatre!A84","v":"S-601"},{"$f":"MusicalTheatre!U84","v":0},{"$f":"MusicalTheatre!S84","v":0},{"$f":"IF((Table71012131415[[#This Row],[Rank]]+Table71012131415[[#This Row],[Score]])>0,1,0)","v":0},null,null,null,null,null,null,0,0]
[{"$f":"MusicalTheatre!A85","v":"S-602"},{"$f":"MusicalTheatre!U85","v":0},{"$f":"MusicalTheatre!S85","v":0},{"$f":"IF((Table71012131415[[#This Row],[Rank]]+Table71012131415[[#This Row],[Score]])>0,1,0)","v":0},null,null,null,null,null,null,0,0]
[{"$f":"MusicalTheatre!A86","v":"S-603"},{"$f":"MusicalTheatre!U86","v":0},{"$f":"MusicalTheatre!S86","v":0},{"$f":"IF((Table71012131415[[#This Row],[Rank]]+Table71012131415[[#This Row],[Score]])>0,1,0)","v":0},null,null,null,null,null,null,0,0]
[{"$f":"MusicalTheatre!A87","v":"S-604"},{"$f":"MusicalTheatre!U87","v":0},{"$f":"MusicalTheatre!S87","v":0},{"$f":"IF((Table71012131415[[#This Row],[Rank]]+Table71012131415[[#This Row],[Score]])>0,1,0)","v":0},null,null,null,null,null,null,0,0]
[{"$f":"MusicalTheatre!A89","v":"T-601"},{"$f":"MusicalTheatre!U89","v":0},{"$f":"MusicalTheatre!S89","v":0},{"$f":"IF((Table71012131415[[#This Row],[Rank]]+Table71012131415[[#This Row],[Score]])>0,1,0)","v":0},null,null,null,null,null,null,0,0]
[{"$f":"MusicalTheatre!A90","v":"T-602"},{"$f":"MusicalTheatre!U90","v":0},{"$f":"MusicalTheatre!S90","v":0},{"$f":"IF((Table71012131415[[#This Row],[Rank]]+Table71012131415[[#This Row],[Score]])>0,1,0)","v":0},null,null,null,null,null,null,0,0]
[{"$f":"MusicalTheatre!A91","v":"T-603"},{"$f":"MusicalTheatre!U91","v":0},{"$f":"MusicalTheatre!S91","v":0},{"$f":"IF((Table71012131415[[#This Row],[Rank]]+Table71012131415[[#This Row],[Score]])>0,1,0)","v":0},null,null,null,null,null,null,0,0]
[{"$f":"MusicalTheatre!A92","v":"T-604"},{"$f":"MusicalTheatre!U92","v":0},{"$f":"MusicalTheatre!S92","v":0},{"$f":"IF((Table71012131415[[#This Row],[Rank]]+Table71012131415[[#This Row],[Score]])>0,1,0)","v":0},null,null,null,null,null,null,0,0]
[{"$f":"MusicalTheatre!A94","v":"U-601"},{"$f":"MusicalTheatre!U94","v":0},{"$f":"MusicalTheatre!S94","v":0},{"$f":"IF((Table71012131415[[#This Row],[Rank]]+Table71012131415[[#This Row],[Score]])>0,1,0)","v":0},null,null,null,null,null,null,{"$f":"SUM(E99,G99,I99)","v":0},{"$f":"SUM(F99,H99,J99)","v":0}]
[{"$f":"MusicalTheatre!A95","v":"U-602"},{"$f":"MusicalTheatre!U95","v":0},{"$f":"MusicalTheatre!S95","v":0},{"$f":"IF((Table71012131415[[#This Row],[Rank]]+Table71012131415[[#This Row],[Score]])>0,1,0)","v":0},null,null,null,null,null,null,0,0]
[{"$f":"MusicalTheatre!A96","v":"U-603"},{"$f":"MusicalTheatre!U96","v":0},{"$f":"MusicalTheatre!S96","v":0},{"$f":"IF((Table71012131415[[#This Row],[Rank]]+Table71012131415[[#This Row],[Score]])>0,1,0)","v":0},null,null,null,null,null,null,0,0]
[{"$f":"MusicalTheatre!A97","v":"U-604"},{"$f":"MusicalTheatre!U97","v":0},{"$f":"MusicalTheatre!S97","v":0},{"$f":"IF((Table71012131415[[#This Row],[Rank]]+Table71012131415[[#This Row],[Score]])>0,1,0)","v":0},null,null,null,null,null,null,0,0]
[{"$f":"MusicalTheatre!A99","v":"V-601"},{"$f":"MusicalTheatre!U99","v":0},{"$f":"MusicalTheatre!S99","v":0},{"$f":"IF((Table71012131415[[#This Row],[Rank]]+Table71012131415[[#This Row],[Score]])>0,1,0)","v":0},null,null,null,null,null,null,0,0]
[{"$f":"MusicalTheatre!A100","v":"V-602"},{"$f":"MusicalTheatre!U100","v":0},{"$f":"MusicalTheatre!S100","v":0},{"$f":"IF((Table71012131415[[#This Row],[Rank]]+Table71012131415[[#This Row],[Score]])>0,1,0)","v":0},null,null,null,null,null,null,0,0]
[{"$f":"MusicalTheatre!A101","v":"V-603"},{"$f":"MusicalTheatre!U101","v":0},{"$f":"MusicalTheatre!S101","v":0},{"$f":"IF((Table71012131415[[#This Row],[Rank]]+Table71012131415[[#This Row],[Score]])>0,1,0)","v":0},null,null,null,null,null,null,0,0]
[{"$f":"MusicalTheatre!A102","v":"V-604"},{"$f":"MusicalTheatre!U102","v":0},{"$f":"MusicalTheatre!S102","v":0},{"$f":"IF((Table71012131415[[#This Row],[Rank]]+Table71012131415[[#This Row],[Score]])>0,1,0)","v":0},null,null,null,null,null,null,0,0]
[{"$f":"MusicalTheatre!A104","v":"W-601"},{"$f":"MusicalTheatre!U104","v":0},{"$f":"MusicalTheatre!S104","v":0},{"$f":"IF((Table71012131415[[#This Row],[Rank]]+Table71012131415[[#This Row],[Score]])>0,1,0)","v":0},null,null,null,null,null,null,0,0]
[{"$f":"MusicalTheatre!A105","v":"W-602"},{"$f":"MusicalTheatre!U105","v":0},{"$f":"MusicalTheatre!S105","v":0},{"$f":"IF((Table71012131415[[#This Row],[Rank]]+Table71012131415[[#This Row],[Score]])>0,1,0)","v":0},null,null,null,null,null,null,0,0]
[{"$f":"MusicalTheatre!A106","v":"W-603"},{"$f":"MusicalTheatre!U106","v":0},{"$f":"MusicalTheatre!S106","v":0},{"$f":"IF((Table71012131415[[#This Row],[Rank]]+Table71012131415[[#This Row],[Score]])>0,1,0)","v":0},null,null,null,null,null,null,0,0]
[{"$f":"MusicalTheatre!A107","v":"W-604"},{"$f":"MusicalTheatre!U107","v":0},{"$f":"MusicalTheatre!S107","v":0},{"$f":"IF((Table71012131415[[#This Row],[Rank]]+Table71012131415[[#This Row],[Score]])>0,1,0)","v":0},null,null,null,null,null,null,0,0]
[{"$f":"MusicalTheatre!A109","v":"X-601"},{"$f":"MusicalTheatre!U109","v":0},{"$f":"MusicalTheatre!S109","v":0},{"$f":"IF((Table71012131415[[#This Row],[Rank]]+Table71012131415[[#This Row],[Score]])>0,1,0)","v":0},null,null,null,null,null,null,0,0]
[{"$f":"MusicalTheatre!A110","v":"X-602"},{"$f":"MusicalTheatre!U110","v":0},{"$f":"MusicalTheatre!S110","v":0},{"$f":"IF((Table71012131415[[#This Row],[Rank]]+Table71012131415[[#This Row],[Score]])>0,1,0)","v":0},null,null,null,null,null,null,0,0]
[{"$f":"MusicalTheatre!A111","v":"X-603"},{"$f":"MusicalTheatre!U111","v":0},{"$f":"MusicalTheatre!S111","v":0},{"$f":"IF((Table71012131415[[#This Row],[Rank]]+Table71012131415[[#This Row],[Score]])>0,1,0)","v":0},null,null,null,null,null,null,0,0]
[{"$f":"MusicalTheatre!A112","v":"X-604"},{"$f":"MusicalTheatre!U112","v":0},{"$f":"MusicalTheatre!S112","v":0},{"$f":"IF((Table71012131415[[#This Row],[Rank]]+Table71012131415[[#This Row],[Score]])>0,1,0)","v":0},null,null,null,null,null,null,0,0]
[{"$f":"MusicalTheatre!A114","v":"Y-601"},{"$f":"MusicalTheatre!U114","v":0},{"$f":"MusicalTheatre!S114","v":0},{"$f":"IF((Table71012131415[[#This Row],[Rank]]+Table71012131415[[#This Row],[Score]])>0,1,0)","v":0},null,null,null,null,null,null,0,0]
[{"$f":"MusicalTheatre!A115","v":"Y-602"},{"$f":"MusicalTheatre!U115","v":0},{"$f":"MusicalTheatre!S115","v":0},{"$f":"IF((Table71012131415[[#This Row],[Rank]]+Table71012131415[[#This Row],[Score]])>0,1,0)","v":0},null,null,null,null,null,null,0,0]
[{"$f":"MusicalTheatre!A116","v":"Y-603"},{"$f":"MusicalTheatre!U116","v":0},{"$f":"MusicalTheatre!S116","v":0},{"$f":"IF((Table71012131415[[#This Row],[Rank]]+Table71012131415[[#This Row],[Score]])>0,1,0)","v":0},null,null,null,null,null,null,0,0]
[{"$f":"MusicalTheatre!A117","v":"Y-604"},{"$f":"MusicalTheatre!U117","v":0},{"$f":"MusicalTheatre!S117","v":0},{"$f":"IF((Table71012131415[[#This Row],[Rank]]+Table71012131415[[#This Row],[Score]])>0,1,0)","v":0},null,null,null,null,null,null,0,0]
[{"$f":"MusicalTheatre!A119","v":"Z-601"},{"$f":"MusicalTheatre!U119","v":0},{"$f":"MusicalTheatre!S119","v":0},{"$f":"IF((Table71012131415[[#This Row],[Rank]]+Table71012131415[[#This Row],[Score]])>0,1,0)","v":0},null,null,null,null,null,null,0,0]
[{"$f":"MusicalTheatre!A120","v":"Z-602"},{"$f":"MusicalTheatre!U120","v":0},{"$f":"MusicalTheatre!S120","v":0},{"$f":"IF((Table71012131415[[#This Row],[Rank]]+Table71012131415[[#This Row],[Score]])>0,1,0)","v":0},null,null,null,null,null,null,0,0]
[{"$f":"MusicalTheatre!A121","v":"Z-603"},{"$f":"MusicalTheatre!U121","v":0},{"$f":"MusicalTheatre!S121","v":0},{"$f":"IF((Table71012131415[[#This Row],[Rank]]+Table71012131415[[#This Row],[Score]])>0,1,0)","v":0},null,null,null,null,null,null,0,0]
[{"$f":"MusicalTheatre!A122","v":"Z-604"},{"$f":"MusicalTheatre!U122","v":0},{"$f":"MusicalTheatre!S122","v":0},{"$f":"IF((Table71012131415[[#This Row],[Rank]]+Table71012131415[[#This Row],[Score]])>0,1,0)","v":0},null,null,null,null,null,null,0,0]

{"sheet":"One-Acts","index":13,"n_rows":33,"n_cols":35,"rows_kept":33,"cut":false,"hidden":false,"merged":[[0,0,0,8]]}
["ONE-ACTS",null,null,null,null,null,null,null,null,null,"Rank 1-6",null,null,null,null,null,null,null,null,null,null,null,null,null,null,null,null,null,null,"S","E","G","F",null,"1violation"]
[null,null,null,null,null,null,null,null,null,null,"Judge 1",null,"Judge 2",null,"Judge 3"]
[null,"Title of Piece",null,null,null,null,null,null,null,"Title of Play","J1 rank","J1 score","J2 rank","J2 score","J3 rank","J3 score",null,null,"TOTAL RANK",null,"TOTAL SCORE",null,"TOTAL SCHOOL SWEEPS POINTS",null,null,"Time Violations"]
["A-701",null,null,null,null,null,null,null,null,"The HELP Desk!",3,43,5,41,6,36,null,null,{"$f":"SUM(K4,M4,O4)","v":14},null,{"$f":"SUM(L4,N4,P4)","v":120},null,{"$f":"SUM(U4,AA4)","v":120},null,null,null,{"$f":"IF(Z4=\"1violation\",-35*1,IF(Z4=\"2violations\",-35*2,IF(Z4=\"3violations\",-35*3,IF(Z4=\"\",\"\"))))","v":""}]
["B-701",null,null,null,null,null,null,null,null,"The Brother's Grimm Spectaculathon",6,40,4,44,5,38,null,null,15,null,122,null,122,null,null,null,{"$f":"IF(Z5=\"1violation\",-10*1,IF(Z5=\"2violations\",-10*2,IF(Z5=\"3violations\",-10*3,IF(Z5=\"\",\"\"))))","v":""}]
["C-701",null,null,null,null,null,null,null,null,"Game of Tiaras",6,37,6,34,4,38,null,null,16,null,109,null,109,null,null,null,""]
["D-701",null,null,null,null,null,null,null,null,"Power Lines: Me, Your Mom, & Mario",6,38,3,45,6,37,null,null,15,null,120,null,120,null,null,null,""]
["E-701",null,null,null,null,null,null,null,null,"Murder at the Art Gallery",6,35,6,38,6,35,null,null,18,null,108,null,108,null,null,null,""]
["F-701",null,null,null,null,null,null,null,null,null,null,null,null,null,null,null,null,null,0,null,0,null,0,null,null,null,""]
["G-701",null,null,null,null,null,null,null,null,"Dinner at 8 - Dead by 9",4,43,6,38,6,35,null,null,16,null,116,null,116,null,null,null,""]
["H-701",null,null,null,null,null,null,null,null,"MayFair Lady",2,50,2,47,1,49,null,null,5,null,146,null,146,null,null,null,""]
["J-701",null,null,null,null,null,null,null,null,"What Happens in Neverland Stays in Neverland",5,43,6,34,3,38,null,null,14,null,115,null,115,null,null,null,""]
["K-701",null,null,null,null,null,null,null,null,null,null,null,null,null,null,null,null,null,0,null,0,null,0,null,null,null,""]
["L-701",null,null,null,null,null,null,null,null,null,null,null,null,null,null,null,null,null,0,null,0,null,0,null,null,null,""]
["M-701",null,null,null,null,null,null,null,null,"Attack of the Pom-Pom Zombies",1,50,1,47,2,48,null,null,4,null,145,null,145,null,null,null,""]
["N-701",null,null,null,null,null,null,null,null,null,null,null,null,null,null,null,null,null,0,null,0,null,0,null,null,null,""]
["P-701",null,null,null,null,null,null,null,null,null,null,null,null,null,null,null,null,null,0,null,0,null,0,null,null,null,""]
["Q-701",null,null,null,null,null,null,null,null,null,null,null,null,null,null,null,null,null,0,null,0,null,0,null,null,null,""]
["R-701",null,null,null,null,null,null,null,null,null,null,null,null,null,null,null,null,null,0,null,0,null,0,null,null,null,""]
["S-701",null,null,null,null,null,null,null,null,null,null,null,null,null,null,null,null,null,0,null,0,null,0,null,null,null,""]
["T-701",null,null,null,null,null,null,null,null,null,null,null,null,null,null,null,null,null,0,null,0,null,0,null,null,null,""]
["U-701",null,null,null,null,null,null,null,null,null,null,null,null,null,null,null,null,null,0,null,0,null,0,null,null,null,""]
["V-701",null,null,null,null,null,null,null,null,null,null,null,null,null,null,null,null,null,0,null,0,null,0,null,null,null,""]
["W-701",null,null,null,null,null,null,null,null,null,null,null,null,null,null,null,null,null,0,null,0,null,0,null,null,null,""]
["X-701",null,null,null,null,null,null,null,null,null,null,null,null,null,null,null,null,null,0,null,0,null,0,null,null,null,""]
["Y-701",null,null,null,null,null,null,null,null,null,null,null,null,null,null,null,null,null,0,null,0,null,0,null,null,null,""]
["Z-701",null,null,null,null,null,null,null,null,null,null,null,null,null,null,null,null,null,0,null,0,null,0,null,null,null,""]
["AA-701",null,null,null,null,null,null,null,null,null,null,null,null,null,null,null,null,null,0,null,0,null,0,null,null,null,""]
["BB-701",null,null,null,null,null,null,null,null,null,null,null,null,null,null,null,null,null,0,null,0,null,0,null,null,null,""]
["CC-701",null,null,null,null,null,null,null,null,null,null,null,null,null,null,null,null,null,0,null,0,null,0,null,null,null,""]
["DD-701",null,null,null,null,null,null,null,null,null,null,null,null,null,null,null,null,null,0,null,0,null,0,null,null,null,""]
["EE-701",null,null,null,null,null,null,null,null,null,null,null,null,null,null,null,null,null,0,null,0,null,0,null,null,null,""]
["FF-701",null,null,null,null,null,null,null,null,null,null,null,null,null,null,null,null,null,0,null,0,null,0,null,null,null,""]

{"sheet":"CostumeDesign","index":14,"n_rows":152,"n_cols":31,"rows_kept":152,"cut":false,"hidden":false,"merged":[[0,0,0,8]]}
["Costume Design",null,null,null,null,null,null,null,null,null,"Rank 1-6",null,null,null,null,null,null,null,null,null,null,null,null,null,null,null,null,null,"1violation","2violations","3violations"]
[null,null,null,null,null,null,null,null,null,null,"Round 1:",null,"Round 2:",null,"Round 3:"]
[null,null,null,null,null,null,null,"Student Name",null,"Title of Play","R1 rank","R1 score","R2 rank","R2 score","R3 rank","R3 score",null,null,"TOTAL SCORE",null,"TOTAL RANK"]
["A-801",null,null,null,null,null,null,null,null,null,null,null,null,null,null,null,null,null,{"$f":"SUM(L4,N4,P4)","v":0},null,{"$f":"SUM(K4,M4,O4)","v":0}]
["A-802",null,null,null,null,null,null,null,null,null,null,null,null,null,null,null,null,null,0,null,0]
["A-803",null,null,null,null,null,null,null,null,null,null,null,null,null,null,null,null,null,0,null,0]
["A-804",null,null,null,null,null,null,null,null,null,null,null,null,null,null,null,null,null,0,null,0]
[]
["B-801",null,null,null,null,null,null,null,null,null,null,null,null,null,null,null,null,null,0,null,0]
["B-802",null,null,null,null,null,null,null,null,null,null,null,null,null,null,null,null,null,0,null,0]
["B-803",null,null,null,null,null,null,null,null,null,null,null,null,null,null,null,null,null,0,null,0]
["B-804",null,null,null,null,null,null,null,null,null,null,null,null,null,null,null,null,null,0,null,0]
[]
["C-801",null,null,null,null,null,null,null,null,null,null,null,null,null,null,null,null,null,0,null,0]
["C-802",null,null,null,null,null,null,null,null,null,null,null,null,null,null,null,null,null,0,null,0]
["C-803",null,null,null,null,null,null,null,null,null,null,null,null,null,null,null,null,null,0,null,0]
["C-804",null,null,null,null,null,null,null,null,null,null,null,null,null,null,null,null,null,0,null,0]
[]
["D-801",null,null,null,null,null,null,null,null,null,null,null,null,null,null,null,null,null,0,null,0]
["D-802",null,null,null,null,null,null,null,null,null,null,null,null,null,null,null,null,null,0,null,0]
["D-803",null,null,null,null,null,null,null,null,null,null,null,null,null,null,null,null,null,0,null,0]
["D-804",null,null,null,null,null,null,null,null,null,null,null,null,null,null,null,null,null,0,null,0]
[]
["E-801",null,null,null,null,null,null,null,null,null,null,null,null,null,null,null,null,null,0,null,0]
["E-802",null,null,null,null,null,null,null,null,null,null,null,null,null,null,null,null,null,0,null,0]
["E-803",null,null,null,null,null,null,null,null,null,null,null,null,null,null,null,null,null,0,null,0]
["E-804",null,null,null,null,null,null,null,null,null,null,null,null,null,null,null,null,null,0,null,0]
[]
["F-801",null,null,null,null,null,null,null,null,null,null,null,null,null,null,null,null,null,0,null,0]
["F-802",null,null,null,null,null,null,null,null,null,null,null,null,null,null,null,null,null,0,null,0]
["F-803",null,null,null,null,null,null,null,null,null,null,null,null,null,null,null,null,null,0,null,0]
["F-804",null,null,null,null,null,null,null,null,null,null,null,null,null,null,null,null,null,0,null,0]
[]
["G-801",null,null,null,null,null,null,null,null,null,null,null,null,null,null,null,null,null,0,null,0]
["G-802",null,null,null,null,null,null,null,null,null,null,null,null,null,null,null,null,null,0,null,0]
["G-803",null,null,null,null,null,null,null,null,null,null,null,null,null,null,null,null,null,0,null,0]
["G-804",null,null,null,null,null,null,null,null,null,null,null,null,null,null,null,null,null,0,null,0]
[]
["H-801",null,null,null,null,null,null,null,null,null,null,null,null,null,null,null,null,null,0,null,0]
["H-802",null,null,null,null,null,null,null,null,null,null,null,null,null,null,null,null,null,0,null,0]
["H-803",null,null,null,null,null,null,null,null,null,null,null,null,null,null,null,null,null,0,null,0]
["H-804",null,null,null,null,null,null,null,null,null,null,null,null,null,null,null,null,null,0,null,0]
[]
["J-801",null,null,null,null,null,null,null,null,null,null,null,null,null,null,null,null,null,{"$f":"SUM(L44,N44,P44)","v":0},null,{"$f":"SUM(K44,M44,O44)","v":0}]
["J-802",null,null,null,null,null,null,null,null,null,null,null,null,null,null,null,null,null,0,null,0]
["J-803",null,null,null,null,null,null,null,null,null,null,null,null,null,null,null,null,null,0,null,0]
["J-804",null,null,null,null,null,null,null,null,null,null,null,null,null,null,null,null,null,0,null,0]
[]
["K-801",null,null,null,null,null,null,null,null,null,null,null,null,null,null,null,null,null,0,null,0]
["K-802",null,null,null,null,null,null,null,null,null,null,null,null,null,null,null,null,null,0,null,0]
["K-803",null,null,null,null,null,null,null,null,null,null,null,null,null,null,null,null,null,0,null,0]
["K-804",null,null,null,null,null,null,null,null,null,null,null,null,null,null,null,null,null,0,null,0]
[]
["L-801",null,null,null,null,null,null,null,null,null,null,null,null,null,null,null,null,null,0,null,0]
["L-802",null,null,null,null,null,null,null,null,null,null,null,null,null,null,null,null,null,0,null,0]
["L-803",null,null,null,null,null,null,null,null,null,null,null,null,null,null,null,null,null,0,null,0]
["L-804",null,null,null,null,null,null,null,null,null,null,null,null,null,null,null,null,null,0,null,0]
[]
["M-801",null,null,null,null,null,null,null,null,null,null,null,null,null,null,null,null,null,0,null,0]
["M-802",null,null,null,null,null,null,null,null,null,null,null,null,null,null,null,null,null,0,null,0]
["M-803",null,null,null,null,null,null,null,null,null,null,null,null,null,null,null,null,null,0,null,0]
["M-804",null,null,null,null,null,null,null,null,null,null,null,null,null,null,null,null,null,0,null,0]
[]
["N-801",null,null,null,null,null,null,null,null,null,null,null,null,null,null,null,null,null,0,null,0]
["N-802",null,null,null,null,null,null,null,null,null,null,null,null,null,null,null,null,null,0,null,0]
["N-803",null,null,null,null,null,null,null,null,null,null,null,null,null,null,null,null,null,0,null,0]
["N-804",null,null,null,null,null,null,null,null,null,null,null,null,null,null,null,null,null,0,null,0]
[]
["P-801",null,null,null,null,null,null,null,null,null,null,null,null,null,null,null,null,null,0,null,0]
["P-802",null,null,null,null,null,null,null,null,null,null,null,null,null,null,null,null,null,0,null,0]
["P-803",null,null,null,null,null,null,null,null,null,null,null,null,null,null,null,null,null,0,null,0]
["P-804",null,null,null,null,null,null,null,null,null,null,null,null,null,null,null,null,null,0,null,0]
[]
["Q-801",null,null,null,null,null,null,null,null,null,null,null,null,null,null,null,null,null,0,null,0]
["Q-802",null,null,null,null,null,null,null,null,null,null,null,null,null,null,null,null,null,0,null,0]
["Q-803",null,null,null,null,null,null,null,null,null,null,null,null,null,null,null,null,null,0,null,0]
["Q-804",null,null,null,null,null,null,null,null,null,null,null,null,null,null,null,null,null,0,null,0]
[]
["R-801",null,null,null,null,null,null,null,null,null,null,null,null,null,null,null,null,null,0,null,0]
["R-802",null,null,null,null,null,null,null,null,null,null,null,null,null,null,null,null,null,0,null,0]
["R-803",null,null,null,null,null,null,null,null,null,null,null,null,null,null,null,null,null,0,null,0]
["R-804",null,null,null,null,null,null,null,null,null,null,null,null,null,null,null,null,null,0,null,0]
[]
["S-801",null,null,null,null,null,null,null,null,null,null,null,null,null,null,null,null,null,{"$f":"SUM(L84,N84,P84)","v":0},null,{"$f":"SUM(K84,M84,O84)","v":0}]
["S-802",null,null,null,null,null,null,null,null,null,null,null,null,null,null,null,null,null,0,null,0]
["S-803",null,null,null,null,null,null,null,null,null,null,null,null,null,null,null,null,null,0,null,0]
["S-804",null,null,null,null,null,null,null,null,null,null,null,null,null,null,null,null,null,0,null,0]
[]
["T-801",null,null,null,null,null,null,null,null,null,null,null,null,null,null,null,null,null,0,null,0]
["T-802",null,null,null,null,null,null,null,null,null,null,null,null,null,null,null,null,null,0,null,0]
["T-803",null,null,null,null,null,null,null,null,null,null,null,null,null,null,null,null,null,0,null,0]
["T-804",null,null,null,null,null,null,null,null,null,null,null,null,null,null,null,null,null,0,null,0]
[]
["U-801",null,null,null,null,null,null,null,null,null,null,null,null,null,null,null,null,null,0,null,0]
["U-802",null,null,null,null,null,null,null,null,null,null,null,null,null,null,null,null,null,0,null,0]
["U-803",null,null,null,null,null,null,null,null,null,null,null,null,null,null,null,null,null,0,null,0]
["U-804",null,null,null,null,null,null,null,null,null,null,null,null,null,null,null,null,null,0,null,0]
[]
["V-801",null,null,null,null,null,null,null,null,null,null,null,null,null,null,null,null,null,0,null,0]
["V-802",null,null,null,null,null,null,null,null,null,null,null,null,null,null,null,null,null,0,null,0]
["V-803",null,null,null,null,null,null,null,null,null,null,null,null,null,null,null,null,null,0,null,0]
["V-804",null,null,null,null,null,null,null,null,null,null,null,null,null,null,null,null,null,0,null,0]
[]
["W-801",null,null,null,null,null,null,null,null,null,null,null,null,null,null,null,null,null,0,null,0]
["W-802",null,null,null,null,null,null,null,null,null,null,null,null,null,null,null,null,null,0,null,0]
["W-803",null,null,null,null,null,null,null,null,null,null,null,null,null,null,null,null,null,0,null,0]
["W-804",null,null,null,null,null,null,null,null,null,null,null,null,null,null,null,null,null,0,null,0]
[]
["X-801",null,null,null,null,null,null,null,null,null,null,null,null,null,null,null,null,null,0,null,0]
["X-802",null,null,null,null,null,null,null,null,null,null,null,null,null,null,null,null,null,0,null,0]
["X-803",null,null,null,null,null,null,null,null,null,null,null,null,null,null,null,null,null,0,null,0]
["X-804",null,null,null,null,null,null,null,null,null,null,null,null,null,null,null,null,null,0,null,0]
[]
["Y-801",null,null,null,null,null,null,null,null,null,null,null,null,null,null,null,null,null,0,null,0]
["Y-802",null,null,null,null,null,null,null,null,null,null,null,null,null,null,null,null,null,0,null,0]
["Y-803",null,null,null,null,null,null,null,null,null,null,null,null,null,null,null,null,null,0,null,0]
["Y-804",null,null,null,null,null,null,null,null,null,null,null,null,null,null,null,null,null,0,null,0]
[]
["Z-801",null,null,null,null,null,null,null,null,null,null,null,null,null,null,null,null,null,0,null,0]
["Z-802",null,null,null,null,null,null,null,null,null,null,null,null,null,null,null,null,null,0,null,0]
["Z-803",null,null,null,null,null,null,null,null,null,null,null,null,null,null,null,null,null,0,null,0]
["Z-804",null,null,null,null,null,null,null,null,null,null,null,null,null,null,null,null,null,0,null,0]
[]
["AA-801",null,null,null,null,null,null,null,null,null,null,null,null,null,null,null,null,null,{"$f":"SUM(L124,N124,P124)","v":0},null,{"$f":"SUM(K124,M124,O124)","v":0}]
["AA-802",null,null,null,null,null,null,null,null,null,null,null,null,null,null,null,null,null,0,null,0]
["AA-803",null,null,null,null,null,null,null,null,null,null,null,null,null,null,null,null,null,0,null,0]
["AA-804",null,null,null,null,null,null,null,null,null,null,null,null,null,null,null,null,null,0,null,0]
[]
["BB-801",null,null,null,null,null,null,null,null,null,null,null,null,null,null,null,null,null,0,null,0]
["BB-802",null,null,null,null,null,null,null,null,null,null,null,null,null,null,null,null,null,0,null,0]
["BB-803",null,null,null,null,null,null,null,null,null,null,null,null,null,null,null,null,null,0,null,0]
["BB-804",null,null,null,null,null,null,null,null,null,null,null,null,null,null,null,null,null,0,null,0]
[]
["CC-801",null,null,null,null,null,null,null,null,null,null,null,null,null,null,null,null,null,0,null,0]
["CC-802",null,null,null,null,null,null,null,null,null,null,null,null,null,null,null,null,null,0,null,0]
["CC-803",null,null,null,null,null,null,null,null,null,null,null,null,null,null,null,null,null,0,null,0]
["CC-804",null,null,null,null,null,null,null,null,null,null,null,null,null,null,null,null,null,0,null,0]
[]
["DD-801",null,null,null,null,null,null,null,null,null,null,null,null,null,null,null,null,null,0,null,0]
["DD-802",null,null,null,null,null,null,null,null,null,null,null,null,null,null,null,null,null,0,null,0]
["DD-803",null,null,null,null,null,null,null,null,null,null,null,null,null,null,null,null,null,0,null,0]
["DD-804",null,null,null,null,null,null,null,null,null,null,null,null,null,null,null,null,null,0,null,0]
[]
["EE-801",null,null,null,null,null,null,null,null,null,null,null,null,null,null,null,null,null,0,null,0]
["EE-802",null,null,null,null,null,null,null,null,null,null,null,null,null,null,null,null,null,0,null,0]
["EE-803",null,null,null,null,null,null,null,null,null,null,null,null,null,null,null,null,null,0,null,0]
["EE-804",null,null,null,null,null,null,null,null,null,null,null,null,null,null,null,null,null,0,null,0]
[]
["FF-801",null,null,null,null,null,null,null,null,null,null,null,null,null,null,null,null,null,0,null,0]
["FF-802",null,null,null,null,null,null,null,null,null,null,null,null,null,null,null,null,null,0,null,0]
["FF-803",null,null,null,null,null,null,null,null,null,null,null,null,null,null,null,null,null,0,null,0]
["FF-804",null,null,null,null,null,null,null,null,null,null,null,null,null,null,null,null,null,0,null,0]

{"sheet":"ScenicDesign","index":15,"n_rows":152,"n_cols":31,"rows_kept":152,"cut":false,"hidden":false,"merged":[[0,0,0,8]]}
["Scenic Design",null,null,null,null,null,null,null,null,null,"Rank 1-6",null,null,null,null,null,null,null,null,null,null,null,null,null,null,null,null,null,"1violation","2violations","3violations"]
[null,null,null,null,null,null,null,null,null,null,"Round 1:",null,"Round 2:",null,"Round 3:"]
[null,null,null,null,null,null,null,"Student Name",null,null,"R1 rank","R1 score","R2 rank","R2 score","R3 rank","R3 score",null,null,"TOTAL SCORE",null,"TOTAL RANK"]
["A-901",null,null,null,null,null,null,null,null,null,null,null,null,null,null,null,null,null,{"$f":"SUM(L4,N4,P4)","v":0},null,{"$f":"SUM(K4,M4,O4)","v":0}]
["A-902",null,null,null,null,null,null,null,null,null,null,null,null,null,null,null,null,null,{"$f":"SUM(L5,N5,P5)","v":0},null,{"$f":"SUM(K5,M5,O5)","v":0}]
["A-903",null,null,null,null,null,null,null,null,null,null,null,null,null,null,null,null,null,{"$f":"SUM(L6,N6,P6)","v":0},null,{"$f":"SUM(K6,M6,O6)","v":0}]
["A-904",null,null,null,null,null,null,null,null,null,null,null,null,null,null,null,null,null,{"$f":"SUM(L7,N7,P7)","v":0},null,{"$f":"SUM(K7,M7,O7)","v":0}]
[]
["B-901",null,null,null,null,null,null,null,null,null,null,null,null,null,null,null,null,null,{"$f":"SUM(L9,N9,P9)","v":0},null,{"$f":"SUM(K9,M9,O9)","v":0}]
["B-902",null,null,null,null,null,null,null,null,null,null,null,null,null,null,null,null,null,{"$f":"SUM(L10,N10,P10)","v":0},null,{"$f":"SUM(K10,M10,O10)","v":0}]
["B-903",null,null,null,null,null,null,null,null,null,null,null,null,null,null,null,null,null,{"$f":"SUM(L11,N11,P11)","v":0},null,{"$f":"SUM(K11,M11,O11)","v":0}]
["B-904",null,null,null,null,null,null,null,null,null,null,null,null,null,null,null,null,null,{"$f":"SUM(L12,N12,P12)","v":0},null,{"$f":"SUM(K12,M12,O12)","v":0}]
[]
["C-901",null,null,null,null,null,null,null,null,null,null,null,null,null,null,null,null,null,{"$f":"SUM(L14,N14,P14)","v":0},null,{"$f":"SUM(K14,M14,O14)","v":0}]
["C-902",null,null,null,null,null,null,null,null,null,null,null,null,null,null,null,null,null,{"$f":"SUM(L15,N15,P15)","v":0},null,{"$f":"SUM(K15,M15,O15)","v":0}]
["C-903",null,null,null,null,null,null,null,null,null,null,null,null,null,null,null,null,null,{"$f":"SUM(L16,N16,P16)","v":0},null,{"$f":"SUM(K16,M16,O16)","v":0}]
["C-904",null,null,null,null,null,null,null,null,null,null,null,null,null,null,null,null,null,{"$f":"SUM(L17,N17,P17)","v":0},null,{"$f":"SUM(K17,M17,O17)","v":0}]
[]
["D-901",null,null,null,null,null,null,null,null,null,null,null,null,null,null,null,null,null,{"$f":"SUM(L19,N19,P19)","v":0},null,{"$f":"SUM(K19,M19,O19)","v":0}]
["D-902",null,null,null,null,null,null,null,null,null,null,null,null,null,null,null,null,null,{"$f":"SUM(L20,N20,P20)","v":0},null,{"$f":"SUM(K20,M20,O20)","v":0}]
["D-903",null,null,null,null,null,null,null,null,null,null,null,null,null,null,null,null,null,{"$f":"SUM(L21,N21,P21)","v":0},null,{"$f":"SUM(K21,M21,O21)","v":0}]
["D-904",null,null,null,null,null,null,null,null,null,null,null,null,null,null,null,null,null,{"$f":"SUM(L22,N22,P22)","v":0},null,{"$f":"SUM(K22,M22,O22)","v":0}]
[]
["E-901",null,null,null,null,null,null,null,null,null,null,null,null,null,null,null,null,null,{"$f":"SUM(L24,N24,P24)","v":0},null,{"$f":"SUM(K24,M24,O24)","v":0}]
["E-902",null,null,null,null,null,null,null,null,null,null,null,null,null,null,null,null,null,{"$f":"SUM(L25,N25,P25)","v":0},null,{"$f":"SUM(K25,M25,O25)","v":0}]
["E-903",null,null,null,null,null,null,null,null,null,null,null,null,null,null,null,null,null,{"$f":"SUM(L26,N26,P26)","v":0},null,{"$f":"SUM(K26,M26,O26)","v":0}]
["E-904",null,null,null,null,null,null,null,null,null,null,null,null,null,null,null,null,null,{"$f":"SUM(L27,N27,P27)","v":0},null,{"$f":"SUM(K27,M27,O27)","v":0}]
[]
["F-901",null,null,null,null,null,null,null,null,null,null,null,null,null,null,null,null,null,{"$f":"SUM(L29,N29,P29)","v":0},null,{"$f":"SUM(K29,M29,O29)","v":0}]
["F-902",null,null,null,null,null,null,null,null,null,null,null,null,null,null,null,null,null,{"$f":"SUM(L30,N30,P30)","v":0},null,{"$f":"SUM(K30,M30,O30)","v":0}]
["F-903",null,null,null,null,null,null,null,null,null,null,null,null,null,null,null,null,null,{"$f":"SUM(L31,N31,P31)","v":0},null,{"$f":"SUM(K31,M31,O31)","v":0}]
["F-904",null,null,null,null,null,null,null,null,null,null,null,null,null,null,null,null,null,{"$f":"SUM(L32,N32,P32)","v":0},null,{"$f":"SUM(K32,M32,O32)","v":0}]
[]
["G-901",null,null,null,null,null,null,null,null,null,null,null,null,null,null,null,null,null,{"$f":"SUM(L34,N34,P34)","v":0},null,{"$f":"SUM(K34,M34,O34)","v":0}]
["G-902",null,null,null,null,null,null,null,null,null,null,null,null,null,null,null,null,null,{"$f":"SUM(L35,N35,P35)","v":0},null,{"$f":"SUM(K35,M35,O35)","v":0}]
["G-903",null,null,null,null,null,null,null,null,null,null,null,null,null,null,null,null,null,{"$f":"SUM(L36,N36,P36)","v":0},null,{"$f":"SUM(K36,M36,O36)","v":0}]
["G-904",null,null,null,null,null,null,null,null,null,null,null,null,null,null,null,null,null,{"$f":"SUM(L37,N37,P37)","v":0},null,{"$f":"SUM(K37,M37,O37)","v":0}]
[]
["H-901",null,null,null,null,null,null,null,null,null,null,null,null,null,null,null,null,null,{"$f":"SUM(L39,N39,P39)","v":0},null,{"$f":"SUM(K39,M39,O39)","v":0}]
["H-902",null,null,null,null,null,null,null,null,null,null,null,null,null,null,null,null,null,{"$f":"SUM(L40,N40,P40)","v":0},null,{"$f":"SUM(K40,M40,O40)","v":0}]
["H-903",null,null,null,null,null,null,null,null,null,null,null,null,null,null,null,null,null,{"$f":"SUM(L41,N41,P41)","v":0},null,{"$f":"SUM(K41,M41,O41)","v":0}]
["H-904",null,null,null,null,null,null,null,null,null,null,null,null,null,null,null,null,null,{"$f":"SUM(L42,N42,P42)","v":0},null,{"$f":"SUM(K42,M42,O42)","v":0}]
[]
["J-901",null,null,null,null,null,null,null,null,null,null,null,null,null,null,null,null,null,{"$f":"SUM(L44,N44,P44)","v":0},null,{"$f":"SUM(K44,M44,O44)","v":0}]
["J-902",null,null,null,null,null,null,null,null,null,null,null,null,null,null,null,null,null,{"$f":"SUM(L45,N45,P45)","v":0},null,{"$f":"SUM(K45,M45,O45)","v":0}]
["J-903",null,null,null,null,null,null,null,null,null,null,null,null,null,null,null,null,null,{"$f":"SUM(L46,N46,P46)","v":0},null,{"$f":"SUM(K46,M46,O46)","v":0}]
["J-904",null,null,null,null,null,null,null,null,null,null,null,null,null,null,null,null,null,{"$f":"SUM(L47,N47,P47)","v":0},null,{"$f":"SUM(K47,M47,O47)","v":0}]
[]
["K-901",null,null,null,null,null,null,null,null,null,null,null,null,null,null,null,null,null,{"$f":"SUM(L49,N49,P49)","v":0},null,{"$f":"SUM(K49,M49,O49)","v":0}]
["K-902",null,null,null,null,null,null,null,null,null,null,null,null,null,null,null,null,null,{"$f":"SUM(L50,N50,P50)","v":0},null,{"$f":"SUM(K50,M50,O50)","v":0}]
["K-903",null,null,null,null,null,null,null,null,null,null,null,null,null,null,null,null,null,{"$f":"SUM(L51,N51,P51)","v":0},null,{"$f":"SUM(K51,M51,O51)","v":0}]
["K-904",null,null,null,null,null,null,null,null,null,null,null,null,null,null,null,null,null,{"$f":"SUM(L52,N52,P52)","v":0},null,{"$f":"SUM(K52,M52,O52)","v":0}]
[]
["L-901",null,null,null,null,null,null,null,null,null,null,null,null,null,null,null,null,null,{"$f":"SUM(L54,N54,P54)","v":0},null,{"$f":"SUM(K54,M54,O54)","v":0}]
["L-902",null,null,null,null,null,null,null,null,null,null,null,null,null,null,null,null,null,{"$f":"SUM(L55,N55,P55)","v":0},null,{"$f":"SUM(K55,M55,O55)","v":0}]
["L-903",null,null,null,null,null,null,null,null,null,null,null,null,null,null,null,null,null,{"$f":"SUM(L56,N56,P56)","v":0},null,{"$f":"SUM(K56,M56,O56)","v":0}]
["L-904",null,null,null,null,null,null,null,null,null,null,null,null,null,null,null,null,null,{"$f":"SUM(L57,N57,P57)","v":0},null,{"$f":"SUM(K57,M57,O57)","v":0}]
[]
["M-901",null,null,null,null,null,null,null,null,null,null,null,null,null,null,null,null,null,{"$f":"SUM(L59,N59,P59)","v":0},null,{"$f":"SUM(K59,M59,O59)","v":0}]
["M-902",null,null,null,null,null,null,null,null,null,null,null,null,null,null,null,null,null,{"$f":"SUM(L60,N60,P60)","v":0},null,{"$f":"SUM(K60,M60,O60)","v":0}]
["M-903",null,null,null,null,null,null,null,null,null,null,null,null,null,null,null,null,null,{"$f":"SUM(L61,N61,P61)","v":0},null,{"$f":"SUM(K61,M61,O61)","v":0}]
["M-904",null,null,null,null,null,null,null,null,null,null,null,null,null,null,null,null,null,{"$f":"SUM(L62,N62,P62)","v":0},null,{"$f":"SUM(K62,M62,O62)","v":0}]
[]
["N-901",null,null,null,null,null,null,null,null,null,null,null,null,null,null,null,null,null,{"$f":"SUM(L64,N64,P64)","v":0},null,{"$f":"SUM(K64,M64,O64)","v":0}]
["N-902",null,null,null,null,null,null,null,null,null,null,null,null,null,null,null,null,null,{"$f":"SUM(L65,N65,P65)","v":0},null,{"$f":"SUM(K65,M65,O65)","v":0}]
["N-903",null,null,null,null,null,null,null,null,null,null,null,null,null,null,null,null,null,{"$f":"SUM(L66,N66,P66)","v":0},null,{"$f":"SUM(K66,M66,O66)","v":0}]
["N-904",null,null,null,null,null,null,null,null,null,null,null,null,null,null,null,null,null,{"$f":"SUM(L67,N67,P67)","v":0},null,{"$f":"SUM(K67,M67,O67)","v":0}]
[]
["P-901",null,null,null,null,null,null,null,null,null,null,null,null,null,null,null,null,null,{"$f":"SUM(L69,N69,P69)","v":0},null,{"$f":"SUM(K69,M69,O69)","v":0}]
["P-902",null,null,null,null,null,null,null,null,null,null,null,null,null,null,null,null,null,{"$f":"SUM(L70,N70,P70)","v":0},null,{"$f":"SUM(K70,M70,O70)","v":0}]
["P-903",null,null,null,null,null,null,null,null,null,null,null,null,null,null,null,null,null,{"$f":"SUM(L71,N71,P71)","v":0},null,{"$f":"SUM(K71,M71,O71)","v":0}]
["P-904",null,null,null,null,null,null,null,null,null,null,null,null,null,null,null,null,null,{"$f":"SUM(L72,N72,P72)","v":0},null,{"$f":"SUM(K72,M72,O72)","v":0}]
[]
["Q-901",null,null,null,null,null,null,null,null,null,null,null,null,null,null,null,null,null,{"$f":"SUM(L74,N74,P74)","v":0},null,{"$f":"SUM(K74,M74,O74)","v":0}]
["Q-902",null,null,null,null,null,null,null,null,null,null,null,null,null,null,null,null,null,{"$f":"SUM(L75,N75,P75)","v":0},null,{"$f":"SUM(K75,M75,O75)","v":0}]
["Q-903",null,null,null,null,null,null,null,null,null,null,null,null,null,null,null,null,null,{"$f":"SUM(L76,N76,P76)","v":0},null,{"$f":"SUM(K76,M76,O76)","v":0}]
["Q-904",null,null,null,null,null,null,null,null,null,null,null,null,null,null,null,null,null,{"$f":"SUM(L77,N77,P77)","v":0},null,{"$f":"SUM(K77,M77,O77)","v":0}]
[]
["R-901",null,null,null,null,null,null,null,null,null,null,null,null,null,null,null,null,null,{"$f":"SUM(L79,N79,P79)","v":0},null,{"$f":"SUM(K79,M79,O79)","v":0}]
["R-902",null,null,null,null,null,null,null,null,null,null,null,null,null,null,null,null,null,{"$f":"SUM(L80,N80,P80)","v":0},null,{"$f":"SUM(K80,M80,O80)","v":0}]
["R-903",null,null,null,null,null,null,null,null,null,null,null,null,null,null,null,null,null,{"$f":"SUM(L81,N81,P81)","v":0},null,{"$f":"SUM(K81,M81,O81)","v":0}]
["R-904",null,null,null,null,null,null,null,null,null,null,null,null,null,null,null,null,null,{"$f":"SUM(L82,N82,P82)","v":0},null,{"$f":"SUM(K82,M82,O82)","v":0}]
[]
["S-901",null,null,null,null,null,null,null,null,null,null,null,null,null,null,null,null,null,{"$f":"SUM(L84,N84,P84)","v":0},null,{"$f":"SUM(K84,M84,O84)","v":0}]
["S-902",null,null,null,null,null,null,null,null,null,null,null,null,null,null,null,null,null,{"$f":"SUM(L85,N85,P85)","v":0},null,{"$f":"SUM(K85,M85,O85)","v":0}]
["S-903",null,null,null,null,null,null,null,null,null,null,null,null,null,null,null,null,null,{"$f":"SUM(L86,N86,P86)","v":0},null,{"$f":"SUM(K86,M86,O86)","v":0}]
["S-904",null,null,null,null,null,null,null,null,null,null,null,null,null,null,null,null,null,{"$f":"SUM(L87,N87,P87)","v":0},null,{"$f":"SUM(K87,M87,O87)","v":0}]
[]
["T-901",null,null,null,null,null,null,null,null,null,null,null,null,null,null,null,null,null,{"$f":"SUM(L89,N89,P89)","v":0},null,{"$f":"SUM(K89,M89,O89)","v":0}]
["T-902",null,null,null,null,null,null,null,null,null,null,null,null,null,null,null,null,null,{"$f":"SUM(L90,N90,P90)","v":0},null,{"$f":"SUM(K90,M90,O90)","v":0}]
["T-903",null,null,null,null,null,null,null,null,null,null,null,null,null,null,null,null,null,{"$f":"SUM(L91,N91,P91)","v":0},null,{"$f":"SUM(K91,M91,O91)","v":0}]
["T-904",null,null,null,null,null,null,null,null,null,null,null,null,null,null,null,null,null,{"$f":"SUM(L92,N92,P92)","v":0},null,{"$f":"SUM(K92,M92,O92)","v":0}]
[]
["U-901",null,null,null,null,null,null,null,null,null,null,null,null,null,null,null,null,null,{"$f":"SUM(L94,N94,P94)","v":0},null,{"$f":"SUM(K94,M94,O94)","v":0}]
["U-902",null,null,null,null,null,null,null,null,null,null,null,null,null,null,null,null,null,{"$f":"SUM(L95,N95,P95)","v":0},null,{"$f":"SUM(K95,M95,O95)","v":0}]
["U-903",null,null,null,null,null,null,null,null,null,null,null,null,null,null,null,null,null,{"$f":"SUM(L96,N96,P96)","v":0},null,{"$f":"SUM(K96,M96,O96)","v":0}]
["U-904",null,null,null,null,null,null,null,null,null,null,null,null,null,null,null,null,null,{"$f":"SUM(L97,N97,P97)","v":0},null,{"$f":"SUM(K97,M97,O97)","v":0}]
[]
["V-901",null,null,null,null,null,null,null,null,null,null,null,null,null,null,null,null,null,{"$f":"SUM(L99,N99,P99)","v":0},null,{"$f":"SUM(K99,M99,O99)","v":0}]
["V-902",null,null,null,null,null,null,null,null,null,null,null,null,null,null,null,null,null,{"$f":"SUM(L100,N100,P100)","v":0},null,{"$f":"SUM(K100,M100,O100)","v":0}]
["V-903",null,null,null,null,null,null,null,null,null,null,null,null,null,null,null,null,null,{"$f":"SUM(L101,N101,P101)","v":0},null,{"$f":"SUM(K101,M101,O101)","v":0}]
["V-904",null,null,null,null,null,null,null,null,null,null,null,null,null,null,null,null,null,{"$f":"SUM(L102,N102,P102)","v":0},null,{"$f":"SUM(K102,M102,O102)","v":0}]
[]
["W-901",null,null,null,null,null,null,null,null,null,null,null,null,null,null,null,null,null,{"$f":"SUM(L104,N104,P104)","v":0},null,{"$f":"SUM(K104,M104,O104)","v":0}]
["W-902",null,null,null,null,null,null,null,null,null,null,null,null,null,null,null,null,null,{"$f":"SUM(L105,N105,P105)","v":0},null,{"$f":"SUM(K105,M105,O105)","v":0}]
["W-903",null,null,null,null,null,null,null,null,null,null,null,null,null,null,null,null,null,{"$f":"SUM(L106,N106,P106)","v":0},null,{"$f":"SUM(K106,M106,O106)","v":0}]
["W-904",null,null,null,null,null,null,null,null,null,null,null,null,null,null,null,null,null,{"$f":"SUM(L107,N107,P107)","v":0},null,{"$f":"SUM(K107,M107,O107)","v":0}]
[]
["X-901",null,null,null,null,null,null,null,null,null,null,null,null,null,null,null,null,null,{"$f":"SUM(L109,N109,P109)","v":0},null,{"$f":"SUM(K109,M109,O109)","v":0}]
["X-902",null,null,null,null,null,null,null,null,null,null,null,null,null,null,null,null,null,{"$f":"SUM(L110,N110,P110)","v":0},null,{"$f":"SUM(K110,M110,O110)","v":0}]
["X-903",null,null,null,null,null,null,null,null,null,null,null,null,null,null,null,null,null,{"$f":"SUM(L111,N111,P111)","v":0},null,{"$f":"SUM(K111,M111,O111)","v":0}]
["X-904",null,null,null,null,null,null,null,null,null,null,null,null,null,null,null,null,null,{"$f":"SUM(L112,N112,P112)","v":0},null,{"$f":"SUM(K112,M112,O112)","v":0}]
[]
["Y-901",null,null,null,null,null,null,null,null,null,null,null,null,null,null,null,null,null,{"$f":"SUM(L114,N114,P114)","v":0},null,{"$f":"SUM(K114,M114,O114)","v":0}]
["Y-902",null,null,null,null,null,null,null,null,null,null,null,null,null,null,null,null,null,{"$f":"SUM(L115,N115,P115)","v":0},null,{"$f":"SUM(K115,M115,O115)","v":0}]
["Y-903",null,null,null,null,null,null,null,null,null,null,null,null,null,null,null,null,null,{"$f":"SUM(L116,N116,P116)","v":0},null,{"$f":"SUM(K116,M116,O116)","v":0}]
["Y-904",null,null,null,null,null,null,null,null,null,null,null,null,null,null,null,null,null,{"$f":"SUM(L117,N117,P117)","v":0},null,{"$f":"SUM(K117,M117,O117)","v":0}]
[]
["Z-901",null,null,null,null,null,null,null,null,null,null,null,null,null,null,null,null,null,{"$f":"SUM(L119,N119,P119)","v":0},null,{"$f":"SUM(K119,M119,O119)","v":0}]
["Z-902",null,null,null,null,null,null,null,null,null,null,null,null,null,null,null,null,null,{"$f":"SUM(L120,N120,P120)","v":0},null,{"$f":"SUM(K120,M120,O120)","v":0}]
["Z-903",null,null,null,null,null,null,null,null,null,null,null,null,null,null,null,null,null,{"$f":"SUM(L121,N121,P121)","v":0},null,{"$f":"SUM(K121,M121,O121)","v":0}]
["Z-904",null,null,null,null,null,null,null,null,null,null,null,null,null,null,null,null,null,{"$f":"SUM(L122,N122,P122)","v":0},null,{"$f":"SUM(K122,M122,O122)","v":0}]
[]
["AA-901",null,null,null,null,null,null,null,null,null,null,null,null,null,null,null,null,null,{"$f":"SUM(L124,N124,P124)","v":0},null,{"$f":"SUM(K124,M124,O124)","v":0}]
["AA-902",null,null,null,null,null,null,null,null,null,null,null,null,null,null,null,null,null,{"$f":"SUM(L125,N125,P125)","v":0},null,{"$f":"SUM(K125,M125,O125)","v":0}]
["AA-903",null,null,null,null,null,null,null,null,null,null,null,null,null,null,null,null,null,{"$f":"SUM(L126,N126,P126)","v":0},null,{"$f":"SUM(K126,M126,O126)","v":0}]
["AA-904",null,null,null,null,null,null,null,null,null,null,null,null,null,null,null,null,null,{"$f":"SUM(L127,N127,P127)","v":0},null,{"$f":"SUM(K127,M127,O127)","v":0}]
[]
["BB-901",null,null,null,null,null,null,null,null,null,null,null,null,null,null,null,null,null,{"$f":"SUM(L129,N129,P129)","v":0},null,{"$f":"SUM(K129,M129,O129)","v":0}]
["BB-902",null,null,null,null,null,null,null,null,null,null,null,null,null,null,null,null,null,{"$f":"SUM(L130,N130,P130)","v":0},null,{"$f":"SUM(K130,M130,O130)","v":0}]
["BB-903",null,null,null,null,null,null,null,null,null,null,null,null,null,null,null,null,null,{"$f":"SUM(L131,N131,P131)","v":0},null,{"$f":"SUM(K131,M131,O131)","v":0}]
["BB-904",null,null,null,null,null,null,null,null,null,null,null,null,null,null,null,null,null,{"$f":"SUM(L132,N132,P132)","v":0},null,{"$f":"SUM(K132,M132,O132)","v":0}]
[]
["CC-901",null,null,null,null,null,null,null,null,null,null,null,null,null,null,null,null,null,{"$f":"SUM(L134,N134,P134)","v":0},null,{"$f":"SUM(K134,M134,O134)","v":0}]
["CC-902",null,null,null,null,null,null,null,null,null,null,null,null,null,null,null,null,null,{"$f":"SUM(L135,N135,P135)","v":0},null,{"$f":"SUM(K135,M135,O135)","v":0}]
["CC-903",null,null,null,null,null,null,null,null,null,null,null,null,null,null,null,null,null,{"$f":"SUM(L136,N136,P136)","v":0},null,{"$f":"SUM(K136,M136,O136)","v":0}]
["CC-904",null,null,null,null,null,null,null,null,null,null,null,null,null,null,null,null,null,{"$f":"SUM(L137,N137,P137)","v":0},null,{"$f":"SUM(K137,M137,O137)","v":0}]
[]
["DD-901",null,null,null,null,null,null,null,null,null,null,null,null,null,null,null,null,null,{"$f":"SUM(L139,N139,P139)","v":0},null,{"$f":"SUM(K139,M139,O139)","v":0}]
["DD-902",null,null,null,null,null,null,null,null,null,null,null,null,null,null,null,null,null,{"$f":"SUM(L140,N140,P140)","v":0},null,{"$f":"SUM(K140,M140,O140)","v":0}]
["DD-903",null,null,null,null,null,null,null,null,null,null,null,null,null,null,null,null,null,{"$f":"SUM(L141,N141,P141)","v":0},null,{"$f":"SUM(K141,M141,O141)","v":0}]
["DD-904",null,null,null,null,null,null,null,null,null,null,null,null,null,null,null,null,null,{"$f":"SUM(L142,N142,P142)","v":0},null,{"$f":"SUM(K142,M142,O142)","v":0}]
[]
["EE-901",null,null,null,null,null,null,null,null,null,null,null,null,null,null,null,null,null,{"$f":"SUM(L144,N144,P144)","v":0},null,{"$f":"SUM(K144,M144,O144)","v":0}]
["EE-902",null,null,null,null,null,null,null,null,null,null,null,null,null,null,null,null,null,{"$f":"SUM(L145,N145,P145)","v":0},null,{"$f":"SUM(K145,M145,O145)","v":0}]
["EE-903",null,null,null,null,null,null,null,null,null,null,null,null,null,null,null,null,null,{"$f":"SUM(L146,N146,P146)","v":0},null,{"$f":"SUM(K146,M146,O146)","v":0}]
["EE-904",null,null,null,null,null,null,null,null,null,null,null,null,null,null,null,null,null,{"$f":"SUM(L147,N147,P147)","v":0},null,{"$f":"SUM(K147,M147,O147)","v":0}]
[]
["FF-901",null,null,null,null,null,null,null,null,null,null,null,null,null,null,null,null,null,{"$f":"SUM(L149,N149,P149)","v":0},null,{"$f":"SUM(K149,M149,O149)","v":0}]
["FF-902",null,null,null,null,null,null,null,null,null,null,null,null,null,null,null,null,null,{"$f":"SUM(L150,N150,P150)","v":0},null,{"$f":"SUM(K150,M150,O150)","v":0}]
["FF-903",null,null,null,null,null,null,null,null,null,null,null,null,null,null,null,null,null,{"$f":"SUM(L151,N151,P151)","v":0},null,{"$f":"SUM(K151,M151,O151)","v":0}]
["FF-904",null,null,null,null,null,null,null,null,null,null,null,null,null,null,null,null,null,{"$f":"SUM(L152,N152,P152)","v":0},null,{"$f":"SUM(K152,M152,O152)","v":0}]

{"sheet":"Sweepstakes","index":16,"n_rows":33,"n_cols":23,"rows_kept":33,"cut":false,"hidden":false,"merged":[]}
["FINAL SWEEPSTAKES SCORES"]
[]
[null,"School Name",null,"HUMOROUS MONOLOGUES",null,null,"DRAMATIC MONOLOGUES",null,null,"CLASSICAL SCENES",null,null,"CONTEMPORARY SCENES",null,null,"PANTOMIMES",null,"MUSICAL THEATRE",null,null,"ONE-ACT",null,"TOTAL"]
["A",null,null,null,{"$f":"SUM('Humorous Monologues'!Y4)","v":181},null,null,{"$f":"SUM(Dramatic!Y4)","v":191},null,null,{"$f":"SUM(Classical!Y4)","v":136},null,null,{"$f":"SUM(Contemporary!Y4)","v":210},null,{"$f":"SUM(Pantomime!Y4)","v":204},null,{"$f":"SUM(MusicalTheatre!Y4)","v":190},null,null,{"$f":"'One-Acts'!W4","v":120},null,{"$f":"SUM(E4:U4)","v":1232}]
["B",null,null,null,{"$f":"SUM('Humorous Monologues'!Y9)","v":136},null,null,{"$f":"SUM(Dramatic!Y9)","v":67},null,null,{"$f":"SUM(Classical!Y9)","v":0},null,null,{"$f":"SUM(Contemporary!Y9)","v":122},null,{"$f":"SUM(Pantomime!Y9)","v":60},null,{"$f":"SUM(MusicalTheatre!Y9)","v":72},null,null,{"$f":"'One-Acts'!W5","v":122},null,579]
["C",null,null,null,{"$f":"SUM('Humorous Monologues'!Y14)","v":216},null,null,{"$f":"SUM(Dramatic!Y14)","v":63},null,null,{"$f":"SUM(Classical!Y14)","v":0},null,null,{"$f":"SUM(Contemporary!Y14)","v":63},null,{"$f":"SUM(Pantomime!Y14)","v":61},null,{"$f":"SUM(MusicalTheatre!Y14)","v":200},null,null,{"$f":"'One-Acts'!W6","v":109},null,712]
["D",null,null,null,{"$f":"SUM('Humorous Monologues'!Y19)","v":132},null,null,{"$f":"SUM(Dramatic!Y19)","v":131},null,null,{"$f":"SUM(Classical!Y19)","v":0},null,null,{"$f":"SUM(Contemporary!Y19)","v":0},null,{"$f":"SUM(Pantomime!Y19)","v":0},null,{"$f":"SUM(MusicalTheatre!Y19)","v":208},null,null,{"$f":"'One-Acts'!W7","v":120},null,591]
["E",null,null,null,{"$f":"SUM('Humorous Monologues'!Y24)","v":60},null,null,{"$f":"SUM(Dramatic!Y24)","v":66},null,null,{"$f":"SUM(Classical!Y24)","v":0},null,null,{"$f":"SUM(Contemporary!Y24)","v":69},null,{"$f":"SUM(Pantomime!Y24)","v":0},null,{"$f":"SUM(MusicalTheatre!Y24)","v":209},null,null,{"$f":"'One-Acts'!W8","v":108},null,512]
["F",null,null,null,{"$f":"SUM('Humorous Monologues'!Y29)","v":0},null,null,{"$f":"SUM(Dramatic!Y29)","v":0},null,null,{"$f":"SUM(Classical!Y29)","v":0},null,null,{"$f":"SUM(Contemporary!Y29)","v":0},null,{"$f":"SUM(Pantomime!Y29)","v":58},null,{"$f":"SUM(MusicalTheatre!Y29)","v":216},null,null,{"$f":"'One-Acts'!W9","v":0},null,274]
["G",null,null,null,{"$f":"SUM('Humorous Monologues'!Y34)","v":121},null,null,{"$f":"SUM(Dramatic!Y34)","v":191},null,null,{"$f":"SUM(Classical!Y34)","v":73},null,null,{"$f":"SUM(Contemporary!Y34)","v":0},null,{"$f":"SUM(Pantomime!Y34)","v":0},null,{"$f":"SUM(MusicalTheatre!Y34)","v":192},null,null,{"$f":"'One-Acts'!W10","v":116},null,693]
["H",null,null,null,{"$f":"SUM('Humorous Monologues'!Y39)","v":75},null,null,{"$f":"SUM(Dramatic!Y39)","v":0},null,null,{"$f":"SUM(Classical!Y39)","v":0},null,null,{"$f":"SUM(Contemporary!Y39)","v":0},null,{"$f":"SUM(Pantomime!Y39)","v":0},null,{"$f":"SUM(MusicalTheatre!Y39)","v":144},null,null,{"$f":"'One-Acts'!W11","v":146},null,365]
["J",null,null,null,{"$f":"SUM('Humorous Monologues'!Y44)","v":0},null,null,{"$f":"SUM(Dramatic!Y44)","v":0},null,null,{"$f":"SUM(Classical!Y44)","v":0},null,null,{"$f":"SUM(Contemporary!Y44)","v":68},null,{"$f":"SUM(Pantomime!Y44)","v":0},null,{"$f":"SUM(MusicalTheatre!Y44)","v":186},null,null,{"$f":"'One-Acts'!W12","v":115},null,369]
["K",null,null,null,{"$f":"SUM('Humorous Monologues'!Y49)","v":55},null,null,{"$f":"SUM(Dramatic!Y49)","v":0},null,null,{"$f":"SUM(Classical!Y49)","v":73},null,null,{"$f":"SUM(Contemporary!Y49)","v":62},null,{"$f":"SUM(Pantomime!Y49)","v":0},null,{"$f":"SUM(MusicalTheatre!Y49)","v":0},null,null,{"$f":"'One-Acts'!W13","v":0},null,190]
["L",null,null,null,{"$f":"SUM('Humorous Monologues'!Y54)","v":0},null,null,{"$f":"SUM(Dramatic!Y54)","v":0},null,null,{"$f":"SUM(Classical!Y54)","v":0},null,null,{"$f":"SUM(Contemporary!Y54)","v":0},null,{"$f":"SUM(Pantomime!Y54)","v":0},null,{"$f":"SUM(MusicalTheatre!Y54)","v":71},null,null,{"$f":"'One-Acts'!W14","v":0},null,71]
["M",null,null,null,{"$f":"SUM('Humorous Monologues'!Y59)","v":0},null,null,{"$f":"SUM(Dramatic!Y59)","v":0},null,null,{"$f":"SUM(Classical!Y59)","v":0},null,null,{"$f":"SUM(Contemporary!Y59)","v":0},null,{"$f":"SUM(Pantomime!Y59)","v":0},null,{"$f":"SUM(MusicalTheatre!Y59)","v":0},null,null,{"$f":"'One-Acts'!W15","v":145},null,145]
["N",null,null,null,{"$f":"SUM('Humorous Monologues'!Y64)","v":0},null,null,{"$f":"SUM(Dramatic!Y64)","v":0},null,null,{"$f":"SUM(Classical!Y64)","v":0},null,null,{"$f":"SUM(Contemporary!Y64)","v":0},null,{"$f":"SUM(Pantomime!Y64)","v":0},null,{"$f":"SUM(MusicalTheatre!Y64)","v":0},null,null,{"$f":"'One-Acts'!W16","v":0},null,0]
["P",null,null,null,{"$f":"SUM('Humorous Monologues'!Y69)","v":0},null,null,{"$f":"SUM(Dramatic!Y69)","v":0},null,null,{"$f":"SUM(Classical!Y69)","v":0},null,null,{"$f":"SUM(Contemporary!Y69)","v":0},null,{"$f":"SUM(Pantomime!Y69)","v":0},null,{"$f":"SUM(MusicalTheatre!Y69)","v":0},null,null,{"$f":"'One-Acts'!W17","v":0},null,0]
["Q",null,null,null,{"$f":"SUM('Humorous Monologues'!Y74)","v":0},null,null,{"$f":"SUM(Dramatic!Y74)","v":0},null,null,{"$f":"SUM(Classical!Y74)","v":0},null,null,{"$f":"SUM(Contemporary!Y74)","v":0},null,{"$f":"SUM(Pantomime!Y74)","v":0},null,{"$f":"SUM(MusicalTheatre!Y74)","v":0},null,null,{"$f":"'One-Acts'!W18","v":0},null,0]
["R",null,null,null,{"$f":"SUM('Humorous Monologues'!Y79)","v":0},null,null,{"$f":"SUM(Dramatic!Y79)","v":0},null,null,{"$f":"SUM(Classical!Y79)","v":0},null,null,{"$f":"SUM(Contemporary!Y79)","v":0},null,{"$f":"SUM(Pantomime!Y79)","v":0},null,{"$f":"SUM(MusicalTheatre!Y79)","v":0},null,null,{"$f":"'One-Acts'!W19","v":0},null,0]
["S",null,null,null,{"$f":"SUM('Humorous Monologues'!Y84)","v":0},null,null,{"$f":"SUM(Dramatic!Y84)","v":0},null,null,{"$f":"SUM(Classical!Y84)","v":0},null,null,{"$f":"SUM(Contemporary!Y84)","v":0},null,{"$f":"SUM(Pantomime!Y84)","v":0},null,{"$f":"SUM(MusicalTheatre!Y84)","v":0},null,null,{"$f":"'One-Acts'!W20","v":0},null,0]
["T",null,null,null,{"$f":"SUM('Humorous Monologues'!Y89)","v":0},null,null,{"$f":"SUM(Dramatic!Y89)","v":0},null,null,{"$f":"SUM(Classical!Y89)","v":0},null,null,{"$f":"SUM(Contemporary!Y89)","v":0},null,{"$f":"SUM(Pantomime!Y89)","v":0},null,{"$f":"SUM(MusicalTheatre!Y89)","v":0},null,null,{"$f":"'One-Acts'!W21","v":0},null,0]
["U",null,null,null,{"$f":"SUM('Humorous Monologues'!Y94)","v":0},null,null,{"$f":"SUM(Dramatic!Y94)","v":0},null,null,{"$f":"SUM(Classical!Y94)","v":0},null,null,{"$f":"SUM(Contemporary!Y94)","v":0},null,{"$f":"SUM(Pantomime!Y94)","v":0},null,{"$f":"SUM(MusicalTheatre!Y94)","v":0},null,null,{"$f":"'One-Acts'!W22","v":0},null,0]
["V",null,null,null,{"$f":"SUM('Humorous Monologues'!Y99)","v":0},null,null,{"$f":"SUM(Dramatic!Y99)","v":0},null,null,{"$f":"SUM(Classical!Y99)","v":0},null,null,{"$f":"SUM(Contemporary!Y99)","v":0},null,{"$f":"SUM(Pantomime!Y99)","v":0},null,{"$f":"SUM(MusicalTheatre!Y99)","v":0},null,null,{"$f":"'One-Acts'!W23","v":0},null,0]
["W",null,null,null,{"$f":"SUM('Humorous Monologues'!Y104)","v":0},null,null,{"$f":"SUM(Dramatic!Y104)","v":0},null,null,{"$f":"SUM(Classical!Y104)","v":0},null,null,{"$f":"SUM(Contemporary!Y104)","v":0},null,{"$f":"SUM(Pantomime!Y104)","v":0},null,{"$f":"SUM(MusicalTheatre!Y104)","v":0},null,null,{"$f":"'One-Acts'!W24","v":0},null,0]
["X",null,null,null,{"$f":"SUM('Humorous Monologues'!Y109)","v":0},null,null,{"$f":"SUM(Dramatic!Y109)","v":0},null,null,{"$f":"SUM(Classical!Y109)","v":0},null,null,{"$f":"SUM(Contemporary!Y109)","v":0},null,{"$f":"SUM(Pantomime!Y109)","v":0},null,{"$f":"SUM(MusicalTheatre!Y109)","v":0},null,null,{"$f":"'One-Acts'!W25","v":0},null,0]
["Y",null,null,null,{"$f":"SUM('Humorous Monologues'!Y114)","v":0},null,null,{"$f":"SUM(Dramatic!Y114)","v":0},null,null,{"$f":"SUM(Classical!Y114)","v":0},null,null,{"$f":"SUM(Contemporary!Y114)","v":0},null,{"$f":"SUM(Pantomime!Y114)","v":0},null,{"$f":"SUM(MusicalTheatre!Y114)","v":0},null,null,{"$f":"'One-Acts'!W26","v":0},null,0]
["Z",null,null,null,{"$f":"SUM('Humorous Monologues'!Y119)","v":0},null,null,{"$f":"SUM(Dramatic!Y119)","v":0},null,null,{"$f":"SUM(Classical!Y119)","v":0},null,null,{"$f":"SUM(Contemporary!Y119)","v":0},null,{"$f":"SUM(Pantomime!Y119)","v":0},null,{"$f":"SUM(MusicalTheatre!Y119)","v":0},null,null,{"$f":"'One-Acts'!W27","v":0},null,0]
["AA",null,null,null,{"$f":"SUM('Humorous Monologues'!Y124)","v":0},null,null,{"$f":"SUM(Dramatic!Y124)","v":0},null,null,{"$f":"SUM(Classical!Y124)","v":0},null,null,{"$f":"SUM(Contemporary!Y124)","v":0},null,{"$f":"SUM(Pantomime!Y124)","v":0},null,{"$f":"SUM(MusicalTheatre!Y124)","v":0},null,null,{"$f":"'One-Acts'!W28","v":0},null,0]
["BB",null,null,null,{"$f":"SUM('Humorous Monologues'!Y129)","v":0},null,null,{"$f":"SUM(Dramatic!Y129)","v":0},null,null,{"$f":"SUM(Classical!Y129)","v":0},null,null,{"$f":"SUM(Contemporary!Y129)","v":0},null,{"$f":"SUM(Pantomime!Y129)","v":0},null,{"$f":"SUM(MusicalTheatre!Y129)","v":0},null,null,{"$f":"'One-Acts'!W29","v":0},null,0]
["CC",null,null,null,{"$f":"SUM('Humorous Monologues'!Y134)","v":0},null,null,{"$f":"SUM(Dramatic!Y134)","v":0},null,null,{"$f":"SUM(Classical!Y134)","v":0},null,null,{"$f":"SUM(Contemporary!Y134)","v":0},null,{"$f":"SUM(Pantomime!Y134)","v":0},null,{"$f":"SUM(MusicalTheatre!Y134)","v":0},null,null,{"$f":"'One-Acts'!W30","v":0},null,0]
["DD",null,null,null,{"$f":"SUM('Humorous Monologues'!Y139)","v":0},null,null,{"$f":"SUM(Dramatic!Y139)","v":0},null,null,{"$f":"SUM(Classical!Y139)","v":0},null,null,{"$f":"SUM(Contemporary!Y139)","v":0},null,{"$f":"SUM(Pantomime!Y139)","v":0},null,{"$f":"SUM(MusicalTheatre!Y139)","v":0},null,null,{"$f":"'One-Acts'!W31","v":0},null,0]
["EE",null,null,null,{"$f":"SUM('Humorous Monologues'!Y144)","v":0},null,null,{"$f":"SUM(Dramatic!Y144)","v":0},null,null,{"$f":"SUM(Classical!Y144)","v":0},null,null,{"$f":"SUM(Contemporary!Y144)","v":0},null,{"$f":"SUM(Pantomime!Y144)","v":0},null,{"$f":"SUM(MusicalTheatre!Y144)","v":0},null,null,{"$f":"'One-Acts'!W32","v":0},null,0]
["FF",null,null,null,{"$f":"SUM('Humorous Monologues'!Y149)","v":0},null,null,{"$f":"SUM(Dramatic!Y149)","v":0},null,null,{"$f":"SUM(Classical!Y149)","v":0},null,null,{"$f":"SUM(Contemporary!Y149)","v":0},null,{"$f":"SUM(Pantomime!Y149)","v":0},null,{"$f":"SUM(MusicalTheatre!Y149)","v":0},null,null,{"$f":"'One-Acts'!W33","v":0},null,0]

{"sheet":"ScenicResults","index":17,"n_rows":122,"n_cols":4,"rows_kept":122,"cut":false,"hidden":false,"merged":[]}
["Scenic Design"]
["ID","Rank","Score","LeaveBlank"]
[{"$f":"ScenicDesign!A25","v":"E-902"},{"$f":"ScenicDesign!U25","v":0},{"$f":"ScenicDesign!S25","v":0},{"$f":"IF((Table710121314152[[#This Row],[Rank]]+Table710121314152[[#This Row],[Score]])>0,1,0)","v":0}]
[{"$f":"ScenicDesign!A4","v":"A-901"},{"$f":"ScenicDesign!U4","v":0},{"$f":"ScenicDesign!S4","v":0},{"$f":"IF((Table710121314152[[#This Row],[Rank]]+Table710121314152[[#This Row],[Score]])>0,1,0)","v":0}]
[{"$f":"ScenicDesign!A5","v":"A-902"},{"$f":"ScenicDesign!U5","v":0},{"$f":"ScenicDesign!S5","v":0},{"$f":"IF((Table710121314152[[#This Row],[Rank]]+Table710121314152[[#This Row],[Score]])>0,1,0)","v":0}]
[{"$f":"ScenicDesign!A6","v":"A-903"},{"$f":"ScenicDesign!U6","v":0},{"$f":"ScenicDesign!S6","v":0},{"$f":"IF((Table710121314152[[#This Row],[Rank]]+Table710121314152[[#This Row],[Score]])>0,1,0)","v":0}]
[{"$f":"ScenicDesign!A7","v":"A-904"},{"$f":"ScenicDesign!U7","v":0},{"$f":"ScenicDesign!S7","v":0},{"$f":"IF((Table710121314152[[#This Row],[Rank]]+Table710121314152[[#This Row],[Score]])>0,1,0)","v":0}]
[{"$f":"ScenicDesign!A9","v":"B-901"},{"$f":"ScenicDesign!U9","v":0},{"$f":"ScenicDesign!S9","v":0},{"$f":"IF((Table710121314152[[#This Row],[Rank]]+Table710121314152[[#This Row],[Score]])>0,1,0)","v":0}]
[{"$f":"ScenicDesign!A10","v":"B-902"},{"$f":"ScenicDesign!U10","v":0},{"$f":"ScenicDesign!S10","v":0},{"$f":"IF((Table710121314152[[#This Row],[Rank]]+Table710121314152[[#This Row],[Score]])>0,1,0)","v":0}]
[{"$f":"ScenicDesign!A11","v":"B-903"},{"$f":"ScenicDesign!U11","v":0},{"$f":"ScenicDesign!S11","v":0},{"$f":"IF((Table710121314152[[#This Row],[Rank]]+Table710121314152[[#This Row],[Score]])>0,1,0)","v":0}]
[{"$f":"ScenicDesign!A12","v":"B-904"},{"$f":"ScenicDesign!U12","v":0},{"$f":"ScenicDesign!S12","v":0},{"$f":"IF((Table710121314152[[#This Row],[Rank]]+Table710121314152[[#This Row],[Score]])>0,1,0)","v":0}]
[{"$f":"ScenicDesign!A14","v":"C-901"},{"$f":"ScenicDesign!U14","v":0},{"$f":"ScenicDesign!S14","v":0},{"$f":"IF((Table710121314152[[#This Row],[Rank]]+Table710121314152[[#This Row],[Score]])>0,1,0)","v":0}]
[{"$f":"ScenicDesign!A15","v":"C-902"},{"$f":"ScenicDesign!U15","v":0},{"$f":"ScenicDesign!S15","v":0},{"$f":"IF((Table710121314152[[#This Row],[Rank]]+Table710121314152[[#This Row],[Score]])>0,1,0)","v":0}]
[{"$f":"ScenicDesign!A16","v":"C-903"},{"$f":"ScenicDesign!U16","v":0},{"$f":"ScenicDesign!S16","v":0},{"$f":"IF((Table710121314152[[#This Row],[Rank]]+Table710121314152[[#This Row],[Score]])>0,1,0)","v":0}]
[{"$f":"ScenicDesign!A17","v":"C-904"},{"$f":"ScenicDesign!U17","v":0},{"$f":"ScenicDesign!S17","v":0},{"$f":"IF((Table710121314152[[#This Row],[Rank]]+Table710121314152[[#This Row],[Score]])>0,1,0)","v":0}]
[{"$f":"ScenicDesign!A19","v":"D-901"},{"$f":"ScenicDesign!U19","v":0},{"$f":"ScenicDesign!S19","v":0},{"$f":"IF((Table710121314152[[#This Row],[Rank]]+Table710121314152[[#This Row],[Score]])>0,1,0)","v":0}]
[{"$f":"ScenicDesign!A20","v":"D-902"},{"$f":"ScenicDesign!U20","v":0},{"$f":"ScenicDesign!S20","v":0},{"$f":"IF((Table710121314152[[#This Row],[Rank]]+Table710121314152[[#This Row],[Score]])>0,1,0)","v":0}]
[{"$f":"ScenicDesign!A21","v":"D-903"},{"$f":"ScenicDesign!U21","v":0},{"$f":"ScenicDesign!S21","v":0},{"$f":"IF((Table710121314152[[#This Row],[Rank]]+Table710121314152[[#This Row],[Score]])>0,1,0)","v":0}]
[{"$f":"ScenicDesign!A22","v":"D-904"},{"$f":"ScenicDesign!U22","v":0},{"$f":"ScenicDesign!S22","v":0},{"$f":"IF((Table710121314152[[#This Row],[Rank]]+Table710121314152[[#This Row],[Score]])>0,1,0)","v":0}]
[{"$f":"ScenicDesign!A24","v":"E-901"},{"$f":"ScenicDesign!U24","v":0},{"$f":"ScenicDesign!S24","v":0},{"$f":"IF((Table710121314152[[#This Row],[Rank]]+Table710121314152[[#This Row],[Score]])>0,1,0)","v":0}]
[{"$f":"ScenicDesign!A26","v":"E-903"},{"$f":"ScenicDesign!U26","v":0},{"$f":"ScenicDesign!S26","v":0},{"$f":"IF((Table710121314152[[#This Row],[Rank]]+Table710121314152[[#This Row],[Score]])>0,1,0)","v":0}]
[{"$f":"ScenicDesign!A27","v":"E-904"},{"$f":"ScenicDesign!U27","v":0},{"$f":"ScenicDesign!S27","v":0},{"$f":"IF((Table710121314152[[#This Row],[Rank]]+Table710121314152[[#This Row],[Score]])>0,1,0)","v":0}]
[{"$f":"ScenicDesign!A29","v":"F-901"},{"$f":"ScenicDesign!U29","v":0},{"$f":"ScenicDesign!S29","v":0},{"$f":"IF((Table710121314152[[#This Row],[Rank]]+Table710121314152[[#This Row],[Score]])>0,1,0)","v":0}]
[{"$f":"ScenicDesign!A30","v":"F-902"},{"$f":"ScenicDesign!U30","v":0},{"$f":"ScenicDesign!S30","v":0},{"$f":"IF((Table710121314152[[#This Row],[Rank]]+Table710121314152[[#This Row],[Score]])>0,1,0)","v":0}]
[{"$f":"ScenicDesign!A31","v":"F-903"},{"$f":"ScenicDesign!U31","v":0},{"$f":"ScenicDesign!S31","v":0},{"$f":"IF((Table710121314152[[#This Row],[Rank]]+Table710121314152[[#This Row],[Score]])>0,1,0)","v":0}]
[{"$f":"ScenicDesign!A32","v":"F-904"},{"$f":"ScenicDesign!U32","v":0},{"$f":"ScenicDesign!S32","v":0},{"$f":"IF((Table710121314152[[#This Row],[Rank]]+Table710121314152[[#This Row],[Score]])>0,1,0)","v":0}]
[{"$f":"ScenicDesign!A34","v":"G-901"},{"$f":"ScenicDesign!U34","v":0},{"$f":"ScenicDesign!S34","v":0},{"$f":"IF((Table710121314152[[#This Row],[Rank]]+Table710121314152[[#This Row],[Score]])>0,1,0)","v":0}]
[{"$f":"ScenicDesign!A35","v":"G-902"},{"$f":"ScenicDesign!U35","v":0},{"$f":"ScenicDesign!S35","v":0},{"$f":"IF((Table710121314152[[#This Row],[Rank]]+Table710121314152[[#This Row],[Score]])>0,1,0)","v":0}]
[{"$f":"ScenicDesign!A36","v":"G-903"},{"$f":"ScenicDesign!U36","v":0},{"$f":"ScenicDesign!S36","v":0},{"$f":"IF((Table710121314152[[#This Row],[Rank]]+Table710121314152[[#This Row],[Score]])>0,1,0)","v":0}]
[{"$f":"ScenicDesign!A37","v":"G-904"},{"$f":"ScenicDesign!U37","v":0},{"$f":"ScenicDesign!S37","v":0},{"$f":"IF((Table710121314152[[#This Row],[Rank]]+Table710121314152[[#This Row],[Score]])>0,1,0)","v":0}]
[{"$f":"ScenicDesign!A39","v":"H-901"},{"$f":"ScenicDesign!U39","v":0},{"$f":"ScenicDesign!S39","v":0},{"$f":"IF((Table710121314152[[#This Row],[Rank]]+Table710121314152[[#This Row],[Score]])>0,1,0)","v":0}]
[{"$f":"ScenicDesign!A40","v":"H-902"},{"$f":"ScenicDesign!U40","v":0},{"$f":"ScenicDesign!S40","v":0},{"$f":"IF((Table710121314152[[#This Row],[Rank]]+Table710121314152[[#This Row],[Score]])>0,1,0)","v":0}]
[{"$f":"ScenicDesign!A41","v":"H-903"},{"$f":"ScenicDesign!U41","v":0},{"$f":"ScenicDesign!S41","v":0},{"$f":"IF((Table710121314152[[#This Row],[Rank]]+Table710121314152[[#This Row],[Score]])>0,1,0)","v":0}]
[{"$f":"ScenicDesign!A42","v":"H-904"},{"$f":"ScenicDesign!U42","v":0},{"$f":"ScenicDesign!S42","v":0},{"$f":"IF((Table710121314152[[#This Row],[Rank]]+Table710121314152[[#This Row],[Score]])>0,1,0)","v":0}]
[{"$f":"ScenicDesign!A44","v":"J-901"},{"$f":"ScenicDesign!U44","v":0},{"$f":"ScenicDesign!S44","v":0},{"$f":"IF((Table710121314152[[#This Row],[Rank]]+Table710121314152[[#This Row],[Score]])>0,1,0)","v":0}]
[{"$f":"ScenicDesign!A45","v":"J-902"},{"$f":"ScenicDesign!U45","v":0},{"$f":"ScenicDesign!S45","v":0},{"$f":"IF((Table710121314152[[#This Row],[Rank]]+Table710121314152[[#This Row],[Score]])>0,1,0)","v":0}]
[{"$f":"ScenicDesign!A46","v":"J-903"},{"$f":"ScenicDesign!U46","v":0},{"$f":"ScenicDesign!S46","v":0},{"$f":"IF((Table710121314152[[#This Row],[Rank]]+Table710121314152[[#This Row],[Score]])>0,1,0)","v":0}]
[{"$f":"ScenicDesign!A47","v":"J-904"},{"$f":"ScenicDesign!U47","v":0},{"$f":"ScenicDesign!S47","v":0},{"$f":"IF((Table710121314152[[#This Row],[Rank]]+Table710121314152[[#This Row],[Score]])>0,1,0)","v":0}]
[{"$f":"ScenicDesign!A49","v":"K-901"},{"$f":"ScenicDesign!U49","v":0},{"$f":"ScenicDesign!S49","v":0},{"$f":"IF((Table710121314152[[#This Row],[Rank]]+Table710121314152[[#This Row],[Score]])>0,1,0)","v":0}]
[{"$f":"ScenicDesign!A50","v":"K-902"},{"$f":"ScenicDesign!U50","v":0},{"$f":"ScenicDesign!S50","v":0},{"$f":"IF((Table710121314152[[#This Row],[Rank]]+Table710121314152[[#This Row],[Score]])>0,1,0)","v":0}]
[{"$f":"ScenicDesign!A51","v":"K-903"},{"$f":"ScenicDesign!U51","v":0},{"$f":"ScenicDesign!S51","v":0},{"$f":"IF((Table710121314152[[#This Row],[Rank]]+Table710121314152[[#This Row],[Score]])>0,1,0)","v":0}]
[{"$f":"ScenicDesign!A52","v":"K-904"},{"$f":"ScenicDesign!U52","v":0},{"$f":"ScenicDesign!S52","v":0},{"$f":"IF((Table710121314152[[#This Row],[Rank]]+Table710121314152[[#This Row],[Score]])>0,1,0)","v":0}]
[{"$f":"ScenicDesign!A54","v":"L-901"},{"$f":"ScenicDesign!U54","v":0},{"$f":"ScenicDesign!S54","v":0},{"$f":"IF((Table710121314152[[#This Row],[Rank]]+Table710121314152[[#This Row],[Score]])>0,1,0)","v":0}]
[{"$f":"ScenicDesign!A55","v":"L-902"},{"$f":"ScenicDesign!U55","v":0},{"$f":"ScenicDesign!S55","v":0},{"$f":"IF((Table710121314152[[#This Row],[Rank]]+Table710121314152[[#This Row],[Score]])>0,1,0)","v":0}]
[{"$f":"ScenicDesign!A56","v":"L-903"},{"$f":"ScenicDesign!U56","v":0},{"$f":"ScenicDesign!S56","v":0},{"$f":"IF((Table710121314152[[#This Row],[Rank]]+Table710121314152[[#This Row],[Score]])>0,1,0)","v":0}]
[{"$f":"ScenicDesign!A57","v":"L-904"},{"$f":"ScenicDesign!U57","v":0},{"$f":"ScenicDesign!S57","v":0},{"$f":"IF((Table710121314152[[#This Row],[Rank]]+Table710121314152[[#This Row],[Score]])>0,1,0)","v":0}]
[{"$f":"ScenicDesign!A59","v":"M-901"},{"$f":"ScenicDesign!U59","v":0},{"$f":"ScenicDesign!S59","v":0},{"$f":"IF((Table710121314152[[#This Row],[Rank]]+Table710121314152[[#This Row],[Score]])>0,1,0)","v":0}]
[{"$f":"ScenicDesign!A60","v":"M-902"},{"$f":"ScenicDesign!U60","v":0},{"$f":"ScenicDesign!S60","v":0},{"$f":"IF((Table710121314152[[#This Row],[Rank]]+Table710121314152[[#This Row],[Score]])>0,1,0)","v":0}]
[{"$f":"ScenicDesign!A61","v":"M-903"},{"$f":"ScenicDesign!U61","v":0},{"$f":"ScenicDesign!S61","v":0},{"$f":"IF((Table710121314152[[#This Row],[Rank]]+Table710121314152[[#This Row],[Score]])>0,1,0)","v":0}]
[{"$f":"ScenicDesign!A62","v":"M-904"},{"$f":"ScenicDesign!U62","v":0},{"$f":"ScenicDesign!S62","v":0},{"$f":"IF((Table710121314152[[#This Row],[Rank]]+Table710121314152[[#This Row],[Score]])>0,1,0)","v":0}]
[{"$f":"ScenicDesign!A64","v":"N-901"},{"$f":"ScenicDesign!U64","v":0},{"$f":"ScenicDesign!S64","v":0},{"$f":"IF((Table710121314152[[#This Row],[Rank]]+Table710121314152[[#This Row],[Score]])>0,1,0)","v":0}]
[{"$f":"ScenicDesign!A65","v":"N-902"},{"$f":"ScenicDesign!U65","v":0},{"$f":"ScenicDesign!S65","v":0},{"$f":"IF((Table710121314152[[#This Row],[Rank]]+Table710121314152[[#This Row],[Score]])>0,1,0)","v":0}]
[{"$f":"ScenicDesign!A66","v":"N-903"},{"$f":"ScenicDesign!U66","v":0},{"$f":"ScenicDesign!S66","v":0},{"$f":"IF((Table710121314152[[#This Row],[Rank]]+Table710121314152[[#This Row],[Score]])>0,1,0)","v":0}]
[{"$f":"ScenicDesign!A67","v":"N-904"},{"$f":"ScenicDesign!U67","v":0},{"$f":"ScenicDesign!S67","v":0},{"$f":"IF((Table710121314152[[#This Row],[Rank]]+Table710121314152[[#This Row],[Score]])>0,1,0)","v":0}]
[{"$f":"ScenicDesign!A69","v":"P-901"},{"$f":"ScenicDesign!U69","v":0},{"$f":"ScenicDesign!S69","v":0},{"$f":"IF((Table710121314152[[#This Row],[Rank]]+Table710121314152[[#This Row],[Score]])>0,1,0)","v":0}]
[{"$f":"ScenicDesign!A70","v":"P-902"},{"$f":"ScenicDesign!U70","v":0},{"$f":"ScenicDesign!S70","v":0},{"$f":"IF((Table710121314152[[#This Row],[Rank]]+Table710121314152[[#This Row],[Score]])>0,1,0)","v":0}]
[{"$f":"ScenicDesign!A71","v":"P-903"},{"$f":"ScenicDesign!U71","v":0},{"$f":"ScenicDesign!S71","v":0},{"$f":"IF((Table710121314152[[#This Row],[Rank]]+Table710121314152[[#This Row],[Score]])>0,1,0)","v":0}]
[{"$f":"ScenicDesign!A72","v":"P-904"},{"$f":"ScenicDesign!U72","v":0},{"$f":"ScenicDesign!S72","v":0},{"$f":"IF((Table710121314152[[#This Row],[Rank]]+Table710121314152[[#This Row],[Score]])>0,1,0)","v":0}]
[{"$f":"ScenicDesign!A74","v":"Q-901"},{"$f":"ScenicDesign!U74","v":0},{"$f":"ScenicDesign!S74","v":0},{"$f":"IF((Table710121314152[[#This Row],[Rank]]+Table710121314152[[#This Row],[Score]])>0,1,0)","v":0}]
[{"$f":"ScenicDesign!A75","v":"Q-902"},{"$f":"ScenicDesign!U75","v":0},{"$f":"ScenicDesign!S75","v":0},{"$f":"IF((Table710121314152[[#This Row],[Rank]]+Table710121314152[[#This Row],[Score]])>0,1,0)","v":0}]
[{"$f":"ScenicDesign!A76","v":"Q-903"},{"$f":"ScenicDesign!U76","v":0},{"$f":"ScenicDesign!S76","v":0},{"$f":"IF((Table710121314152[[#This Row],[Rank]]+Table710121314152[[#This Row],[Score]])>0,1,0)","v":0}]
[{"$f":"ScenicDesign!A77","v":"Q-904"},{"$f":"ScenicDesign!U77","v":0},{"$f":"ScenicDesign!S77","v":0},{"$f":"IF((Table710121314152[[#This Row],[Rank]]+Table710121314152[[#This Row],[Score]])>0,1,0)","v":0}]
[{"$f":"ScenicDesign!A79","v":"R-901"},{"$f":"ScenicDesign!U79","v":0},{"$f":"ScenicDesign!S79","v":0},{"$f":"IF((Table710121314152[[#This Row],[Rank]]+Table710121314152[[#This Row],[Score]])>0,1,0)","v":0}]
[{"$f":"ScenicDesign!A80","v":"R-902"},{"$f":"ScenicDesign!U80","v":0},{"$f":"ScenicDesign!S80","v":0},{"$f":"IF((Table710121314152[[#This Row],[Rank]]+Table710121314152[[#This Row],[Score]])>0,1,0)","v":0}]
[{"$f":"ScenicDesign!A81","v":"R-903"},{"$f":"ScenicDesign!U81","v":0},{"$f":"ScenicDesign!S81","v":0},{"$f":"IF((Table710121314152[[#This Row],[Rank]]+Table710121314152[[#This Row],[Score]])>0,1,0)","v":0}]
[{"$f":"ScenicDesign!A82","v":"R-904"},{"$f":"ScenicDesign!U82","v":0},{"$f":"ScenicDesign!S82","v":0},{"$f":"IF((Table710121314152[[#This Row],[Rank]]+Table710121314152[[#This Row],[Score]])>0,1,0)","v":0}]
[{"$f":"ScenicDesign!A84","v":"S-901"},{"$f":"ScenicDesign!U84","v":0},{"$f":"ScenicDesign!S84","v":0},{"$f":"IF((Table710121314152[[#This Row],[Rank]]+Table710121314152[[#This Row],[Score]])>0,1,0)","v":0}]
[{"$f":"ScenicDesign!A85","v":"S-902"},{"$f":"ScenicDesign!U85","v":0},{"$f":"ScenicDesign!S85","v":0},{"$f":"IF((Table710121314152[[#This Row],[Rank]]+Table710121314152[[#This Row],[Score]])>0,1,0)","v":0}]
[{"$f":"ScenicDesign!A86","v":"S-903"},{"$f":"ScenicDesign!U86","v":0},{"$f":"ScenicDesign!S86","v":0},{"$f":"IF((Table710121314152[[#This Row],[Rank]]+Table710121314152[[#This Row],[Score]])>0,1,0)","v":0}]
[{"$f":"ScenicDesign!A87","v":"S-904"},{"$f":"ScenicDesign!U87","v":0},{"$f":"ScenicDesign!S87","v":0},{"$f":"IF((Table710121314152[[#This Row],[Rank]]+Table710121314152[[#This Row],[Score]])>0,1,0)","v":0}]
[{"$f":"ScenicDesign!A89","v":"T-901"},{"$f":"ScenicDesign!U89","v":0},{"$f":"ScenicDesign!S89","v":0},{"$f":"IF((Table710121314152[[#This Row],[Rank]]+Table710121314152[[#This Row],[Score]])>0,1,0)","v":0}]
[{"$f":"ScenicDesign!A90","v":"T-902"},{"$f":"ScenicDesign!U90","v":0},{"$f":"ScenicDesign!S90","v":0},{"$f":"IF((Table710121314152[[#This Row],[Rank]]+Table710121314152[[#This Row],[Score]])>0,1,0)","v":0}]
[{"$f":"ScenicDesign!A91","v":"T-903"},{"$f":"ScenicDesign!U91","v":0},{"$f":"ScenicDesign!S91","v":0},{"$f":"IF((Table710121314152[[#This Row],[Rank]]+Table710121314152[[#This Row],[Score]])>0,1,0)","v":0}]
[{"$f":"ScenicDesign!A92","v":"T-904"},{"$f":"ScenicDesign!U92","v":0},{"$f":"ScenicDesign!S92","v":0},{"$f":"IF((Table710121314152[[#This Row],[Rank]]+Table710121314152[[#This Row],[Score]])>0,1,0)","v":0}]
[{"$f":"ScenicDesign!A94","v":"U-901"},{"$f":"ScenicDesign!U94","v":0},{"$f":"ScenicDesign!S94","v":0},{"$f":"IF((Table710121314152[[#This Row],[Rank]]+Table710121314152[[#This Row],[Score]])>0,1,0)","v":0}]
[{"$f":"ScenicDesign!A95","v":"U-902"},{"$f":"ScenicDesign!U95","v":0},{"$f":"ScenicDesign!S95","v":0},{"$f":"IF((Table710121314152[[#This Row],[Rank]]+Table710121314152[[#This Row],[Score]])>0,1,0)","v":0}]
[{"$f":"ScenicDesign!A96","v":"U-903"},{"$f":"ScenicDesign!U96","v":0},{"$f":"ScenicDesign!S96","v":0},{"$f":"IF((Table710121314152[[#This Row],[Rank]]+Table710121314152[[#This Row],[Score]])>0,1,0)","v":0}]
[{"$f":"ScenicDesign!A97","v":"U-904"},{"$f":"ScenicDesign!U97","v":0},{"$f":"ScenicDesign!S97","v":0},{"$f":"IF((Table710121314152[[#This Row],[Rank]]+Table710121314152[[#This Row],[Score]])>0,1,0)","v":0}]
[{"$f":"ScenicDesign!A99","v":"V-901"},{"$f":"ScenicDesign!U99","v":0},{"$f":"ScenicDesign!S99","v":0},{"$f":"IF((Table710121314152[[#This Row],[Rank]]+Table710121314152[[#This Row],[Score]])>0,1,0)","v":0}]
[{"$f":"ScenicDesign!A100","v":"V-902"},{"$f":"ScenicDesign!U100","v":0},{"$f":"ScenicDesign!S100","v":0},{"$f":"IF((Table710121314152[[#This Row],[Rank]]+Table710121314152[[#This Row],[Score]])>0,1,0)","v":0}]
[{"$f":"ScenicDesign!A101","v":"V-903"},{"$f":"ScenicDesign!U101","v":0},{"$f":"ScenicDesign!S101","v":0},{"$f":"IF((Table710121314152[[#This Row],[Rank]]+Table710121314152[[#This Row],[Score]])>0,1,0)","v":0}]
[{"$f":"ScenicDesign!A102","v":"V-904"},{"$f":"ScenicDesign!U102","v":0},{"$f":"ScenicDesign!S102","v":0},{"$f":"IF((Table710121314152[[#This Row],[Rank]]+Table710121314152[[#This Row],[Score]])>0,1,0)","v":0}]
[{"$f":"ScenicDesign!A104","v":"W-901"},{"$f":"ScenicDesign!U104","v":0},{"$f":"ScenicDesign!S104","v":0},{"$f":"IF((Table710121314152[[#This Row],[Rank]]+Table710121314152[[#This Row],[Score]])>0,1,0)","v":0}]
[{"$f":"ScenicDesign!A105","v":"W-902"},{"$f":"ScenicDesign!U105","v":0},{"$f":"ScenicDesign!S105","v":0},{"$f":"IF((Table710121314152[[#This Row],[Rank]]+Table710121314152[[#This Row],[Score]])>0,1,0)","v":0}]
[{"$f":"ScenicDesign!A106","v":"W-903"},{"$f":"ScenicDesign!U106","v":0},{"$f":"ScenicDesign!S106","v":0},{"$f":"IF((Table710121314152[[#This Row],[Rank]]+Table710121314152[[#This Row],[Score]])>0,1,0)","v":0}]
[{"$f":"ScenicDesign!A107","v":"W-904"},{"$f":"ScenicDesign!U107","v":0},{"$f":"ScenicDesign!S107","v":0},{"$f":"IF((Table710121314152[[#This Row],[Rank]]+Table710121314152[[#This Row],[Score]])>0,1,0)","v":0}]
[{"$f":"ScenicDesign!A109","v":"X-901"},{"$f":"ScenicDesign!U109","v":0},{"$f":"ScenicDesign!S109","v":0},{"$f":"IF((Table710121314152[[#This Row],[Rank]]+Table710121314152[[#This Row],[Score]])>0,1,0)","v":0}]
[{"$f":"ScenicDesign!A110","v":"X-902"},{"$f":"ScenicDesign!U110","v":0},{"$f":"ScenicDesign!S110","v":0},{"$f":"IF((Table710121314152[[#This Row],[Rank]]+Table710121314152[[#This Row],[Score]])>0,1,0)","v":0}]
[{"$f":"ScenicDesign!A111","v":"X-903"},{"$f":"ScenicDesign!U111","v":0},{"$f":"ScenicDesign!S111","v":0},{"$f":"IF((Table710121314152[[#This Row],[Rank]]+Table710121314152[[#This Row],[Score]])>0,1,0)","v":0}]
[{"$f":"ScenicDesign!A112","v":"X-904"},{"$f":"ScenicDesign!U112","v":0},{"$f":"ScenicDesign!S112","v":0},{"$f":"IF((Table710121314152[[#This Row],[Rank]]+Table710121314152[[#This Row],[Score]])>0,1,0)","v":0}]
[{"$f":"ScenicDesign!A114","v":"Y-901"},{"$f":"ScenicDesign!U114","v":0},{"$f":"ScenicDesign!S114","v":0},{"$f":"IF((Table710121314152[[#This Row],[Rank]]+Table710121314152[[#This Row],[Score]])>0,1,0)","v":0}]
[{"$f":"ScenicDesign!A115","v":"Y-902"},{"$f":"ScenicDesign!U115","v":0},{"$f":"ScenicDesign!S115","v":0},{"$f":"IF((Table710121314152[[#This Row],[Rank]]+Table710121314152[[#This Row],[Score]])>0,1,0)","v":0}]
[{"$f":"ScenicDesign!A116","v":"Y-903"},{"$f":"ScenicDesign!U116","v":0},{"$f":"ScenicDesign!S116","v":0},{"$f":"IF((Table710121314152[[#This Row],[Rank]]+Table710121314152[[#This Row],[Score]])>0,1,0)","v":0}]
[{"$f":"ScenicDesign!A117","v":"Y-904"},{"$f":"ScenicDesign!U117","v":0},{"$f":"ScenicDesign!S117","v":0},{"$f":"IF((Table710121314152[[#This Row],[Rank]]+Table710121314152[[#This Row],[Score]])>0,1,0)","v":0}]
[{"$f":"ScenicDesign!A119","v":"Z-901"},{"$f":"ScenicDesign!U119","v":0},{"$f":"ScenicDesign!S119","v":0},{"$f":"IF((Table710121314152[[#This Row],[Rank]]+Table710121314152[[#This Row],[Score]])>0,1,0)","v":0}]
[{"$f":"ScenicDesign!A120","v":"Z-902"},{"$f":"ScenicDesign!U120","v":0},{"$f":"ScenicDesign!S120","v":0},{"$f":"IF((Table710121314152[[#This Row],[Rank]]+Table710121314152[[#This Row],[Score]])>0,1,0)","v":0}]
[{"$f":"ScenicDesign!A121","v":"Z-903"},{"$f":"ScenicDesign!U121","v":0},{"$f":"ScenicDesign!S121","v":0},{"$f":"IF((Table710121314152[[#This Row],[Rank]]+Table710121314152[[#This Row],[Score]])>0,1,0)","v":0}]
[{"$f":"ScenicDesign!A122","v":"Z-904"},{"$f":"ScenicDesign!U122","v":0},{"$f":"ScenicDesign!S122","v":0},{"$f":"IF((Table710121314152[[#This Row],[Rank]]+Table710121314152[[#This Row],[Score]])>0,1,0)","v":0}]
[{"$f":"ScenicDesign!A124","v":"AA-901"},{"$f":"ScenicDesign!U124","v":0},{"$f":"ScenicDesign!S124","v":0},{"$f":"IF((Table710121314152[[#This Row],[Rank]]+Table710121314152[[#This Row],[Score]])>0,1,0)","v":0}]
[{"$f":"ScenicDesign!A125","v":"AA-902"},{"$f":"ScenicDesign!U125","v":0},{"$f":"ScenicDesign!S125","v":0},{"$f":"IF((Table710121314152[[#This Row],[Rank]]+Table710121314152[[#This Row],[Score]])>0,1,0)","v":0}]
[{"$f":"ScenicDesign!A126","v":"AA-903"},{"$f":"ScenicDesign!U126","v":0},{"$f":"ScenicDesign!S126","v":0},{"$f":"IF((Table710121314152[[#This Row],[Rank]]+Table710121314152[[#This Row],[Score]])>0,1,0)","v":0}]
[{"$f":"ScenicDesign!A127","v":"AA-904"},{"$f":"ScenicDesign!U127","v":0},{"$f":"ScenicDesign!S127","v":0},{"$f":"IF((Table710121314152[[#This Row],[Rank]]+Table710121314152[[#This Row],[Score]])>0,1,0)","v":0}]
[{"$f":"ScenicDesign!A129","v":"BB-901"},{"$f":"ScenicDesign!U129","v":0},{"$f":"ScenicDesign!S129","v":0},{"$f":"IF((Table710121314152[[#This Row],[Rank]]+Table710121314152[[#This Row],[Score]])>0,1,0)","v":0}]
[{"$f":"ScenicDesign!A130","v":"BB-902"},{"$f":"ScenicDesign!U130","v":0},{"$f":"ScenicDesign!S130","v":0},{"$f":"IF((Table710121314152[[#This Row],[Rank]]+Table710121314152[[#This Row],[Score]])>0,1,0)","v":0}]
[{"$f":"ScenicDesign!A131","v":"BB-903"},{"$f":"ScenicDesign!U131","v":0},{"$f":"ScenicDesign!S131","v":0},{"$f":"IF((Table710121314152[[#This Row],[Rank]]+Table710121314152[[#This Row],[Score]])>0,1,0)","v":0}]
[{"$f":"ScenicDesign!A132","v":"BB-904"},{"$f":"ScenicDesign!U132","v":0},{"$f":"ScenicDesign!S132","v":0},{"$f":"IF((Table710121314152[[#This Row],[Rank]]+Table710121314152[[#This Row],[Score]])>0,1,0)","v":0}]
[{"$f":"ScenicDesign!A134","v":"CC-901"},{"$f":"ScenicDesign!U134","v":0},{"$f":"ScenicDesign!S134","v":0},{"$f":"IF((Table710121314152[[#This Row],[Rank]]+Table710121314152[[#This Row],[Score]])>0,1,0)","v":0}]
[{"$f":"ScenicDesign!A135","v":"CC-902"},{"$f":"ScenicDesign!U135","v":0},{"$f":"ScenicDesign!S135","v":0},{"$f":"IF((Table710121314152[[#This Row],[Rank]]+Table710121314152[[#This Row],[Score]])>0,1,0)","v":0}]
[{"$f":"ScenicDesign!A136","v":"CC-903"},{"$f":"ScenicDesign!U136","v":0},{"$f":"ScenicDesign!S136","v":0},{"$f":"IF((Table710121314152[[#This Row],[Rank]]+Table710121314152[[#This Row],[Score]])>0,1,0)","v":0}]
[{"$f":"ScenicDesign!A137","v":"CC-904"},{"$f":"ScenicDesign!U137","v":0},{"$f":"ScenicDesign!S137","v":0},{"$f":"IF((Table710121314152[[#This Row],[Rank]]+Table710121314152[[#This Row],[Score]])>0,1,0)","v":0}]
[{"$f":"ScenicDesign!A139","v":"DD-901"},{"$f":"ScenicDesign!U139","v":0},{"$f":"ScenicDesign!S139","v":0},{"$f":"IF((Table710121314152[[#This Row],[Rank]]+Table710121314152[[#This Row],[Score]])>0,1,0)","v":0}]
[{"$f":"ScenicDesign!A140","v":"DD-902"},{"$f":"ScenicDesign!U140","v":0},{"$f":"ScenicDesign!S140","v":0},{"$f":"IF((Table710121314152[[#This Row],[Rank]]+Table710121314152[[#This Row],[Score]])>0,1,0)","v":0}]
[{"$f":"ScenicDesign!A141","v":"DD-903"},{"$f":"ScenicDesign!U141","v":0},{"$f":"ScenicDesign!S141","v":0},{"$f":"IF((Table710121314152[[#This Row],[Rank]]+Table710121314152[[#This Row],[Score]])>0,1,0)","v":0}]
[{"$f":"ScenicDesign!A142","v":"DD-904"},{"$f":"ScenicDesign!U142","v":0},{"$f":"ScenicDesign!S142","v":0},{"$f":"IF((Table710121314152[[#This Row],[Rank]]+Table710121314152[[#This Row],[Score]])>0,1,0)","v":0}]
[{"$f":"ScenicDesign!A144","v":"EE-901"},{"$f":"ScenicDesign!U144","v":0},{"$f":"ScenicDesign!S144","v":0},{"$f":"IF((Table710121314152[[#This Row],[Rank]]+Table710121314152[[#This Row],[Score]])>0,1,0)","v":0}]
[{"$f":"ScenicDesign!A145","v":"EE-902"},{"$f":"ScenicDesign!U145","v":0},{"$f":"ScenicDesign!S145","v":0},{"$f":"IF((Table710121314152[[#This Row],[Rank]]+Table710121314152[[#This Row],[Score]])>0,1,0)","v":0}]
[{"$f":"ScenicDesign!A146","v":"EE-903"},{"$f":"ScenicDesign!U146","v":0},{"$f":"ScenicDesign!S146","v":0},{"$f":"IF((Table710121314152[[#This Row],[Rank]]+Table710121314152[[#This Row],[Score]])>0,1,0)","v":0}]
[{"$f":"ScenicDesign!A147","v":"EE-904"},{"$f":"ScenicDesign!U147","v":0},{"$f":"ScenicDesign!S147","v":0},{"$f":"IF((Table710121314152[[#This Row],[Rank]]+Table710121314152[[#This Row],[Score]])>0,1,0)","v":0}]
[{"$f":"ScenicDesign!A149","v":"FF-901"},{"$f":"ScenicDesign!U149","v":0},{"$f":"ScenicDesign!S149","v":0},{"$f":"IF((Table710121314152[[#This Row],[Rank]]+Table710121314152[[#This Row],[Score]])>0,1,0)","v":0}]
[{"$f":"ScenicDesign!A150","v":"FF-902"},{"$f":"ScenicDesign!U150","v":0},{"$f":"ScenicDesign!S150","v":0},{"$f":"IF((Table710121314152[[#This Row],[Rank]]+Table710121314152[[#This Row],[Score]])>0,1,0)","v":0}]
[{"$f":"ScenicDesign!A151","v":"FF-903"},{"$f":"ScenicDesign!U151","v":0},{"$f":"ScenicDesign!S151","v":0},{"$f":"IF((Table710121314152[[#This Row],[Rank]]+Table710121314152[[#This Row],[Score]])>0,1,0)","v":0}]
[{"$f":"ScenicDesign!A152","v":"FF-904"},{"$f":"ScenicDesign!U152","v":0},{"$f":"ScenicDesign!S152","v":0},{"$f":"IF((Table710121314152[[#This Row],[Rank]]+Table710121314152[[#This Row],[Score]])>0,1,0)","v":0}]

{"sheet":"CostumeResults","index":18,"n_rows":122,"n_cols":4,"rows_kept":122,"cut":false,"hidden":false,"merged":[]}
["Costume Design"]
["ID","Rank","Score","LeaveBlank"]
[{"$f":"CostumeDesign!A5","v":"A-802"},{"$f":"CostumeDesign!U5","v":0},{"$f":"CostumeDesign!S5","v":0},{"$f":"IF((Table71012131415235[[#This Row],[Rank]]+Table71012131415235[[#This Row],[Score]])>0,1,0)","v":0}]
[{"$f":"CostumeDesign!A11","v":"B-803"},{"$f":"CostumeDesign!U11","v":0},{"$f":"CostumeDesign!S11","v":0},{"$f":"IF((Table71012131415235[[#This Row],[Rank]]+Table71012131415235[[#This Row],[Score]])>0,1,0)","v":0}]
[{"$f":"CostumeDesign!A4","v":"A-801"},{"$f":"CostumeDesign!U4","v":0},{"$f":"CostumeDesign!S4","v":0},{"$f":"IF((Table71012131415235[[#This Row],[Rank]]+Table71012131415235[[#This Row],[Score]])>0,1,0)","v":0}]
[{"$f":"CostumeDesign!A6","v":"A-803"},{"$f":"CostumeDesign!U6","v":0},{"$f":"CostumeDesign!S6","v":0},{"$f":"IF((Table71012131415235[[#This Row],[Rank]]+Table71012131415235[[#This Row],[Score]])>0,1,0)","v":0}]
[{"$f":"CostumeDesign!A7","v":"A-804"},{"$f":"CostumeDesign!U7","v":0},{"$f":"CostumeDesign!S7","v":0},{"$f":"IF((Table71012131415235[[#This Row],[Rank]]+Table71012131415235[[#This Row],[Score]])>0,1,0)","v":0}]
[{"$f":"CostumeDesign!A9","v":"B-801"},{"$f":"CostumeDesign!U9","v":0},{"$f":"CostumeDesign!S9","v":0},{"$f":"IF((Table71012131415235[[#This Row],[Rank]]+Table71012131415235[[#This Row],[Score]])>0,1,0)","v":0}]
[{"$f":"CostumeDesign!A10","v":"B-802"},{"$f":"CostumeDesign!U10","v":0},{"$f":"CostumeDesign!S10","v":0},{"$f":"IF((Table71012131415235[[#This Row],[Rank]]+Table71012131415235[[#This Row],[Score]])>0,1,0)","v":0}]
[{"$f":"CostumeDesign!A12","v":"B-804"},{"$f":"CostumeDesign!U12","v":0},{"$f":"CostumeDesign!S12","v":0},{"$f":"IF((Table71012131415235[[#This Row],[Rank]]+Table71012131415235[[#This Row],[Score]])>0,1,0)","v":0}]
[{"$f":"CostumeDesign!A14","v":"C-801"},{"$f":"CostumeDesign!U14","v":0},{"$f":"CostumeDesign!S14","v":0},{"$f":"IF((Table71012131415235[[#This Row],[Rank]]+Table71012131415235[[#This Row],[Score]])>0,1,0)","v":0}]
[{"$f":"CostumeDesign!A15","v":"C-802"},{"$f":"CostumeDesign!U15","v":0},{"$f":"CostumeDesign!S15","v":0},{"$f":"IF((Table71012131415235[[#This Row],[Rank]]+Table71012131415235[[#This Row],[Score]])>0,1,0)","v":0}]
[{"$f":"CostumeDesign!A16","v":"C-803"},{"$f":"CostumeDesign!U16","v":0},{"$f":"CostumeDesign!S16","v":0},{"$f":"IF((Table71012131415235[[#This Row],[Rank]]+Table71012131415235[[#This Row],[Score]])>0,1,0)","v":0}]
[{"$f":"CostumeDesign!A17","v":"C-804"},{"$f":"CostumeDesign!U17","v":0},{"$f":"CostumeDesign!S17","v":0},{"$f":"IF((Table71012131415235[[#This Row],[Rank]]+Table71012131415235[[#This Row],[Score]])>0,1,0)","v":0}]
[{"$f":"CostumeDesign!A19","v":"D-801"},{"$f":"CostumeDesign!U19","v":0},{"$f":"CostumeDesign!S19","v":0},{"$f":"IF((Table71012131415235[[#This Row],[Rank]]+Table71012131415235[[#This Row],[Score]])>0,1,0)","v":0}]
[{"$f":"CostumeDesign!A20","v":"D-802"},{"$f":"CostumeDesign!U20","v":0},{"$f":"CostumeDesign!S20","v":0},{"$f":"IF((Table71012131415235[[#This Row],[Rank]]+Table71012131415235[[#This Row],[Score]])>0,1,0)","v":0}]
[{"$f":"CostumeDesign!A21","v":"D-803"},{"$f":"CostumeDesign!U21","v":0},{"$f":"CostumeDesign!S21","v":0},{"$f":"IF((Table71012131415235[[#This Row],[Rank]]+Table71012131415235[[#This Row],[Score]])>0,1,0)","v":0}]
[{"$f":"CostumeDesign!A22","v":"D-804"},{"$f":"CostumeDesign!U22","v":0},{"$f":"CostumeDesign!S22","v":0},{"$f":"IF((Table71012131415235[[#This Row],[Rank]]+Table71012131415235[[#This Row],[Score]])>0,1,0)","v":0}]
[{"$f":"CostumeDesign!A24","v":"E-801"},{"$f":"CostumeDesign!U24","v":0},{"$f":"CostumeDesign!S24","v":0},{"$f":"IF((Table71012131415235[[#This Row],[Rank]]+Table71012131415235[[#This Row],[Score]])>0,1,0)","v":0}]
[{"$f":"CostumeDesign!A25","v":"E-802"},{"$f":"CostumeDesign!U25","v":0},{"$f":"CostumeDesign!S25","v":0},{"$f":"IF((Table71012131415235[[#This Row],[Rank]]+Table71012131415235[[#This Row],[Score]])>0,1,0)","v":0}]
[{"$f":"CostumeDesign!A26","v":"E-803"},{"$f":"CostumeDesign!U26","v":0},{"$f":"CostumeDesign!S26","v":0},{"$f":"IF((Table71012131415235[[#This Row],[Rank]]+Table71012131415235[[#This Row],[Score]])>0,1,0)","v":0}]
[{"$f":"CostumeDesign!A27","v":"E-804"},{"$f":"CostumeDesign!U27","v":0},{"$f":"CostumeDesign!S27","v":0},{"$f":"IF((Table71012131415235[[#This Row],[Rank]]+Table71012131415235[[#This Row],[Score]])>0,1,0)","v":0}]
[{"$f":"CostumeDesign!A29","v":"F-801"},{"$f":"CostumeDesign!U29","v":0},{"$f":"CostumeDesign!S29","v":0},{"$f":"IF((Table71012131415235[[#This Row],[Rank]]+Table71012131415235[[#This Row],[Score]])>0,1,0)","v":0}]
[{"$f":"CostumeDesign!A30","v":"F-802"},{"$f":"CostumeDesign!U30","v":0},{"$f":"CostumeDesign!S30","v":0},{"$f":"IF((Table71012131415235[[#This Row],[Rank]]+Table71012131415235[[#This Row],[Score]])>0,1,0)","v":0}]
[{"$f":"CostumeDesign!A31","v":"F-803"},{"$f":"CostumeDesign!U31","v":0},{"$f":"CostumeDesign!S31","v":0},{"$f":"IF((Table71012131415235[[#This Row],[Rank]]+Table71012131415235[[#This Row],[Score]])>0,1,0)","v":0}]
[{"$f":"CostumeDesign!A32","v":"F-804"},{"$f":"CostumeDesign!U32","v":0},{"$f":"CostumeDesign!S32","v":0},{"$f":"IF((Table71012131415235[[#This Row],[Rank]]+Table71012131415235[[#This Row],[Score]])>0,1,0)","v":0}]
[{"$f":"CostumeDesign!A34","v":"G-801"},{"$f":"CostumeDesign!U34","v":0},{"$f":"CostumeDesign!S34","v":0},{"$f":"IF((Table71012131415235[[#This Row],[Rank]]+Table71012131415235[[#This Row],[Score]])>0,1,0)","v":0}]
[{"$f":"CostumeDesign!A35","v":"G-802"},{"$f":"CostumeDesign!U35","v":0},{"$f":"CostumeDesign!S35","v":0},{"$f":"IF((Table71012131415235[[#This Row],[Rank]]+Table71012131415235[[#This Row],[Score]])>0,1,0)","v":0}]
[{"$f":"CostumeDesign!A36","v":"G-803"},{"$f":"CostumeDesign!U36","v":0},{"$f":"CostumeDesign!S36","v":0},{"$f":"IF((Table71012131415235[[#This Row],[Rank]]+Table71012131415235[[#This Row],[Score]])>0,1,0)","v":0}]
[{"$f":"CostumeDesign!A37","v":"G-804"},{"$f":"CostumeDesign!U37","v":0},{"$f":"CostumeDesign!S37","v":0},{"$f":"IF((Table71012131415235[[#This Row],[Rank]]+Table71012131415235[[#This Row],[Score]])>0,1,0)","v":0}]
[{"$f":"CostumeDesign!A39","v":"H-801"},{"$f":"CostumeDesign!U39","v":0},{"$f":"CostumeDesign!S39","v":0},{"$f":"IF((Table71012131415235[[#This Row],[Rank]]+Table71012131415235[[#This Row],[Score]])>0,1,0)","v":0}]
[{"$f":"CostumeDesign!A40","v":"H-802"},{"$f":"CostumeDesign!U40","v":0},{"$f":"CostumeDesign!S40","v":0},{"$f":"IF((Table71012131415235[[#This Row],[Rank]]+Table71012131415235[[#This Row],[Score]])>0,1,0)","v":0}]
[{"$f":"CostumeDesign!A41","v":"H-803"},{"$f":"CostumeDesign!U41","v":0},{"$f":"CostumeDesign!S41","v":0},{"$f":"IF((Table71012131415235[[#This Row],[Rank]]+Table71012131415235[[#This Row],[Score]])>0,1,0)","v":0}]
[{"$f":"CostumeDesign!A42","v":"H-804"},{"$f":"CostumeDesign!U42","v":0},{"$f":"CostumeDesign!S42","v":0},{"$f":"IF((Table71012131415235[[#This Row],[Rank]]+Table71012131415235[[#This Row],[Score]])>0,1,0)","v":0}]
[{"$f":"CostumeDesign!A44","v":"J-801"},{"$f":"CostumeDesign!U44","v":0},{"$f":"CostumeDesign!S44","v":0},{"$f":"IF((Table71012131415235[[#This Row],[Rank]]+Table71012131415235[[#This Row],[Score]])>0,1,0)","v":0}]
[{"$f":"CostumeDesign!A45","v":"J-802"},{"$f":"CostumeDesign!U45","v":0},{"$f":"CostumeDesign!S45","v":0},{"$f":"IF((Table71012131415235[[#This Row],[Rank]]+Table71012131415235[[#This Row],[Score]])>0,1,0)","v":0}]
[{"$f":"CostumeDesign!A46","v":"J-803"},{"$f":"CostumeDesign!U46","v":0},{"$f":"CostumeDesign!S46","v":0},{"$f":"IF((Table71012131415235[[#This Row],[Rank]]+Table71012131415235[[#This Row],[Score]])>0,1,0)","v":0}]
[{"$f":"CostumeDesign!A47","v":"J-804"},{"$f":"CostumeDesign!U47","v":0},{"$f":"CostumeDesign!S47","v":0},{"$f":"IF((Table71012131415235[[#This Row],[Rank]]+Table71012131415235[[#This Row],[Score]])>0,1,0)","v":0}]
[{"$f":"CostumeDesign!A49","v":"K-801"},{"$f":"CostumeDesign!U49","v":0},{"$f":"CostumeDesign!S49","v":0},{"$f":"IF((Table71012131415235[[#This Row],[Rank]]+Table71012131415235[[#This Row],[Score]])>0,1,0)","v":0}]
[{"$f":"CostumeDesign!A50","v":"K-802"},{"$f":"CostumeDesign!U50","v":0},{"$f":"CostumeDesign!S50","v":0},{"$f":"IF((Table71012131415235[[#This Row],[Rank]]+Table71012131415235[[#This Row],[Score]])>0,1,0)","v":0}]
[{"$f":"CostumeDesign!A51","v":"K-803"},{"$f":"CostumeDesign!U51","v":0},{"$f":"CostumeDesign!S51","v":0},{"$f":"IF((Table71012131415235[[#This Row],[Rank]]+Table71012131415235[[#This Row],[Score]])>0,1,0)","v":0}]
[{"$f":"CostumeDesign!A52","v":"K-804"},{"$f":"CostumeDesign!U52","v":0},{"$f":"CostumeDesign!S52","v":0},{"$f":"IF((Table71012131415235[[#This Row],[Rank]]+Table71012131415235[[#This Row],[Score]])>0,1,0)","v":0}]
[{"$f":"CostumeDesign!A54","v":"L-801"},{"$f":"CostumeDesign!U54","v":0},{"$f":"CostumeDesign!S54","v":0},{"$f":"IF((Table71012131415235[[#This Row],[Rank]]+Table71012131415235[[#This Row],[Score]])>0,1,0)","v":0}]
[{"$f":"CostumeDesign!A55","v":"L-802"},{"$f":"CostumeDesign!U55","v":0},{"$f":"CostumeDesign!S55","v":0},{"$f":"IF((Table71012131415235[[#This Row],[Rank]]+Table71012131415235[[#This Row],[Score]])>0,1,0)","v":0}]
[{"$f":"CostumeDesign!A56","v":"L-803"},{"$f":"CostumeDesign!U56","v":0},{"$f":"CostumeDesign!S56","v":0},{"$f":"IF((Table71012131415235[[#This Row],[Rank]]+Table71012131415235[[#This Row],[Score]])>0,1,0)","v":0}]
[{"$f":"CostumeDesign!A57","v":"L-804"},{"$f":"CostumeDesign!U57","v":0},{"$f":"CostumeDesign!S57","v":0},{"$f":"IF((Table71012131415235[[#This Row],[Rank]]+Table71012131415235[[#This Row],[Score]])>0,1,0)","v":0}]
[{"$f":"CostumeDesign!A59","v":"M-801"},{"$f":"CostumeDesign!U59","v":0},{"$f":"CostumeDesign!S59","v":0},{"$f":"IF((Table71012131415235[[#This Row],[Rank]]+Table71012131415235[[#This Row],[Score]])>0,1,0)","v":0}]
[{"$f":"CostumeDesign!A60","v":"M-802"},{"$f":"CostumeDesign!U60","v":0},{"$f":"CostumeDesign!S60","v":0},{"$f":"IF((Table71012131415235[[#This Row],[Rank]]+Table71012131415235[[#This Row],[Score]])>0,1,0)","v":0}]
[{"$f":"CostumeDesign!A61","v":"M-803"},{"$f":"CostumeDesign!U61","v":0},{"$f":"CostumeDesign!S61","v":0},{"$f":"IF((Table71012131415235[[#This Row],[Rank]]+Table71012131415235[[#This Row],[Score]])>0,1,0)","v":0}]
[{"$f":"CostumeDesign!A62","v":"M-804"},{"$f":"CostumeDesign!U62","v":0},{"$f":"CostumeDesign!S62","v":0},{"$f":"IF((Table71012131415235[[#This Row],[Rank]]+Table71012131415235[[#This Row],[Score]])>0,1,0)","v":0}]
[{"$f":"CostumeDesign!A64","v":"N-801"},{"$f":"CostumeDesign!U64","v":0},{"$f":"CostumeDesign!S64","v":0},{"$f":"IF((Table71012131415235[[#This Row],[Rank]]+Table71012131415235[[#This Row],[Score]])>0,1,0)","v":0}]
[{"$f":"CostumeDesign!A65","v":"N-802"},{"$f":"CostumeDesign!U65","v":0},{"$f":"CostumeDesign!S65","v":0},{"$f":"IF((Table71012131415235[[#This Row],[Rank]]+Table71012131415235[[#This Row],[Score]])>0,1,0)","v":0}]
[{"$f":"CostumeDesign!A66","v":"N-803"},{"$f":"CostumeDesign!U66","v":0},{"$f":"CostumeDesign!S66","v":0},{"$f":"IF((Table71012131415235[[#This Row],[Rank]]+Table71012131415235[[#This Row],[Score]])>0,1,0)","v":0}]
[{"$f":"CostumeDesign!A67","v":"N-804"},{"$f":"CostumeDesign!U67","v":0},{"$f":"CostumeDesign!S67","v":0},{"$f":"IF((Table71012131415235[[#This Row],[Rank]]+Table71012131415235[[#This Row],[Score]])>0,1,0)","v":0}]
[{"$f":"CostumeDesign!A69","v":"P-801"},{"$f":"CostumeDesign!U69","v":0},{"$f":"CostumeDesign!S69","v":0},{"$f":"IF((Table71012131415235[[#This Row],[Rank]]+Table71012131415235[[#This Row],[Score]])>0,1,0)","v":0}]
[{"$f":"CostumeDesign!A70","v":"P-802"},{"$f":"CostumeDesign!U70","v":0},{"$f":"CostumeDesign!S70","v":0},{"$f":"IF((Table71012131415235[[#This Row],[Rank]]+Table71012131415235[[#This Row],[Score]])>0,1,0)","v":0}]
[{"$f":"CostumeDesign!A71","v":"P-803"},{"$f":"CostumeDesign!U71","v":0},{"$f":"CostumeDesign!S71","v":0},{"$f":"IF((Table71012131415235[[#This Row],[Rank]]+Table71012131415235[[#This Row],[Score]])>0,1,0)","v":0}]
[{"$f":"CostumeDesign!A72","v":"P-804"},{"$f":"CostumeDesign!U72","v":0},{"$f":"CostumeDesign!S72","v":0},{"$f":"IF((Table71012131415235[[#This Row],[Rank]]+Table71012131415235[[#This Row],[Score]])>0,1,0)","v":0}]
[{"$f":"CostumeDesign!A74","v":"Q-801"},{"$f":"CostumeDesign!U74","v":0},{"$f":"CostumeDesign!S74","v":0},{"$f":"IF((Table71012131415235[[#This Row],[Rank]]+Table71012131415235[[#This Row],[Score]])>0,1,0)","v":0}]
[{"$f":"CostumeDesign!A75","v":"Q-802"},{"$f":"CostumeDesign!U75","v":0},{"$f":"CostumeDesign!S75","v":0},{"$f":"IF((Table71012131415235[[#This Row],[Rank]]+Table71012131415235[[#This Row],[Score]])>0,1,0)","v":0}]
[{"$f":"CostumeDesign!A76","v":"Q-803"},{"$f":"CostumeDesign!U76","v":0},{"$f":"CostumeDesign!S76","v":0},{"$f":"IF((Table71012131415235[[#This Row],[Rank]]+Table71012131415235[[#This Row],[Score]])>0,1,0)","v":0}]
[{"$f":"CostumeDesign!A77","v":"Q-804"},{"$f":"CostumeDesign!U77","v":0},{"$f":"CostumeDesign!S77","v":0},{"$f":"IF((Table71012131415235[[#This Row],[Rank]]+Table71012131415235[[#This Row],[Score]])>0,1,0)","v":0}]
[{"$f":"CostumeDesign!A79","v":"R-801"},{"$f":"CostumeDesign!U79","v":0},{"$f":"CostumeDesign!S79","v":0},{"$f":"IF((Table71012131415235[[#This Row],[Rank]]+Table71012131415235[[#This Row],[Score]])>0,1,0)","v":0}]
[{"$f":"CostumeDesign!A80","v":"R-802"},{"$f":"CostumeDesign!U80","v":0},{"$f":"CostumeDesign!S80","v":0},{"$f":"IF((Table71012131415235[[#This Row],[Rank]]+Table71012131415235[[#This Row],[Score]])>0,1,0)","v":0}]
[{"$f":"CostumeDesign!A81","v":"R-803"},{"$f":"CostumeDesign!U81","v":0},{"$f":"CostumeDesign!S81","v":0},{"$f":"IF((Table71012131415235[[#This Row],[Rank]]+Table71012131415235[[#This Row],[Score]])>0,1,0)","v":0}]
[{"$f":"CostumeDesign!A82","v":"R-804"},{"$f":"CostumeDesign!U82","v":0},{"$f":"CostumeDesign!S82","v":0},{"$f":"IF((Table71012131415235[[#This Row],[Rank]]+Table71012131415235[[#This Row],[Score]])>0,1,0)","v":0}]
[{"$f":"CostumeDesign!A84","v":"S-801"},{"$f":"CostumeDesign!U84","v":0},{"$f":"CostumeDesign!S84","v":0},{"$f":"IF((Table71012131415235[[#This Row],[Rank]]+Table71012131415235[[#This Row],[Score]])>0,1,0)","v":0}]
[{"$f":"CostumeDesign!A85","v":"S-802"},{"$f":"CostumeDesign!U85","v":0},{"$f":"CostumeDesign!S85","v":0},{"$f":"IF((Table71012131415235[[#This Row],[Rank]]+Table71012131415235[[#This Row],[Score]])>0,1,0)","v":0}]
[{"$f":"CostumeDesign!A86","v":"S-803"},{"$f":"CostumeDesign!U86","v":0},{"$f":"CostumeDesign!S86","v":0},{"$f":"IF((Table71012131415235[[#This Row],[Rank]]+Table71012131415235[[#This Row],[Score]])>0,1,0)","v":0}]
[{"$f":"CostumeDesign!A87","v":"S-804"},{"$f":"CostumeDesign!U87","v":0},{"$f":"CostumeDesign!S87","v":0},{"$f":"IF((Table71012131415235[[#This Row],[Rank]]+Table71012131415235[[#This Row],[Score]])>0,1,0)","v":0}]
[{"$f":"CostumeDesign!A89","v":"T-801"},{"$f":"CostumeDesign!U89","v":0},{"$f":"CostumeDesign!S89","v":0},{"$f":"IF((Table71012131415235[[#This Row],[Rank]]+Table71012131415235[[#This Row],[Score]])>0,1,0)","v":0}]
[{"$f":"CostumeDesign!A90","v":"T-802"},{"$f":"CostumeDesign!U90","v":0},{"$f":"CostumeDesign!S90","v":0},{"$f":"IF((Table71012131415235[[#This Row],[Rank]]+Table71012131415235[[#This Row],[Score]])>0,1,0)","v":0}]
[{"$f":"CostumeDesign!A91","v":"T-803"},{"$f":"CostumeDesign!U91","v":0},{"$f":"CostumeDesign!S91","v":0},{"$f":"IF((Table71012131415235[[#This Row],[Rank]]+Table71012131415235[[#This Row],[Score]])>0,1,0)","v":0}]
[{"$f":"CostumeDesign!A92","v":"T-804"},{"$f":"CostumeDesign!U92","v":0},{"$f":"CostumeDesign!S92","v":0},{"$f":"IF((Table71012131415235[[#This Row],[Rank]]+Table71012131415235[[#This Row],[Score]])>0,1,0)","v":0}]
[{"$f":"CostumeDesign!A94","v":"U-801"},{"$f":"CostumeDesign!U94","v":0},{"$f":"CostumeDesign!S94","v":0},{"$f":"IF((Table71012131415235[[#This Row],[Rank]]+Table71012131415235[[#This Row],[Score]])>0,1,0)","v":0}]
[{"$f":"CostumeDesign!A95","v":"U-802"},{"$f":"CostumeDesign!U95","v":0},{"$f":"CostumeDesign!S95","v":0},{"$f":"IF((Table71012131415235[[#This Row],[Rank]]+Table71012131415235[[#This Row],[Score]])>0,1,0)","v":0}]
[{"$f":"CostumeDesign!A96","v":"U-803"},{"$f":"CostumeDesign!U96","v":0},{"$f":"CostumeDesign!S96","v":0},{"$f":"IF((Table71012131415235[[#This Row],[Rank]]+Table71012131415235[[#This Row],[Score]])>0,1,0)","v":0}]
[{"$f":"CostumeDesign!A97","v":"U-804"},{"$f":"CostumeDesign!U97","v":0},{"$f":"CostumeDesign!S97","v":0},{"$f":"IF((Table71012131415235[[#This Row],[Rank]]+Table71012131415235[[#This Row],[Score]])>0,1,0)","v":0}]
[{"$f":"CostumeDesign!A99","v":"V-801"},{"$f":"CostumeDesign!U99","v":0},{"$f":"CostumeDesign!S99","v":0},{"$f":"IF((Table71012131415235[[#This Row],[Rank]]+Table71012131415235[[#This Row],[Score]])>0,1,0)","v":0}]
[{"$f":"CostumeDesign!A100","v":"V-802"},{"$f":"CostumeDesign!U100","v":0},{"$f":"CostumeDesign!S100","v":0},{"$f":"IF((Table71012131415235[[#This Row],[Rank]]+Table71012131415235[[#This Row],[Score]])>0,1,0)","v":0}]
[{"$f":"CostumeDesign!A101","v":"V-803"},{"$f":"CostumeDesign!U101","v":0},{"$f":"CostumeDesign!S101","v":0},{"$f":"IF((Table71012131415235[[#This Row],[Rank]]+Table71012131415235[[#This Row],[Score]])>0,1,0)","v":0}]
[{"$f":"CostumeDesign!A102","v":"V-804"},{"$f":"CostumeDesign!U102","v":0},{"$f":"CostumeDesign!S102","v":0},{"$f":"IF((Table71012131415235[[#This Row],[Rank]]+Table71012131415235[[#This Row],[Score]])>0,1,0)","v":0}]
[{"$f":"CostumeDesign!A104","v":"W-801"},{"$f":"CostumeDesign!U104","v":0},{"$f":"CostumeDesign!S104","v":0},{"$f":"IF((Table71012131415235[[#This Row],[Rank]]+Table71012131415235[[#This Row],[Score]])>0,1,0)","v":0}]
[{"$f":"CostumeDesign!A105","v":"W-802"},{"$f":"CostumeDesign!U105","v":0},{"$f":"CostumeDesign!S105","v":0},{"$f":"IF((Table71012131415235[[#This Row],[Rank]]+Table71012131415235[[#This Row],[Score]])>0,1,0)","v":0}]
[{"$f":"CostumeDesign!A106","v":"W-803"},{"$f":"CostumeDesign!U106","v":0},{"$f":"CostumeDesign!S106","v":0},{"$f":"IF((Table71012131415235[[#This Row],[Rank]]+Table71012131415235[[#This Row],[Score]])>0,1,0)","v":0}]
[{"$f":"CostumeDesign!A107","v":"W-804"},{"$f":"CostumeDesign!U107","v":0},{"$f":"CostumeDesign!S107","v":0},{"$f":"IF((Table71012131415235[[#This Row],[Rank]]+Table71012131415235[[#This Row],[Score]])>0,1,0)","v":0}]
[{"$f":"CostumeDesign!A109","v":"X-801"},{"$f":"CostumeDesign!U109","v":0},{"$f":"CostumeDesign!S109","v":0},{"$f":"IF((Table71012131415235[[#This Row],[Rank]]+Table71012131415235[[#This Row],[Score]])>0,1,0)","v":0}]
[{"$f":"CostumeDesign!A110","v":"X-802"},{"$f":"CostumeDesign!U110","v":0},{"$f":"CostumeDesign!S110","v":0},{"$f":"IF((Table71012131415235[[#This Row],[Rank]]+Table71012131415235[[#This Row],[Score]])>0,1,0)","v":0}]
[{"$f":"CostumeDesign!A111","v":"X-803"},{"$f":"CostumeDesign!U111","v":0},{"$f":"CostumeDesign!S111","v":0},{"$f":"IF((Table71012131415235[[#This Row],[Rank]]+Table71012131415235[[#This Row],[Score]])>0,1,0)","v":0}]
[{"$f":"CostumeDesign!A112","v":"X-804"},{"$f":"CostumeDesign!U112","v":0},{"$f":"CostumeDesign!S112","v":0},{"$f":"IF((Table71012131415235[[#This Row],[Rank]]+Table71012131415235[[#This Row],[Score]])>0,1,0)","v":0}]
[{"$f":"CostumeDesign!A114","v":"Y-801"},{"$f":"CostumeDesign!U114","v":0},{"$f":"CostumeDesign!S114","v":0},{"$f":"IF((Table71012131415235[[#This Row],[Rank]]+Table71012131415235[[#This Row],[Score]])>0,1,0)","v":0}]
[{"$f":"CostumeDesign!A115","v":"Y-802"},{"$f":"CostumeDesign!U115","v":0},{"$f":"CostumeDesign!S115","v":0},{"$f":"IF((Table71012131415235[[#This Row],[Rank]]+Table71012131415235[[#This Row],[Score]])>0,1,0)","v":0}]
[{"$f":"CostumeDesign!A116","v":"Y-803"},{"$f":"CostumeDesign!U116","v":0},{"$f":"CostumeDesign!S116","v":0},{"$f":"IF((Table71012131415235[[#This Row],[Rank]]+Table71012131415235[[#This Row],[Score]])>0,1,0)","v":0}]
[{"$f":"CostumeDesign!A117","v":"Y-804"},{"$f":"CostumeDesign!U117","v":0},{"$f":"CostumeDesign!S117","v":0},{"$f":"IF((Table71012131415235[[#This Row],[Rank]]+Table71012131415235[[#This Row],[Score]])>0,1,0)","v":0}]
[{"$f":"CostumeDesign!A119","v":"Z-801"},{"$f":"CostumeDesign!U119","v":0},{"$f":"CostumeDesign!S119","v":0},{"$f":"IF((Table71012131415235[[#This Row],[Rank]]+Table71012131415235[[#This Row],[Score]])>0,1,0)","v":0}]
[{"$f":"CostumeDesign!A120","v":"Z-802"},{"$f":"CostumeDesign!U120","v":0},{"$f":"CostumeDesign!S120","v":0},{"$f":"IF((Table71012131415235[[#This Row],[Rank]]+Table71012131415235[[#This Row],[Score]])>0,1,0)","v":0}]
[{"$f":"CostumeDesign!A121","v":"Z-803"},{"$f":"CostumeDesign!U121","v":0},{"$f":"CostumeDesign!S121","v":0},{"$f":"IF((Table71012131415235[[#This Row],[Rank]]+Table71012131415235[[#This Row],[Score]])>0,1,0)","v":0}]
[{"$f":"CostumeDesign!A122","v":"Z-804"},{"$f":"CostumeDesign!U122","v":0},{"$f":"CostumeDesign!S122","v":0},{"$f":"IF((Table71012131415235[[#This Row],[Rank]]+Table71012131415235[[#This Row],[Score]])>0,1,0)","v":0}]
[{"$f":"CostumeDesign!A124","v":"AA-801"},{"$f":"CostumeDesign!U124","v":0},{"$f":"CostumeDesign!S124","v":0},{"$f":"IF((Table71012131415235[[#This Row],[Rank]]+Table71012131415235[[#This Row],[Score]])>0,1,0)","v":0}]
[{"$f":"CostumeDesign!A125","v":"AA-802"},{"$f":"CostumeDesign!U125","v":0},{"$f":"CostumeDesign!S125","v":0},{"$f":"IF((Table71012131415235[[#This Row],[Rank]]+Table71012131415235[[#This Row],[Score]])>0,1,0)","v":0}]
[{"$f":"CostumeDesign!A126","v":"AA-803"},{"$f":"CostumeDesign!U126","v":0},{"$f":"CostumeDesign!S126","v":0},{"$f":"IF((Table71012131415235[[#This Row],[Rank]]+Table71012131415235[[#This Row],[Score]])>0,1,0)","v":0}]
[{"$f":"CostumeDesign!A127","v":"AA-804"},{"$f":"CostumeDesign!U127","v":0},{"$f":"CostumeDesign!S127","v":0},{"$f":"IF((Table71012131415235[[#This Row],[Rank]]+Table71012131415235[[#This Row],[Score]])>0,1,0)","v":0}]
[{"$f":"CostumeDesign!A129","v":"BB-801"},{"$f":"CostumeDesign!U129","v":0},{"$f":"CostumeDesign!S129","v":0},{"$f":"IF((Table71012131415235[[#This Row],[Rank]]+Table71012131415235[[#This Row],[Score]])>0,1,0)","v":0}]
[{"$f":"CostumeDesign!A130","v":"BB-802"},{"$f":"CostumeDesign!U130","v":0},{"$f":"CostumeDesign!S130","v":0},{"$f":"IF((Table71012131415235[[#This Row],[Rank]]+Table71012131415235[[#This Row],[Score]])>0,1,0)","v":0}]
[{"$f":"CostumeDesign!A131","v":"BB-803"},{"$f":"CostumeDesign!U131","v":0},{"$f":"CostumeDesign!S131","v":0},{"$f":"IF((Table71012131415235[[#This Row],[Rank]]+Table71012131415235[[#This Row],[Score]])>0,1,0)","v":0}]
[{"$f":"CostumeDesign!A132","v":"BB-804"},{"$f":"CostumeDesign!U132","v":0},{"$f":"CostumeDesign!S132","v":0},{"$f":"IF((Table71012131415235[[#This Row],[Rank]]+Table71012131415235[[#This Row],[Score]])>0,1,0)","v":0}]
[{"$f":"CostumeDesign!A134","v":"CC-801"},{"$f":"CostumeDesign!U134","v":0},{"$f":"CostumeDesign!S134","v":0},{"$f":"IF((Table71012131415235[[#This Row],[Rank]]+Table71012131415235[[#This Row],[Score]])>0,1,0)","v":0}]
[{"$f":"CostumeDesign!A135","v":"CC-802"},{"$f":"CostumeDesign!U135","v":0},{"$f":"CostumeDesign!S135","v":0},{"$f":"IF((Table71012131415235[[#This Row],[Rank]]+Table71012131415235[[#This Row],[Score]])>0,1,0)","v":0}]
[{"$f":"CostumeDesign!A136","v":"CC-803"},{"$f":"CostumeDesign!U136","v":0},{"$f":"CostumeDesign!S136","v":0},{"$f":"IF((Table71012131415235[[#This Row],[Rank]]+Table71012131415235[[#This Row],[Score]])>0,1,0)","v":0}]
[{"$f":"CostumeDesign!A137","v":"CC-804"},{"$f":"CostumeDesign!U137","v":0},{"$f":"CostumeDesign!S137","v":0},{"$f":"IF((Table71012131415235[[#This Row],[Rank]]+Table71012131415235[[#This Row],[Score]])>0,1,0)","v":0}]
[{"$f":"CostumeDesign!A139","v":"DD-801"},{"$f":"CostumeDesign!U139","v":0},{"$f":"CostumeDesign!S139","v":0},{"$f":"IF((Table71012131415235[[#This Row],[Rank]]+Table71012131415235[[#This Row],[Score]])>0,1,0)","v":0}]
[{"$f":"CostumeDesign!A140","v":"DD-802"},{"$f":"CostumeDesign!U140","v":0},{"$f":"CostumeDesign!S140","v":0},{"$f":"IF((Table71012131415235[[#This Row],[Rank]]+Table71012131415235[[#This Row],[Score]])>0,1,0)","v":0}]
[{"$f":"CostumeDesign!A141","v":"DD-803"},{"$f":"CostumeDesign!U141","v":0},{"$f":"CostumeDesign!S141","v":0},{"$f":"IF((Table71012131415235[[#This Row],[Rank]]+Table71012131415235[[#This Row],[Score]])>0,1,0)","v":0}]
[{"$f":"CostumeDesign!A142","v":"DD-804"},{"$f":"CostumeDesign!U142","v":0},{"$f":"CostumeDesign!S142","v":0},{"$f":"IF((Table71012131415235[[#This Row],[Rank]]+Table71012131415235[[#This Row],[Score]])>0,1,0)","v":0}]
[{"$f":"CostumeDesign!A144","v":"EE-801"},{"$f":"CostumeDesign!U144","v":0},{"$f":"CostumeDesign!S144","v":0},{"$f":"IF((Table71012131415235[[#This Row],[Rank]]+Table71012131415235[[#This Row],[Score]])>0,1,0)","v":0}]
[{"$f":"CostumeDesign!A145","v":"EE-802"},{"$f":"CostumeDesign!U145","v":0},{"$f":"CostumeDesign!S145","v":0},{"$f":"IF((Table71012131415235[[#This Row],[Rank]]+Table71012131415235[[#This Row],[Score]])>0,1,0)","v":0}]
[{"$f":"CostumeDesign!A146","v":"EE-803"},{"$f":"CostumeDesign!U146","v":0},{"$f":"CostumeDesign!S146","v":0},{"$f":"IF((Table71012131415235[[#This Row],[Rank]]+Table71012131415235[[#This Row],[Score]])>0,1,0)","v":0}]
[{"$f":"CostumeDesign!A147","v":"EE-804"},{"$f":"CostumeDesign!U147","v":0},{"$f":"CostumeDesign!S147","v":0},{"$f":"IF((Table71012131415235[[#This Row],[Rank]]+Table71012131415235[[#This Row],[Score]])>0,1,0)","v":0}]
[{"$f":"CostumeDesign!A149","v":"FF-801"},{"$f":"CostumeDesign!U149","v":0},{"$f":"CostumeDesign!S149","v":0},{"$f":"IF((Table71012131415235[[#This Row],[Rank]]+Table71012131415235[[#This Row],[Score]])>0,1,0)","v":0}]
[{"$f":"CostumeDesign!A150","v":"FF-802"},{"$f":"CostumeDesign!U150","v":0},{"$f":"CostumeDesign!S150","v":0},{"$f":"IF((Table71012131415235[[#This Row],[Rank]]+Table71012131415235[[#This Row],[Score]])>0,1,0)","v":0}]
[{"$f":"CostumeDesign!A151","v":"FF-803"},{"$f":"CostumeDesign!U151","v":0},{"$f":"CostumeDesign!S151","v":0},{"$f":"IF((Table71012131415235[[#This Row],[Rank]]+Table71012131415235[[#This Row],[Score]])>0,1,0)","v":0}]
[{"$f":"CostumeDesign!A152","v":"FF-804"},{"$f":"CostumeDesign!U152","v":0},{"$f":"CostumeDesign!S152","v":0},{"$f":"IF((Table71012131415235[[#This Row],[Rank]]+Table71012131415235[[#This Row],[Score]])>0,1,0)","v":0}]